{"text_format":"1","workbook":"xlsx","n_sheets":22,"sheets":["VARIABLES_DATOS","VARIABLES_INVENTARIOS","VARIABLES_AUTOS_NUEVOS","VARIABLES_SERVICIO_MONTOS","VARIABLES_SERVICIO_MONTOS_HYP","VARIABLES_SERVICIO_ESTADIST_HYP","VARIABLES_SERVICIO_ESTADISTICAS","VARIABLES_BALANCE","VARIABLES_ESTADO_DE_RESULTADOS","DATOS_DEALER","INSTRUCCIONES","DATOS1","AUTOS NUEVOS1","SERVICIO1","ESTADO DE RESULTADOS1","BALANCE","REPORTE","HYP","POLÍTICAS FINANCIERAS","DIRECTORIO","ESTADO DE RESULTADOS IMPRIMIR","POSICION FINANCIERA IMPRIMIR"],"not_rendered":{"charts":0,"images":8,"macros":1,"external_links":3,"defined_names":32,"comments":1,"pivot_tables":0},"unopened":[],"bounds":{"document_bytes":16777216,"sheet_cells":100000,"rows_first":2000,"rows_last":500,"rows_between":2000,"halvings":0,"cell_chars":16384,"cell_head_chars":4096},"cells_cut":0,"cells_raw":0,"read":"whole","date_system":"1900"}

{"sheet":"VARIABLES_DATOS","index":0,"n_rows":277,"n_cols":16,"rows_kept":277,"cut":false,"hidden":true,"merged":[]}
["ID_DEALER_CODE","ID_ACCOUNT","YEAR","MONTH","ID_STATISTIC","STATISTIC_AMOUNT","INTERNAL","PAYROLL"]
[57040,{"$f":"P2","v":"RHV01"},2015,1,"PER",1,null,1,null,null,null,null,null,null,null,"RHV01"]
[57040,{"$f":"P3","v":"RHV02"},2015,1,"PER",3,null,3,null,null,null,null,null,null,null,"RHV02"]
[57040,"RHV03",2015,1,"PER",15,null,15,null,null,null,null,null,null,null,"RHV03"]
[57040,"RHV04",2015,1,"PER",1,null,1,null,null,null,null,null,null,null,"RHV04"]
[57040,"RHA01",2015,1,"PER",1,null,1,null,null,null,null,null,null,null,"RHA01"]
[57040,"RHA02",2015,1,"PER",1,null,1,null,null,null,null,null,null,null,"RHA02"]
[57040,"RHA03",2015,1,"PER",1,null,1,null,null,null,null,null,null,null,"RHA03"]
[57040,"RHA04",2015,1,"PER",1,null,1,null,null,null,null,null,null,null,"RHA04"]
[57040,"RHC01",2015,1,"PER",1,null,1,null,null,null,null,null,null,null,"RHC01"]
[57040,"RHC02",2015,1,"PER",2,null,2,null,null,null,null,null,null,null,"RHC02"]
[57040,"RHC03",2015,1,"PER",0,null,0,null,null,null,null,null,null,null,"RHC03"]
[57040,"RHP01",2015,1,"PER",1,null,1,null,null,null,null,null,null,null,"RHP01"]
[57040,"RHP02",2015,1,"PER",1,null,1,null,null,null,null,null,null,null,"RHP02"]
[57040,"RHP03",2015,1,"PER",1,null,1,null,null,null,null,null,null,null,"RHP03"]
[57040,"RHP04",2015,1,"PER",1,null,1,null,null,null,null,null,null,null,"RHP04"]
[57040,"RHP05",2015,1,"PER",0,null,0,null,null,null,null,null,null,null,"RHP05"]
[57040,"RHP06",2015,1,"PER",2,null,2,null,null,null,null,null,null,null,"RHP06"]
[57040,"RHP07",2015,1,"PER",5,null,5,null,null,null,null,null,null,null,"RHP07"]
[57040,"RHP08",2015,1,"PER",0,null,0,null,null,null,null,null,null,null,"RHP08"]
[57040,"RHP09",2015,1,"PER",2,null,2,null,null,null,null,null,null,null,"RHP09"]
[57040,"RHP10",2015,1,"PER",2,null,2,null,null,null,null,null,null,null,"RHP10"]
[57040,"RHP11",2015,1,"PER",3,null,3,null,null,null,null,null,null,null,"RHP11"]
[57040,"RHP12",2015,1,"PER",2,null,2,null,null,null,null,null,null,null,"RHP12"]
[" ","RHV01"," "," "," "," "," "," ",null,null,null,null,null,null,null,"RHV01"]
[" ","RHV02"," "," "," "," "," "," ",null,null,null,null,null,null,null,"RHV02"]
[" ","RHV03"," "," "," "," "," "," ",null,null,null,null,null,null,null,"RHV03"]
[" ","RHV04"," "," "," "," "," "," ",null,null,null,null,null,null,null,"RHV04"]
[" ","RHA01"," "," "," "," "," "," ",null,null,null,null,null,null,null,"RHA01"]
[" ","RHA02"," "," "," "," "," "," ",null,null,null,null,null,null,null,"RHA02"]
[" ","RHA03"," "," "," "," "," "," ",null,null,null,null,null,null,null,"RHA03"]
[" ","RHA04"," "," "," "," "," "," ",null,null,null,null,null,null,null,"RHA04"]
[" ","RHC01"," "," "," "," "," "," ",null,null,null,null,null,null,null,"RHC01"]
[" ","RHC02"," "," "," "," "," "," ",null,null,null,null,null,null,null,"RHC02"]
[" ","RHC03"," "," "," "," "," "," ",null,null,null,null,null,null,null,"RHC03"]
[" ","RHP01"," "," "," "," "," "," ",null,null,null,null,null,null,null,"RHP01"]
[" ","RHP02"," "," "," "," "," "," ",null,null,null,null,null,null,null,"RHP02"]
[" ","RHP03"," "," "," "," "," "," ",null,null,null,null,null,null,null,"RHP03"]
[" ","RHP04"," "," "," "," "," "," ",null,null,null,null,null,null,null,"RHP04"]
[" ","RHP05"," "," "," "," "," "," ",null,null,null,null,null,null,null,"RHP05"]
[" ","RHP06"," "," "," "," "," "," ",null,null,null,null,null,null,null,"RHP06"]
[" ","RHP07"," "," "," "," "," "," ",null,null,null,null,null,null,null,"RHP07"]
[" ","RHP08"," "," "," "," "," "," ",null,null,null,null,null,null,null,"RHP08"]
[" ","RHP09"," "," "," "," "," "," ",null,null,null,null,null,null,null,"RHP09"]
[" ","RHP10"," "," "," "," "," "," ",null,null,null,null,null,null,null,"RHP10"]
[" ","RHP11"," "," "," "," "," "," ",null,null,null,null,null,null,null,"RHP11"]
[" ","RHP12"," "," "," "," "," "," ",null,null,null,null,null,null,null,"RHP12"]
[" ","RHV01"," "," "," "," "," "," ",null,null,null,null,null,null,null,"RHV01"]
[" ","RHV02"," "," "," "," "," "," ",null,null,null,null,null,null,null,"RHV02"]
[" ","RHV03"," "," "," "," "," "," ",null,null,null,null,null,null,null,"RHV03"]
[" ","RHV04"," "," "," "," "," "," ",null,null,null,null,null,null,null,"RHV04"]
[" ","RHA01"," "," "," "," "," "," ",null,null,null,null,null,null,null,"RHA01"]
[" ","RHA02"," "," "," "," "," "," ",null,null,null,null,null,null,null,"RHA02"]
[" ","RHA03"," "," "," "," "," "," ",null,null,null,null,null,null,null,"RHA03"]
[" ","RHA04"," "," "," "," "," "," ",null,null,null,null,null,null,null,"RHA04"]
[" ","RHC01"," "," "," "," "," "," ",null,null,null,null,null,null,null,"RHC01"]
[" ","RHC02"," "," "," "," "," "," ",null,null,null,null,null,null,null,"RHC02"]
[" ","RHC03"," "," "," "," "," "," ",null,null,null,null,null,null,null,"RHC03"]
[" ","RHP01"," "," "," "," "," "," ",null,null,null,null,null,null,null,"RHP01"]
[" ","RHP02"," "," "," "," "," "," ",null,null,null,null,null,null,null,"RHP02"]
[" ","RHP03"," "," "," "," "," "," ",null,null,null,null,null,null,null,"RHP03"]
[" ","RHP04"," "," "," "," "," "," ",null,null,null,null,null,null,null,"RHP04"]
[" ","RHP05"," "," "," "," "," "," ",null,null,null,null,null,null,null,"RHP05"]
[" ","RHP06"," "," "," "," "," "," ",null,null,null,null,null,null,null,"RHP06"]
[" ","RHP07"," "," "," "," "," "," ",null,null,null,null,null,null,null,"RHP07"]
[" ","RHP08"," "," "," "," "," "," ",null,null,null,null,null,null,null,"RHP08"]
[" ",{"$f":"P67","v":"RHP09"}," "," "," "," "," "," ",null,null,null,null,null,null,null,"RHP09"]
[" ","RHP10"," "," "," "," "," "," ",null,null,null,null,null,null,null,"RHP10"]
[" ","RHP11"," "," "," "," "," "," ",null,null,null,null,null,null,null,"RHP11"]
[" ","RHP12"," "," "," "," "," "," ",null,null,null,null,null,null,null,"RHP12"]
[" ","RHV01"," "," "," "," "," "," ",null,null,null,null,null,null,null,"RHV01"]
[" ","RHV02"," "," "," "," "," "," ",null,null,null,null,null,null,null,"RHV02"]
[" ","RHV03"," "," "," "," "," "," ",null,null,null,null,null,null,null,"RHV03"]
[" ","RHV04"," "," "," "," "," "," ",null,null,null,null,null,null,null,"RHV04"]
[" ","RHA01"," "," "," "," "," "," ",null,null,null,null,null,null,null,"RHA01"]
[" ","RHA02"," "," "," "," "," "," ",null,null,null,null,null,null,null,"RHA02"]
[" ","RHA03"," "," "," "," "," "," ",null,null,null,null,null,null,null,"RHA03"]
[" ","RHA04"," "," "," "," "," "," ",null,null,null,null,null,null,null,"RHA04"]
[" ","RHC01"," "," "," "," "," "," ",null,null,null,null,null,null,null,"RHC01"]
[" ","RHC02"," "," "," "," "," "," ",null,null,null,null,null,null,null,"RHC02"]
[" ","RHC03"," "," "," "," "," "," ",null,null,null,null,null,null,null,"RHC03"]
[" ","RHP01"," "," "," "," "," "," ",null,null,null,null,null,null,null,"RHP01"]
[" ","RHP02"," "," "," "," "," "," ",null,null,null,null,null,null,null,"RHP02"]
[" ","RHP03"," "," "," "," "," "," ",null,null,null,null,null,null,null,"RHP03"]
[" ","RHP04"," "," "," "," "," "," ",null,null,null,null,null,null,null,"RHP04"]
[" ","RHP05"," "," "," "," "," "," ",null,null,null,null,null,null,null,"RHP05"]
[" ","RHP06"," "," "," "," "," "," ",null,null,null,null,null,null,null,"RHP06"]
[" ","RHP07"," "," "," "," "," "," ",null,null,null,null,null,null,null,"RHP07"]
[" ","RHP08"," "," "," "," "," "," ",null,null,null,null,null,null,null,"RHP08"]
[" ","RHP09"," "," "," "," "," "," ",null,null,null,null,null,null,null,"RHP09"]
[" ","RHP10"," "," "," "," "," "," ",null,null,null,null,null,null,null,"RHP10"]
[" ","RHP11"," "," "," "," "," "," ",null,null,null,null,null,null,null,"RHP11"]
[" ","RHP12"," "," "," "," "," "," ",null,null,null,null,null,null,null,"RHP12"]
[" ","RHV01"," "," "," "," "," "," ",null,null,null,null,null,null,null,"RHV01"]
[" ","RHV02"," "," "," "," "," "," ",null,null,null,null,null,null,null,"RHV02"]
[" ","RHV03"," "," "," "," "," "," ",null,null,null,null,null,null,null,"RHV03"]
[" ","RHV04"," "," "," "," "," "," ",null,null,null,null,null,null,null,"RHV04"]
[" ","RHA01"," "," "," "," "," "," ",null,null,null,null,null,null,null,"RHA01"]
[" ","RHA02"," "," "," "," "," "," ",null,null,null,null,null,null,null,"RHA02"]
[" ","RHA03"," "," "," "," "," "," ",null,null,null,null,null,null,null,"RHA03"]
[" ","RHA04"," "," "," "," "," "," ",null,null,null,null,null,null,null,"RHA04"]
[" ","RHC01"," "," "," "," "," "," ",null,null,null,null,null,null,null,"RHC01"]
[" ","RHC02"," "," "," "," "," "," ",null,null,null,null,null,null,null,"RHC02"]
[" ","RHC03"," "," "," "," "," "," ",null,null,null,null,null,null,null,"RHC03"]
[" ","RHP01"," "," "," "," "," "," ",null,null,null,null,null,null,null,"RHP01"]
[" ","RHP02"," "," "," "," "," "," ",null,null,null,null,null,null,null,"RHP02"]
[" ","RHP03"," "," "," "," "," "," ",null,null,null,null,null,null,null,"RHP03"]
[" ","RHP04"," "," "," "," "," "," ",null,null,null,null,null,null,null,"RHP04"]
[" ","RHP05"," "," "," "," "," "," ",null,null,null,null,null,null,null,"RHP05"]
[" ","RHP06"," "," "," "," "," "," ",null,null,null,null,null,null,null,"RHP06"]
[" ","RHP07"," "," "," "," "," "," ",null,null,null,null,null,null,null,"RHP07"]
[" ","RHP08"," "," "," "," "," "," ",null,null,null,null,null,null,null,"RHP08"]
[" ","RHP09"," "," "," "," "," "," ",null,null,null,null,null,null,null,"RHP09"]
[" ","RHP10"," "," "," "," "," "," ",null,null,null,null,null,null,null,"RHP10"]
[" ","RHP11"," "," "," "," "," "," ",null,null,null,null,null,null,null,"RHP11"]
[" ","RHP12"," "," "," "," "," "," ",null,null,null,null,null,null,null,"RHP12"]
[" ","RHV01"," "," "," "," "," "," ",null,null,null,null,null,null,null,"RHV01"]
[" ","RHV02"," "," "," "," "," "," ",null,null,null,null,null,null,null,"RHV02"]
[" ","RHV03"," "," "," "," "," "," ",null,null,null,null,null,null,null,"RHV03"]
[" ","RHV04"," "," "," "," "," "," ",null,null,null,null,null,null,null,"RHV04"]
[" ","RHA01"," "," "," "," "," "," ",null,null,null,null,null,null,null,"RHA01"]
[" ","RHA02"," "," "," "," "," "," ",null,null,null,null,null,null,null,"RHA02"]
[" ","RHA03"," "," "," "," "," "," ",null,null,null,null,null,null,null,"RHA03"]
[" ","RHA04"," "," "," "," "," "," ",null,null,null,null,null,null,null,"RHA04"]
[" ","RHC01"," "," "," "," "," "," ",null,null,null,null,null,null,null,"RHC01"]
[" ","RHC02"," "," "," "," "," "," ",null,null,null,null,null,null,null,"RHC02"]
[" ","RHC03"," "," "," "," "," "," ",null,null,null,null,null,null,null,"RHC03"]
[" ","RHP01"," "," "," "," "," "," ",null,null,null,null,null,null,null,"RHP01"]
[" ","RHP02"," "," "," "," "," "," ",null,null,null,null,null,null,null,"RHP02"]
[" ","RHP03"," "," "," "," "," "," ",null,null,null,null,null,null,null,"RHP03"]
[" ",{"$f":"P131","v":"RHP04"}," "," "," "," "," "," ",null,null,null,null,null,null,null,"RHP04"]
[" ","RHP05"," "," "," "," "," "," ",null,null,null,null,null,null,null,"RHP05"]
[" ","RHP06"," "," "," "," "," "," ",null,null,null,null,null,null,null,"RHP06"]
[" ","RHP07"," "," "," "," "," "," ",null,null,null,null,null,null,null,"RHP07"]
[" ","RHP08"," "," "," "," "," "," ",null,null,null,null,null,null,null,"RHP08"]
[" ","RHP09"," "," "," "," "," "," ",null,null,null,null,null,null,null,"RHP09"]
[" ","RHP10"," "," "," "," "," "," ",null,null,null,null,null,null,null,"RHP10"]
[" ","RHP11"," "," "," "," "," "," ",null,null,null,null,null,null,null,"RHP11"]
[" ","RHP12"," "," "," "," "," "," ",null,null,null,null,null,null,null,"RHP12"]
[" ","RHV01"," "," "," "," "," "," ",null,null,null,null,null,null,null,"RHV01"]
[" ","RHV02"," "," "," "," "," "," ",null,null,null,null,null,null,null,"RHV02"]
[" ","RHV03"," "," "," "," "," "," ",null,null,null,null,null,null,null,"RHV03"]
[" ","RHV04"," "," "," "," "," "," ",null,null,null,null,null,null,null,"RHV04"]
[" ","RHA01"," "," "," "," "," "," ",null,null,null,null,null,null,null,"RHA01"]
[" ","RHA02"," "," "," "," "," "," ",null,null,null,null,null,null,null,"RHA02"]
[" ","RHA03"," "," "," "," "," "," ",null,null,null,null,null,null,null,"RHA03"]
[" ","RHA04"," "," "," "," "," "," ",null,null,null,null,null,null,null,"RHA04"]
[" ","RHC01"," "," "," "," "," "," ",null,null,null,null,null,null,null,"RHC01"]
[" ","RHC02"," "," "," "," "," "," ",null,null,null,null,null,null,null,"RHC02"]
[" ","RHC03"," "," "," "," "," "," ",null,null,null,null,null,null,null,"RHC03"]
[" ","RHP01"," "," "," "," "," "," ",null,null,null,null,null,null,null,"RHP01"]
[" ","RHP02"," "," "," "," "," "," ",null,null,null,null,null,null,null,"RHP02"]
[" ","RHP03"," "," "," "," "," "," ",null,null,null,null,null,null,null,"RHP03"]
[" ","RHP04"," "," "," "," "," "," ",null,null,null,null,null,null,null,"RHP04"]
[" ","RHP05"," "," "," "," "," "," ",null,null,null,null,null,null,null,"RHP05"]
[" ","RHP06"," "," "," "," "," "," ",null,null,null,null,null,null,null,"RHP06"]
[" ","RHP07"," "," "," "," "," "," ",null,null,null,null,null,null,null,"RHP07"]
[" ","RHP08"," "," "," "," "," "," ",null,null,null,null,null,null,null,"RHP08"]
[" ","RHP09"," "," "," "," "," "," ",null,null,null,null,null,null,null,"RHP09"]
[" ","RHP10"," "," "," "," "," "," ",null,null,null,null,null,null,null,"RHP10"]
[" ","RHP11"," "," "," "," "," "," ",null,null,null,null,null,null,null,"RHP11"]
[" ","RHP12"," "," "," "," "," "," ",null,null,null,null,null,null,null,"RHP12"]
[" ","RHV01"," "," "," "," "," "," ",null,null,null,null,null,null,null,"RHV01"]
[" ","RHV02"," "," "," "," "," "," ",null,null,null,null,null,null,null,"RHV02"]
[" ","RHV03"," "," "," "," "," "," ",null,null,null,null,null,null,null,"RHV03"]
[" ","RHV04"," "," "," "," "," "," ",null,null,null,null,null,null,null,"RHV04"]
[" ","RHA01"," "," "," "," "," "," ",null,null,null,null,null,null,null,"RHA01"]
[" ","RHA02"," "," "," "," "," "," ",null,null,null,null,null,null,null,"RHA02"]
[" ","RHA03"," "," "," "," "," "," ",null,null,null,null,null,null,null,"RHA03"]
[" ","RHA04"," "," "," "," "," "," ",null,null,null,null,null,null,null,"RHA04"]
[" ","RHC01"," "," "," "," "," "," ",null,null,null,null,null,null,null,"RHC01"]
[" ","RHC02"," "," "," "," "," "," ",null,null,null,null,null,null,null,"RHC02"]
[" ","RHC03"," "," "," "," "," "," ",null,null,null,null,null,null,null,"RHC03"]
[" ","RHP01"," "," "," "," "," "," ",null,null,null,null,null,null,null,"RHP01"]
[" ","RHP02"," "," "," "," "," "," ",null,null,null,null,null,null,null,"RHP02"]
[" ","RHP03"," "," "," "," "," "," ",null,null,null,null,null,null,null,"RHP03"]
[" ","RHP04"," "," "," "," "," "," ",null,null,null,null,null,null,null,"RHP04"]
[" ","RHP05"," "," "," "," "," "," ",null,null,null,null,null,null,null,"RHP05"]
[" ","RHP06"," "," "," "," "," "," ",null,null,null,null,null,null,null,"RHP06"]
[" ","RHP07"," "," "," "," "," "," ",null,null,null,null,null,null,null,"RHP07"]
[" ","RHP08"," "," "," "," "," "," ",null,null,null,null,null,null,null,"RHP08"]
[" ","RHP09"," "," "," "," "," "," ",null,null,null,null,null,null,null,"RHP09"]
[" ","RHP10"," "," "," "," "," "," ",null,null,null,null,null,null,null,"RHP10"]
[" ","RHP11"," "," "," "," "," "," ",null,null,null,null,null,null,null,"RHP11"]
[" ","RHP12"," "," "," "," "," "," ",null,null,null,null,null,null,null,"RHP12"]
[" ","RHV01"," "," "," "," "," "," ",null,null,null,null,null,null,null,"RHV01"]
[" ","RHV02"," "," "," "," "," "," ",null,null,null,null,null,null,null,"RHV02"]
[" ","RHV03"," "," "," "," "," "," ",null,null,null,null,null,null,null,"RHV03"]
[" ","RHV04"," "," "," "," "," "," ",null,null,null,null,null,null,null,"RHV04"]
[" ","RHA01"," "," "," "," "," "," ",null,null,null,null,null,null,null,"RHA01"]
[" ","RHA02"," "," "," "," "," "," ",null,null,null,null,null,null,null,"RHA02"]
[" ","RHA03"," "," "," "," "," "," ",null,null,null,null,null,null,null,"RHA03"]
[" ","RHA04"," "," "," "," "," "," ",null,null,null,null,null,null,null,"RHA04"]
[" ","RHC01"," "," "," "," "," "," ",null,null,null,null,null,null,null,"RHC01"]
[" ",{"$f":"P195","v":"RHC02"}," "," "," "," "," "," ",null,null,null,null,null,null,null,"RHC02"]
[" ","RHC03"," "," "," "," "," "," ",null,null,null,null,null,null,null,"RHC03"]
[" ","RHP01"," "," "," "," "," "," ",null,null,null,null,null,null,null,"RHP01"]
[" ","RHP02"," "," "," "," "," "," ",null,null,null,null,null,null,null,"RHP02"]
[" ","RHP03"," "," "," "," "," "," ",null,null,null,null,null,null,null,"RHP03"]
[" ","RHP04"," "," "," "," "," "," ",null,null,null,null,null,null,null,"RHP04"]
[" ","RHP05"," "," "," "," "," "," ",null,null,null,null,null,null,null,"RHP05"]
[" ","RHP06"," "," "," "," "," "," ",null,null,null,null,null,null,null,"RHP06"]
[" ","RHP07"," "," "," "," "," "," ",null,null,null,null,null,null,null,"RHP07"]
[" ","RHP08"," "," "," "," "," "," ",null,null,null,null,null,null,null,"RHP08"]
[" ","RHP09"," "," "," "," "," "," ",null,null,null,null,null,null,null,"RHP09"]
[" ","RHP10"," "," "," "," "," "," ",null,null,null,null,null,null,null,"RHP10"]
[" ","RHP11"," "," "," "," "," "," ",null,null,null,null,null,null,null,"RHP11"]
[" ","RHP12"," "," "," "," "," "," ",null,null,null,null,null,null,null,"RHP12"]
[" ","RHV01"," "," "," "," "," "," ",null,null,null,null,null,null,null,"RHV01"]
[" ","RHV02"," "," "," "," "," "," ",null,null,null,null,null,null,null,"RHV02"]
[" ","RHV03"," "," "," "," "," "," ",null,null,null,null,null,null,null,"RHV03"]
[" ","RHV04"," "," "," "," "," "," ",null,null,null,null,null,null,null,"RHV04"]
[" ","RHA01"," "," "," "," "," "," ",null,null,null,null,null,null,null,"RHA01"]
[" ","RHA02"," "," "," "," "," "," ",null,null,null,null,null,null,null,"RHA02"]
[" ","RHA03"," "," "," "," "," "," ",null,null,null,null,null,null,null,"RHA03"]
[" ","RHA04"," "," "," "," "," "," ",null,null,null,null,null,null,null,"RHA04"]
[" ","RHC01"," "," "," "," "," "," ",null,null,null,null,null,null,null,"RHC01"]
[" ","RHC02"," "," "," "," "," "," ",null,null,null,null,null,null,null,"RHC02"]
[" ","RHC03"," "," "," "," "," "," ",null,null,null,null,null,null,null,"RHC03"]
[" ","RHP01"," "," "," "," "," "," ",null,null,null,null,null,null,null,"RHP01"]
[" ","RHP02"," "," "," "," "," "," ",null,null,null,null,null,null,null,"RHP02"]
[" ","RHP03"," "," "," "," "," "," ",null,null,null,null,null,null,null,"RHP03"]
[" ","RHP04"," "," "," "," "," "," ",null,null,null,null,null,null,null,"RHP04"]
[" ","RHP05"," "," "," "," "," "," ",null,null,null,null,null,null,null,"RHP05"]
[" ","RHP06"," "," "," "," "," "," ",null,null,null,null,null,null,null,"RHP06"]
[" ","RHP07"," "," "," "," "," "," ",null,null,null,null,null,null,null,"RHP07"]
[" ","RHP08"," "," "," "," "," "," ",null,null,null,null,null,null,null,"RHP08"]
[" ","RHP09"," "," "," "," "," "," ",null,null,null,null,null,null,null,"RHP09"]
[" ","RHP10"," "," "," "," "," "," ",null,null,null,null,null,null,null,"RHP10"]
[" ","RHP11"," "," "," "," "," "," ",null,null,null,null,null,null,null,"RHP11"]
[" ","RHP12"," "," "," "," "," "," ",null,null,null,null,null,null,null,"RHP12"]
[" ","RHV01"," "," "," "," "," "," ",null,null,null,null,null,null,null,"RHV01"]
[" ","RHV02"," "," "," "," "," "," ",null,null,null,null,null,null,null,"RHV02"]
[" ","RHV03"," "," "," "," "," "," ",null,null,null,null,null,null,null,"RHV03"]
[" ","RHV04"," "," "," "," "," "," ",null,null,null,null,null,null,null,"RHV04"]
[" ","RHA01"," "," "," "," "," "," ",null,null,null,null,null,null,null,"RHA01"]
[" ","RHA02"," "," "," "," "," "," ",null,null,null,null,null,null,null,"RHA02"]
[" ","RHA03"," "," "," "," "," "," ",null,null,null,null,null,null,null,"RHA03"]
[" ","RHA04"," "," "," "," "," "," ",null,null,null,null,null,null,null,"RHA04"]
[" ","RHC01"," "," "," "," "," "," ",null,null,null,null,null,null,null,"RHC01"]
[" ","RHC02"," "," "," "," "," "," ",null,null,null,null,null,null,null,"RHC02"]
[" ","RHC03"," "," "," "," "," "," ",null,null,null,null,null,null,null,"RHC03"]
[" ","RHP01"," "," "," "," "," "," ",null,null,null,null,null,null,null,"RHP01"]
[" ","RHP02"," "," "," "," "," "," ",null,null,null,null,null,null,null,"RHP02"]
[" ","RHP03"," "," "," "," "," "," ",null,null,null,null,null,null,null,"RHP03"]
[" ","RHP04"," "," "," "," "," "," ",null,null,null,null,null,null,null,"RHP04"]
[" ","RHP05"," "," "," "," "," "," ",null,null,null,null,null,null,null,"RHP05"]
[" ","RHP06"," "," "," "," "," "," ",null,null,null,null,null,null,null,"RHP06"]
[" ","RHP07"," "," "," "," "," "," ",null,null,null,null,null,null,null,"RHP07"]
[" ","RHP08"," "," "," "," "," "," ",null,null,null,null,null,null,null,"RHP08"]
[" ","RHP09"," "," "," "," "," "," ",null,null,null,null,null,null,null,"RHP09"]
[" ","RHP10"," "," "," "," "," "," ",null,null,null,null,null,null,null,"RHP10"]
[" ","RHP11"," "," "," "," "," "," ",null,null,null,null,null,null,null,"RHP11"]
[" ","RHP12"," "," "," "," "," "," ",null,null,null,null,null,null,null,"RHP12"]
[" ","RHV01"," "," "," "," "," "," ",null,null,null,null,null,null,null,"RHV01"]
[" ","RHV02"," "," "," "," "," "," ",null,null,null,null,null,null,null,"RHV02"]
[" ","RHV03"," "," "," "," "," "," ",null,null,null,null,null,null,null,"RHV03"]
[" ","RHV04"," "," "," "," "," "," ",null,null,null,null,null,null,null,"RHV04"]
[" ",{"$f":"P259","v":"RHA01"}," "," "," "," "," "," ",null,null,null,null,null,null,null,"RHA01"]
[" ","RHA02"," "," "," "," "," "," ",null,null,null,null,null,null,null,"RHA02"]
[" ","RHA03"," "," "," "," "," "," ",null,null,null,null,null,null,null,"RHA03"]
[" ","RHA04"," "," "," "," "," "," ",null,null,null,null,null,null,null,"RHA04"]
[" ","RHC01"," "," "," "," "," "," ",null,null,null,null,null,null,null,"RHC01"]
[" ","RHC02"," "," "," "," "," "," ",null,null,null,null,null,null,null,"RHC02"]
[" ","RHC03"," "," "," "," "," "," ",null,null,null,null,null,null,null,"RHC03"]
[" ","RHP01"," "," "," "," "," "," ",null,null,null,null,null,null,null,"RHP01"]
[" ","RHP02"," "," "," "," "," "," ",null,null,null,null,null,null,null,"RHP02"]
[" ","RHP03"," "," "," "," "," "," ",null,null,null,null,null,null,null,"RHP03"]
[" ","RHP04"," "," "," "," "," "," ",null,null,null,null,null,null,null,"RHP04"]
[" ","RHP05"," "," "," "," "," "," ",null,null,null,null,null,null,null,"RHP05"]
[" ","RHP06"," "," "," "," "," "," ",null,null,null,null,null,null,null,"RHP06"]
[" ","RHP07"," "," "," "," "," "," ",null,null,null,null,null,null,null,"RHP07"]
[" ","RHP08"," "," "," "," "," "," ",null,null,null,null,null,null,null,"RHP08"]
[" ","RHP09"," "," "," "," "," "," ",null,null,null,null,null,null,null,"RHP09"]
[" ","RHP10"," "," "," "," "," "," ",null,null,null,null,null,null,null,"RHP10"]
[" ","RHP11"," "," "," "," "," "," ",null,null,null,null,null,null,null,"RHP11"]
[" ","RHP12"," "," "," "," "," "," ",null,null,null,null,null,null,null,"RHP12"]

{"sheet":"VARIABLES_INVENTARIOS","index":1,"n_rows":49,"n_cols":14,"rows_kept":49,"cut":false,"hidden":true,"merged":[]}
["ID_DEALER_CODE","ID_ACCOUNT","YEAR","MONTH","ID_STATISTIC","STATISTIC_AMOUNT"]
[57040,{"$f":"N2","v":"IN001"},2015,1,"UNT",139,null,null,null,null,null,null,null,"IN001"]
[57040,{"$f":"N3","v":"IN002"},2015,1,"UNT",58,null,null,null,null,null,null,null,"IN002"]
[57040,"IN003",2015,1,"UNT",33,null,null,null,null,null,null,null,"IN003"]
[57040,"IN004",2015,1,"UNT",137,null,null,null,null,null,null,null,"IN004"]
[null,"IN001",null,null,null,null,null,null,null,null,null,null,null,"IN001"]
[null,"IN002",null,null,null,null,null,null,null,null,null,null,null,"IN002"]
[null,"IN003",null,null,null,null,null,null,null,null,null,null,null,"IN003"]
[null,"IN004",null,null,null,null,null,null,null,null,null,null,null,"IN004"]
[null,"IN001",null,null,null,null,null,null,null,null,null,null,null,"IN001"]
[null,"IN002",null,null,null,null,null,null,null,null,null,null,null,"IN002"]
[null,"IN003",null,null,null,null,null,null,null,null,null,null,null,"IN003"]
[null,"IN004",null,null,null,null,null,null,null,null,null,null,null,"IN004"]
[null,"IN001",null,null,null,null,null,null,null,null,null,null,null,"IN001"]
[null,"IN002",null,null,null,null,null,null,null,null,null,null,null,"IN002"]
[null,"IN003",null,null,null,null,null,null,null,null,null,null,null,"IN003"]
[null,"IN004",null,null,null,null,null,null,null,null,null,null,null,"IN004"]
[null,"IN001",null,null,null,null,null,null,null,null,null,null,null,"IN001"]
[null,"IN002",null,null,null,null,null,null,null,null,null,null,null,"IN002"]
[null,"IN003",null,null,null,null,null,null,null,null,null,null,null,"IN003"]
[null,"IN004",null,null,null,null,null,null,null,null,null,null,null,"IN004"]
[null,"IN001",null,null,null,null,null,null,null,null,null,null,null,"IN001"]
[null,"IN002",null,null,null,null,null,null,null,null,null,null,null,"IN002"]
[null,"IN003",null,null,null,null,null,null,null,null,null,null,null,"IN003"]
[null,"IN004",null,null,null,null,null,null,null,null,null,null,null,"IN004"]
[null,"IN001",null,null,null,null,null,null,null,null,null,null,null,"IN001"]
[null,"IN002",null,null,null,null,null,null,null,null,null,null,null,"IN002"]
[null,"IN003",null,null,null,null,null,null,null,null,null,null,null,"IN003"]
[null,"IN004",null,null,null,null,null,null,null,null,null,null,null,"IN004"]
[null,"IN001",null,null,null,null,null,null,null,null,null,null,null,"IN001"]
[null,"IN002",null,null,null,null,null,null,null,null,null,null,null,"IN002"]
[null,"IN003",null,null,null,null,null,null,null,null,null,null,null,"IN003"]
[null,"IN004",null,null,null,null,null,null,null,null,null,null,null,"IN004"]
[null,"IN001",null,null,null,null,null,null,null,null,null,null,null,"IN001"]
[null,"IN002",null,null,null,null,null,null,null,null,null,null,null,"IN002"]
[null,"IN003",null,null,null,null,null,null,null,null,null,null,null,"IN003"]
[null,"IN004",null,null,null,null,null,null,null,null,null,null,null,"IN004"]
[null,"IN001",null,null,null,null,null,null,null,null,null,null,null,"IN001"]
[null,"IN002",null,null,null,null,null,null,null,null,null,null,null,"IN002"]
[null,"IN003",null,null,null,null,null,null,null,null,null,null,null,"IN003"]
[null,"IN004",null,null,null,null,null,null,null,null,null,null,null,"IN004"]
[null,"IN001",null,null,null,null,null,null,null,null,null,null,null,"IN001"]
[null,"IN002",null,null,null,null,null,null,null,null,null,null,null,"IN002"]
[null,"IN003",null,null,null,null,null,null,null,null,null,null,null,"IN003"]
[null,"IN004",null,null,null,null,null,null,null,null,null,null,null,"IN004"]
[null,"IN001",null,null,null,null,null,null,null,null,null,null,null,"IN001"]
[null,"IN002",null,null,null,null,null,null,null,null,null,null,null,"IN002"]
[null,"IN003",null,null,null,null,null,null,null,null,null,null,null,"IN003"]
[null,"IN004",null,null,null,null,null,null,null,null,null,null,null,"IN004"]

{"sheet":"VARIABLES_AUTOS_NUEVOS","index":2,"n_rows":277,"n_cols":14,"rows_kept":277,"cut":false,"hidden":true,"merged":[]}
["ID_DEALER_CODE","ID_ACCOUNT","YEAR","MONTH","CARS_SOLD","ID_CURRENCY","SALES","COST"]
[57040,{"$f":"N2","v":"CAMRY"},2015,1,5,"MXN",1583530,1361377,null,null,null,null,null,"CAMRY"]
[57040,{"$f":"N3","v":"COROLLA"},2015,1,7,"MXN",1645856,1469456,null,null,null,null,null,"COROLLA"]
[57040,"MATRIX",2015,1,0,"MXN",0,0,null,null,null,null,null,"MATRIX"]
[57040,"PRIUS",2015,1,1,"MXN",283747,264997,null,null,null,null,null,"PRIUS"]
[57040,"SIENNA",2015,1,2,"MXN",815005,731789,null,null,null,null,null,"SIENNA"]
[57040,"LAND CRUISER",2015,1,0,"MXN",0,0,null,null,null,null,null,"LAND CRUISER"]
[57040,"RAV4",2015,1,7,"MXN",2050941,1845911,null,null,null,null,null,"RAV4"]
[57040,"YARIS",2015,1,12,"MXN",2066256,1908561,null,null,null,null,null,"YARIS"]
[57040,"HILUX-IMV",2015,1,3,"MXN",687448,675910,null,null,null,null,null,"HILUX-IMV"]
[57040,"HIACE",2015,1,1,"MXN",285629,261561,null,null,null,null,null,"HIACE"]
[57040,"TACOMA",2015,1,4,"MXN",1348768,1210704,null,null,null,null,null,"TACOMA"]
[57040,"AVANZA",2015,1,7,"MXN",1214138,1123919,null,null,null,null,null,"AVANZA"]
[57040,"TUNDRA",2015,1,0,"MXN",0,0,null,null,null,null,null,"TUNDRA"]
[57040,"HIGHLANDER",2015,1,3,"MXN",1318837,1166262,null,null,null,null,null,"HIGHLANDER"]
[57040,"FJ CRUISER",2015,1,0,"MXN",0,0,null,null,null,null,null,"FJ CRUISER"]
[57040,"SEQUOIA",2015,1,0,"MXN",0,0,null,null,null,null,null,"SEQUOIA"]
[57040,"RUSH",2015,1,0,"MXN",0,0,null,null,null,null,null,"RUSH"]
[57040,0,2015,1,0,"MXN",0,0]
[57040,0,2015,1,0,"MXN",0,0]
[57040,"COMONUEVOS",2015,1,5,"MXN",1171904.26,1039062.95,null,null,null,null,null,"COMONUEVOS"]
[57040,"USADOS TOYOTA",2015,1,0,"MXN",0,0,null,null,null,null,null,"USADOS TOYOTA"]
[57040,"USADOS OTROS",2015,1,4,"MXN",485655,401829,null,null,null,null,null,"USADOS OTROS"]
[57040,"INTERCAMBIOS ",2015,1,41,"MXN",9725362.3200000003,9723913.75,null,null,null,null,null,"INTERCAMBIOS "]
[null,"CAMRY",null,null,null,null,null,null,null,null,null,null,null,"CAMRY"]
[null,"COROLLA",null,null,null,null,null,null,null,null,null,null,null,"COROLLA"]
[null,"MATRIX",null,null,null,null,null,null,null,null,null,null,null,"MATRIX"]
[null,"PRIUS",null,null,null,null,null,null,null,null,null,null,null,"PRIUS"]
[null,"SIENNA",null,null,null,null,null,null,null,null,null,null,null,"SIENNA"]
[null,"LAND CRUISER",null,null,null,null,null,null,null,null,null,null,null,"LAND CRUISER"]
[null,"RAV4",null,null,null,null,null,null,null,null,null,null,null,"RAV4"]
[null,"YARIS",null,null,null,null,null,null,null,null,null,null,null,"YARIS"]
[null,"HILUX-IMV",null,null,null,null,null,null,null,null,null,null,null,"HILUX-IMV"]
[null,"HIACE",null,null,null,null,null,null,null,null,null,null,null,"HIACE"]
[null,"TACOMA",null,null,null,null,null,null,null,null,null,null,null,"TACOMA"]
[null,"AVANZA",null,null,null,null,null,null,null,null,null,null,null,"AVANZA"]
[null,"TUNDRA",null,null,null,null,null,null,null,null,null,null,null,"TUNDRA"]
[null,"HIGHLANDER",null,null,null,null,null,null,null,null,null,null,null,"HIGHLANDER"]
[null,"FJ CRUISER",null,null,null,null,null,null,null,null,null,null,null,"FJ CRUISER"]
[null,"SEQUOIA",null,null,null,null,null,null,null,null,null,null,null,"SEQUOIA"]
[null,"RUSH",null,null,null,null,null,null,null,null,null,null,null,"RUSH"]
[null,0]
[null,0]
[null,"COMONUEVOS",null,null,null,null,null,null,null,null,null,null,null,"COMONUEVOS"]
[null,"USADOS TOYOTA",null,null,null,null,null,null,null,null,null,null,null,"USADOS TOYOTA"]
[null,"USADOS OTROS",null,null,null,null,null,null,null,null,null,null,null,"USADOS OTROS"]
[null,"INTERCAMBIOS ",null,null,null,null,null,null,null,null,null,null,null,"INTERCAMBIOS "]
[null,"CAMRY",null,null,null,null,null,null,null,null,null,null,null,"CAMRY"]
[null,"COROLLA",null,null,null,null,null,null,null,null,null,null,null,"COROLLA"]
[null,"MATRIX",null,null,null,null,null,null,null,null,null,null,null,"MATRIX"]
[null,"PRIUS",null,null,null,null,null,null,null,null,null,null,null,"PRIUS"]
[null,"SIENNA",null,null,null,null,null,null,null,null,null,null,null,"SIENNA"]
[null,"LAND CRUISER",null,null,null,null,null,null,null,null,null,null,null,"LAND CRUISER"]
[null,"RAV4",null,null,null,null,null,null,null,null,null,null,null,"RAV4"]
[null,"YARIS",null,null,null,null,null,null,null,null,null,null,null,"YARIS"]
[null,"HILUX-IMV",null,null,null,null,null,null,null,null,null,null,null,"HILUX-IMV"]
[null,"HIACE",null,null,null,null,null,null,null,null,null,null,null,"HIACE"]
[null,"TACOMA",null,null,null,null,null,null,null,null,null,null,null,"TACOMA"]
[null,"AVANZA",null,null,null,null,null,null,null,null,null,null,null,"AVANZA"]
[null,"TUNDRA",null,null,null,null,null,null,null,null,null,null,null,"TUNDRA"]
[null,"HIGHLANDER",null,null,null,null,null,null,null,null,null,null,null,"HIGHLANDER"]
[null,"FJ CRUISER",null,null,null,null,null,null,null,null,null,null,null,"FJ CRUISER"]
[null,"SEQUOIA",null,null,null,null,null,null,null,null,null,null,null,"SEQUOIA"]
[null,"RUSH",null,null,null,null,null,null,null,null,null,null,null,"RUSH"]
[null,0]
[null,0]
[null,{"$f":"N67","v":"COMONUEVOS"},null,null,null,null,null,null,null,null,null,null,null,"COMONUEVOS"]
[null,"USADOS TOYOTA",null,null,null,null,null,null,null,null,null,null,null,"USADOS TOYOTA"]
[null,"USADOS OTROS",null,null,null,null,null,null,null,null,null,null,null,"USADOS OTROS"]
[null,"INTERCAMBIOS ",null,null,null,null,null,null,null,null,null,null,null,"INTERCAMBIOS "]
[null,"CAMRY",null,null,null,null,null,null,null,null,null,null,null,"CAMRY"]
[null,"COROLLA",null,null,null,null,null,null,null,null,null,null,null,"COROLLA"]
[null,"MATRIX",null,null,null,null,null,null,null,null,null,null,null,"MATRIX"]
[null,"PRIUS",null,null,null,null,null,null,null,null,null,null,null,"PRIUS"]
[null,"SIENNA",null,null,null,null,null,null,null,null,null,null,null,"SIENNA"]
[null,"LAND CRUISER",null,null,null,null,null,null,null,null,null,null,null,"LAND CRUISER"]
[null,"RAV4",null,null,null,null,null,null,null,null,null,null,null,"RAV4"]
[null,"YARIS",null,null,null,null,null,null,null,null,null,null,null,"YARIS"]
[null,"HILUX-IMV",null,null,null,null,null,null,null,null,null,null,null,"HILUX-IMV"]
[null,"HIACE",null,null,null,null,null,null,null,null,null,null,null,"HIACE"]
[null,"TACOMA",null,null,null,null,null,null,null,null,null,null,null,"TACOMA"]
[null,"AVANZA",null,null,null,null,null,null,null,null,null,null,null,"AVANZA"]
[null,"TUNDRA",null,null,null,null,null,null,null,null,null,null,null,"TUNDRA"]
[null,"HIGHLANDER",null,null,null,null,null,null,null,null,null,null,null,"HIGHLANDER"]
[null,"FJ CRUISER",null,null,null,null,null,null,null,null,null,null,null,"FJ CRUISER"]
[null,"SEQUOIA",null,null,null,null,null,null,null,null,null,null,null,"SEQUOIA"]
[null,"RUSH",null,null,null,null,null,null,null,null,null,null,null,"RUSH"]
[null,0]
[null,0]
[null,"COMONUEVOS",null,null,null,null,null,null,null,null,null,null,null,"COMONUEVOS"]
[null,"USADOS TOYOTA",null,null,null,null,null,null,null,null,null,null,null,"USADOS TOYOTA"]
[null,"USADOS OTROS",null,null,null,null,null,null,null,null,null,null,null,"USADOS OTROS"]
[null,"INTERCAMBIOS ",null,null,null,null,null,null,null,null,null,null,null,"INTERCAMBIOS "]
[null,"CAMRY",null,null,null,null,null,null,null,null,null,null,null,"CAMRY"]
[null,"COROLLA",null,null,null,null,null,null,null,null,null,null,null,"COROLLA"]
[null,"MATRIX",null,null,null,null,null,null,null,null,null,null,null,"MATRIX"]
[null,"PRIUS",null,null,null,null,null,null,null,null,null,null,null,"PRIUS"]
[null,"SIENNA",null,null,null,null,null,null,null,null,null,null,null,"SIENNA"]
[null,"LAND CRUISER",null,null,null,null,null,null,null,null,null,null,null,"LAND CRUISER"]
[null,"RAV4",null,null,null,null,null,null,null,null,null,null,null,"RAV4"]
[null,"YARIS",null,null,null,null,null,null,null,null,null,null,null,"YARIS"]
[null,"HILUX-IMV",null,null,null,null,null,null,null,null,null,null,null,"HILUX-IMV"]
[null,"HIACE",null,null,null,null,null,null,null,null,null,null,null,"HIACE"]
[null,"TACOMA",null,null,null,null,null,null,null,null,null,null,null,"TACOMA"]
[null,"AVANZA",null,null,null,null,null,null,null,null,null,null,null,"AVANZA"]
[null,"TUNDRA",null,null,null,null,null,null,null,null,null,null,null,"TUNDRA"]
[null,"HIGHLANDER",null,null,null,null,null,null,null,null,null,null,null,"HIGHLANDER"]
[null,"FJ CRUISER",null,null,null,null,null,null,null,null,null,null,null,"FJ CRUISER"]
[null,"SEQUOIA",null,null,null,null,null,null,null,null,null,null,null,"SEQUOIA"]
[null,"RUSH",null,null,null,null,null,null,null,null,null,null,null,"RUSH"]
[null,0]
[null,0]
[null,"COMONUEVOS",null,null,null,null,null,null,null,null,null,null,null,"COMONUEVOS"]
[null,"USADOS TOYOTA",null,null,null,null,null,null,null,null,null,null,null,"USADOS TOYOTA"]
[null,"USADOS OTROS",null,null,null,null,null,null,null,null,null,null,null,"USADOS OTROS"]
[null,"INTERCAMBIOS ",null,null,null,null,null,null,null,null,null,null,null,"INTERCAMBIOS "]
[null,"CAMRY",null,null,null,null,null,null,null,null,null,null,null,"CAMRY"]
[null,"COROLLA",null,null,null,null,null,null,null,null,null,null,null,"COROLLA"]
[null,"MATRIX",null,null,null,null,null,null,null,null,null,null,null,"MATRIX"]
[null,"PRIUS",null,null,null,null,null,null,null,null,null,null,null,"PRIUS"]
[null,"SIENNA",null,null,null,null,null,null,null,null,null,null,null,"SIENNA"]
[null,"LAND CRUISER",null,null,null,null,null,null,null,null,null,null,null,"LAND CRUISER"]
[null,"RAV4",null,null,null,null,null,null,null,null,null,null,null,"RAV4"]
[null,"YARIS",null,null,null,null,null,null,null,null,null,null,null,"YARIS"]
[null,"HILUX-IMV",null,null,null,null,null,null,null,null,null,null,null,"HILUX-IMV"]
[null,"HIACE",null,null,null,null,null,null,null,null,null,null,null,"HIACE"]
[null,"TACOMA",null,null,null,null,null,null,null,null,null,null,null,"TACOMA"]
[null,"AVANZA",null,null,null,null,null,null,null,null,null,null,null,"AVANZA"]
[null,"TUNDRA",null,null,null,null,null,null,null,null,null,null,null,"TUNDRA"]
[null,"HIGHLANDER",null,null,null,null,null,null,null,null,null,null,null,"HIGHLANDER"]
[null,{"$f":"N131","v":"FJ CRUISER"},null,null,null,null,null,null,null,null,null,null,null,"FJ CRUISER"]
[null,"SEQUOIA",null,null,null,null,null,null,null,null,null,null,null,"SEQUOIA"]
[null,"RUSH",null,null,null,null,null,null,null,null,null,null,null,"RUSH"]
[null,0]
[null,0]
[null,"COMONUEVOS",null,null,null,null,null,null,null,null,null,null,null,"COMONUEVOS"]
[null,"USADOS TOYOTA",null,null,null,null,null,null,null,null,null,null,null,"USADOS TOYOTA"]
[null,"USADOS OTROS",null,null,null,null,null,null,null,null,null,null,null,"USADOS OTROS"]
[null,"INTERCAMBIOS ",null,null,null,null,null,null,null,null,null,null,null,"INTERCAMBIOS "]
[null,"CAMRY",null,null,null,null,null,null,null,null,null,null,null,"CAMRY"]
[null,"COROLLA",null,null,null,null,null,null,null,null,null,null,null,"COROLLA"]
[null,"MATRIX",null,null,null,null,null,null,null,null,null,null,null,"MATRIX"]
[null,"PRIUS",null,null,null,null,null,null,null,null,null,null,null,"PRIUS"]
[null,"SIENNA",null,null,null,null,null,null,null,null,null,null,null,"SIENNA"]
[null,"LAND CRUISER",null,null,null,null,null,null,null,null,null,null,null,"LAND CRUISER"]
[null,"RAV4",null,null,null,null,null,null,null,null,null,null,null,"RAV4"]
[null,"YARIS",null,null,null,null,null,null,null,null,null,null,null,"YARIS"]
[null,"HILUX-IMV",null,null,null,null,null,null,null,null,null,null,null,"HILUX-IMV"]
[null,"HIACE",null,null,null,null,null,null,null,null,null,null,null,"HIACE"]
[null,"TACOMA",null,null,null,null,null,null,null,null,null,null,null,"TACOMA"]
[null,"AVANZA",null,null,null,null,null,null,null,null,null,null,null,"AVANZA"]
[null,"TUNDRA",null,null,null,null,null,null,null,null,null,null,null,"TUNDRA"]
[null,"HIGHLANDER",null,null,null,null,null,null,null,null,null,null,null,"HIGHLANDER"]
[null,"FJ CRUISER",null,null,null,null,null,null,null,null,null,null,null,"FJ CRUISER"]
[null,"SEQUOIA",null,null,null,null,null,null,null,null,null,null,null,"SEQUOIA"]
[null,"RUSH",null,null,null,null,null,null,null,null,null,null,null,"RUSH"]
[null,0]
[null,0]
[null,"COMONUEVOS",null,null,null,null,null,null,null,null,null,null,null,"COMONUEVOS"]
[null,"USADOS TOYOTA",null,null,null,null,null,null,null,null,null,null,null,"USADOS TOYOTA"]
[null,"USADOS OTROS",null,null,null,null,null,null,null,null,null,null,null,"USADOS OTROS"]
[null,"INTERCAMBIOS ",null,null,null,null,null,null,null,null,null,null,null,"INTERCAMBIOS "]
[null,"CAMRY",null,null,null,null,null,null,null,null,null,null,null,"CAMRY"]
[null,"COROLLA",null,null,null,null,null,null,null,null,null,null,null,"COROLLA"]
[null,"MATRIX",null,null,null,null,null,null,null,null,null,null,null,"MATRIX"]
[null,"PRIUS",null,null,null,null,null,null,null,null,null,null,null,"PRIUS"]
[null,"SIENNA",null,null,null,null,null,null,null,null,null,null,null,"SIENNA"]
[null,"LAND CRUISER",null,null,null,null,null,null,null,null,null,null,null,"LAND CRUISER"]
[null,"RAV4",null,null,null,null,null,null,null,null,null,null,null,"RAV4"]
[null,"YARIS",null,null,null,null,null,null,null,null,null,null,null,"YARIS"]
[null,"HILUX-IMV",null,null,null,null,null,null,null,null,null,null,null,"HILUX-IMV"]
[null,"HIACE",null,null,null,null,null,null,null,null,null,null,null,"HIACE"]
[null,"TACOMA",null,null,null,null,null,null,null,null,null,null,null,"TACOMA"]
[null,"AVANZA",null,null,null,null,null,null,null,null,null,null,null,"AVANZA"]
[null,"TUNDRA",null,null,null,null,null,null,null,null,null,null,null,"TUNDRA"]
[null,"HIGHLANDER",null,null,null,null,null,null,null,null,null,null,null,"HIGHLANDER"]
[null,"FJ CRUISER",null,null,null,null,null,null,null,null,null,null,null,"FJ CRUISER"]
[null,"SEQUOIA",null,null,null,null,null,null,null,null,null,null,null,"SEQUOIA"]
[null,"RUSH",null,null,null,null,null,null,null,null,null,null,null,"RUSH"]
[null,0]
[null,0]
[null,"COMONUEVOS",null,null,null,null,null,null,null,null,null,null,null,"COMONUEVOS"]
[null,"USADOS TOYOTA",null,null,null,null,null,null,null,null,null,null,null,"USADOS TOYOTA"]
[null,"USADOS OTROS",null,null,null,null,null,null,null,null,null,null,null,"USADOS OTROS"]
[null,"INTERCAMBIOS ",null,null,null,null,null,null,null,null,null,null,null,"INTERCAMBIOS "]
[null,"CAMRY",null,null,null,null,null,null,null,null,null,null,null,"CAMRY"]
[null,"COROLLA",null,null,null,null,null,null,null,null,null,null,null,"COROLLA"]
[null,"MATRIX",null,null,null,null,null,null,null,null,null,null,null,"MATRIX"]
[null,"PRIUS",null,null,null,null,null,null,null,null,null,null,null,"PRIUS"]
[null,"SIENNA",null,null,null,null,null,null,null,null,null,null,null,"SIENNA"]
[null,"LAND CRUISER",null,null,null,null,null,null,null,null,null,null,null,"LAND CRUISER"]
[null,"RAV4",null,null,null,null,null,null,null,null,null,null,null,"RAV4"]
[null,"YARIS",null,null,null,null,null,null,null,null,null,null,null,"YARIS"]
[null,"HILUX-IMV",null,null,null,null,null,null,null,null,null,null,null,"HILUX-IMV"]
[null,{"$f":"N195","v":"HIACE"},null,null,null,null,null,null,null,null,null,null,null,"HIACE"]
[null,"TACOMA",null,null,null,null,null,null,null,null,null,null,null,"TACOMA"]
[null,"AVANZA",null,null,null,null,null,null,null,null,null,null,null,"AVANZA"]
[null,"TUNDRA",null,null,null,null,null,null,null,null,null,null,null,"TUNDRA"]
[null,"HIGHLANDER",null,null,null,null,null,null,null,null,null,null,null,"HIGHLANDER"]
[null,"FJ CRUISER",null,null,null,null,null,null,null,null,null,null,null,"FJ CRUISER"]
[null,"SEQUOIA",null,null,null,null,null,null,null,null,null,null,null,"SEQUOIA"]
[null,"RUSH",null,null,null,null,null,null,null,null,null,null,null,"RUSH"]
[null,0]
[null,0]
[null,"COMONUEVOS",null,null,null,null,null,null,null,null,null,null,null,"COMONUEVOS"]
[null,"USADOS TOYOTA",null,null,null,null,null,null,null,null,null,null,null,"USADOS TOYOTA"]
[null,"USADOS OTROS",null,null,null,null,null,null,null,null,null,null,null,"USADOS OTROS"]
[null,"INTERCAMBIOS ",null,null,null,null,null,null,null,null,null,null,null,"INTERCAMBIOS "]
[null,"CAMRY",null,null,null,null,null,null,null,null,null,null,null,"CAMRY"]
[null,"COROLLA",null,null,null,null,null,null,null,null,null,null,null,"COROLLA"]
[null,"MATRIX",null,null,null,null,null,null,null,null,null,null,null,"MATRIX"]
[null,"PRIUS",null,null,null,null,null,null,null,null,null,null,null,"PRIUS"]
[null,"SIENNA",null,null,null,null,null,null,null,null,null,null,null,"SIENNA"]
[null,"LAND CRUISER",null,null,null,null,null,null,null,null,null,null,null,"LAND CRUISER"]
[null,"RAV4",null,null,null,null,null,null,null,null,null,null,null,"RAV4"]
[null,"YARIS",null,null,null,null,null,null,null,null,null,null,null,"YARIS"]
[null,"HILUX-IMV",null,null,null,null,null,null,null,null,null,null,null,"HILUX-IMV"]
[null,"HIACE",null,null,null,null,null,null,null,null,null,null,null,"HIACE"]
[null,"TACOMA",null,null,null,null,null,null,null,null,null,null,null,"TACOMA"]
[null,"AVANZA",null,null,null,null,null,null,null,null,null,null,null,"AVANZA"]
[null,"TUNDRA",null,null,null,null,null,null,null,null,null,null,null,"TUNDRA"]
[null,"HIGHLANDER",null,null,null,null,null,null,null,null,null,null,null,"HIGHLANDER"]
[null,"FJ CRUISER",null,null,null,null,null,null,null,null,null,null,null,"FJ CRUISER"]
[null,"SEQUOIA",null,null,null,null,null,null,null,null,null,null,null,"SEQUOIA"]
[null,"RUSH",null,null,null,null,null,null,null,null,null,null,null,"RUSH"]
[null,0]
[null,0]
[null,"COMONUEVOS",null,null,null,null,null,null,null,null,null,null,null,"COMONUEVOS"]
[null,"USADOS TOYOTA",null,null,null,null,null,null,null,null,null,null,null,"USADOS TOYOTA"]
[null,"USADOS OTROS",null,null,null,null,null,null,null,null,null,null,null,"USADOS OTROS"]
[null,"INTERCAMBIOS ",null,null,null,null,null,null,null,null,null,null,null,"INTERCAMBIOS "]
[null,"CAMRY",null,null,null,null,null,null,null,null,null,null,null,"CAMRY"]
[null,"COROLLA",null,null,null,null,null,null,null,null,null,null,null,"COROLLA"]
[null,"MATRIX",null,null,null,null,null,null,null,null,null,null,null,"MATRIX"]
[null,"PRIUS",null,null,null,null,null,null,null,null,null,null,null,"PRIUS"]
[null,"SIENNA",null,null,null,null,null,null,null,null,null,null,null,"SIENNA"]
[null,"LAND CRUISER",null,null,null,null,null,null,null,null,null,null,null,"LAND CRUISER"]
[null,"RAV4",null,null,null,null,null,null,null,null,null,null,null,"RAV4"]
[null,"YARIS",null,null,null,null,null,null,null,null,null,null,null,"YARIS"]
[null,"HILUX-IMV",null,null,null,null,null,null,null,null,null,null,null,"HILUX-IMV"]
[null,"HIACE",null,null,null,null,null,null,null,null,null,null,null,"HIACE"]
[null,"TACOMA",null,null,null,null,null,null,null,null,null,null,null,"TACOMA"]
[null,"AVANZA",null,null,null,null,null,null,null,null,null,null,null,"AVANZA"]
[null,"TUNDRA",null,null,null,null,null,null,null,null,null,null,null,"TUNDRA"]
[null,"HIGHLANDER",null,null,null,null,null,null,null,null,null,null,null,"HIGHLANDER"]
[null,"FJ CRUISER",null,null,null,null,null,null,null,null,null,null,null,"FJ CRUISER"]
[null,"SEQUOIA",null,null,null,null,null,null,null,null,null,null,null,"SEQUOIA"]
[null,"RUSH",null,null,null,null,null,null,null,null,null,null,null,"RUSH"]
[null,0]
[null,0]
[null,"COMONUEVOS",null,null,null,null,null,null,null,null,null,null,null,"COMONUEVOS"]
[null,"USADOS TOYOTA",null,null,null,null,null,null,null,null,null,null,null,"USADOS TOYOTA"]
[null,"USADOS OTROS",null,null,null,null,null,null,null,null,null,null,null,"USADOS OTROS"]
[null,"INTERCAMBIOS ",null,null,null,null,null,null,null,null,null,null,null,"INTERCAMBIOS "]
[null,"CAMRY",null,null,null,null,null,null,null,null,null,null,null,"CAMRY"]
[null,"COROLLA",null,null,null,null,null,null,null,null,null,null,null,"COROLLA"]
[null,"MATRIX",null,null,null,null,null,null,null,null,null,null,null,"MATRIX"]
[null,"PRIUS",null,null,null,null,null,null,null,null,null,null,null,"PRIUS"]
[null,{"$f":"N259","v":"SIENNA"},null,null,null,null,null,null,null,null,null,null,null,"SIENNA"]
[null,"LAND CRUISER",null,null,null,null,null,null,null,null,null,null,null,"LAND CRUISER"]
[null,"RAV4",null,null,null,null,null,null,null,null,null,null,null,"RAV4"]
[null,"YARIS",null,null,null,null,null,null,null,null,null,null,null,"YARIS"]
[null,"HILUX-IMV",null,null,null,null,null,null,null,null,null,null,null,"HILUX-IMV"]
[null,"HIACE",null,null,null,null,null,null,null,null,null,null,null,"HIACE"]
[null,"TACOMA",null,null,null,null,null,null,null,null,null,null,null,"TACOMA"]
[null,"AVANZA",null,null,null,null,null,null,null,null,null,null,null,"AVANZA"]
[null,"TUNDRA",null,null,null,null,null,null,null,null,null,null,null,"TUNDRA"]
[null,"HIGHLANDER",null,null,null,null,null,null,null,null,null,null,null,"HIGHLANDER"]
[null,"FJ CRUISER",null,null,null,null,null,null,null,null,null,null,null,"FJ CRUISER"]
[null,"SEQUOIA",null,null,null,null,null,null,null,null,null,null,null,"SEQUOIA"]
[null,"RUSH",null,null,null,null,null,null,null,null,null,null,null,"RUSH"]
[null,0]
[null,0]
[null,"COMONUEVOS",null,null,null,null,null,null,null,null,null,null,null,"COMONUEVOS"]
[null,"USADOS TOYOTA",null,null,null,null,null,null,null,null,null,null,null,"USADOS TOYOTA"]
[null,"USADOS OTROS",null,null,null,null,null,null,null,null,null,null,null,"USADOS OTROS"]
[null,"INTERCAMBIOS ",null,null,null,null,null,null,null,null,null,null,null,"INTERCAMBIOS "]

{"sheet":"VARIABLES_SERVICIO_MONTOS","index":3,"n_rows":133,"n_cols":14,"rows_kept":133,"cut":false,"hidden":true,"merged":[]}
["ID_DEALER_CODE","ID_ACCOUNT","YEAR","MONTH","ID_CURRENCY","AMOUNT"]
[57040,{"$f":"N2","v":"SER101"},2015,1,"MXN",494853.97,null,null,null,null,null,null,null,"SER101"]
[57040,{"$f":"N3","v":"SER102"},2015,1,"MXN",17810,null,null,null,null,null,null,null,"SER102"]
[57040,"SER103",2015,1,"MXN",6627.5,null,null,null,null,null,null,null,"SER103"]
[57040,"SER104",2015,1,"MXN",5505.5,null,null,null,null,null,null,null,"SER104"]
[57040,"SER105",2015,1,"MXN",916.99,null,null,null,null,null,null,null,"SER105"]
[57040,"HYP101",2015,1,"MXN",87418.11,null,null,null,null,null,null,null,"HYP101"]
[57040,"REF101",2015,1,"MXN",415208.56,null,null,null,null,null,null,null,"REF101"]
[57040,"REF102",2015,1,"MXN",160582.82999999999,null,null,null,null,null,null,null,"REF102"]
[57040,"REF103",2015,1,"MXN",258730.49,null,null,null,null,null,null,null,"REF103"]
[57040,"REF104",2015,1,"MXN",81347.13,null,null,null,null,null,null,null,"REF104"]
[57040,"REF105",2015,1,"MXN",422969.28,null,null,null,null,null,null,null,"REF105"]
[" ","SER101"," "," "," "," ",null,null,null,null,null,null,null,"SER101"]
[" ","SER102"," "," "," "," ",null,null,null,null,null,null,null,"SER102"]
[" ","SER103"," "," "," "," ",null,null,null,null,null,null,null,"SER103"]
[" ","SER104"," "," "," "," ",null,null,null,null,null,null,null,"SER104"]
[" ","SER105"," "," "," "," ",null,null,null,null,null,null,null,"SER105"]
[" ","HYP101"," "," "," "," ",null,null,null,null,null,null,null,"HYP101"]
[" ","REF101"," "," "," "," ",null,null,null,null,null,null,null,"REF101"]
[" ","REF102"," "," "," "," ",null,null,null,null,null,null,null,"REF102"]
[" ","REF103"," "," "," "," ",null,null,null,null,null,null,null,"REF103"]
[" ","REF104"," "," "," "," ",null,null,null,null,null,null,null,"REF104"]
[" ","REF105"," "," "," "," ",null,null,null,null,null,null,null,"REF105"]
[" ","SER101"," "," "," "," ",null,null,null,null,null,null,null,"SER101"]
[" ","SER102"," "," "," "," ",null,null,null,null,null,null,null,"SER102"]
[" ","SER103"," "," "," "," ",null,null,null,null,null,null,null,"SER103"]
[" ","SER104"," "," "," "," ",null,null,null,null,null,null,null,"SER104"]
[" ","SER105"," "," "," "," ",null,null,null,null,null,null,null,"SER105"]
[" ","HYP101"," "," "," "," ",null,null,null,null,null,null,null,"HYP101"]
[" ","REF101"," "," "," "," ",null,null,null,null,null,null,null,"REF101"]
[" ","REF102"," "," "," "," ",null,null,null,null,null,null,null,"REF102"]
[" ","REF103"," "," "," "," ",null,null,null,null,null,null,null,"REF103"]
[" ","REF104"," "," "," "," ",null,null,null,null,null,null,null,"REF104"]
[" ","REF105"," "," "," "," ",null,null,null,null,null,null,null,"REF105"]
[" ","SER101"," "," "," "," ",null,null,null,null,null,null,null,"SER101"]
[" ","SER102"," "," "," "," ",null,null,null,null,null,null,null,"SER102"]
[" ","SER103"," "," "," "," ",null,null,null,null,null,null,null,"SER103"]
[" ","SER104"," "," "," "," ",null,null,null,null,null,null,null,"SER104"]
[" ","SER105"," "," "," "," ",null,null,null,null,null,null,null,"SER105"]
[" ","HYP101"," "," "," "," ",null,null,null,null,null,null,null,"HYP101"]
[" ","REF101"," "," "," "," ",null,null,null,null,null,null,null,"REF101"]
[" ","REF102"," "," "," "," ",null,null,null,null,null,null,null,"REF102"]
[" ","REF103"," "," "," "," ",null,null,null,null,null,null,null,"REF103"]
[" ","REF104"," "," "," "," ",null,null,null,null,null,null,null,"REF104"]
[" ","REF105"," "," "," "," ",null,null,null,null,null,null,null,"REF105"]
[" ","SER101"," "," "," "," ",null,null,null,null,null,null,null,"SER101"]
[" ","SER102"," "," "," "," ",null,null,null,null,null,null,null,"SER102"]
[" ","SER103"," "," "," "," ",null,null,null,null,null,null,null,"SER103"]
[" ","SER104"," "," "," "," ",null,null,null,null,null,null,null,"SER104"]
[" ","SER105"," "," "," "," ",null,null,null,null,null,null,null,"SER105"]
[" ","HYP101"," "," "," "," ",null,null,null,null,null,null,null,"HYP101"]
[" ","REF101"," "," "," "," ",null,null,null,null,null,null,null,"REF101"]
[" ","REF102"," "," "," "," ",null,null,null,null,null,null,null,"REF102"]
[" ","REF103"," "," "," "," ",null,null,null,null,null,null,null,"REF103"]
[" ","REF104"," "," "," "," ",null,null,null,null,null,null,null,"REF104"]
[" ","REF105"," "," "," "," ",null,null,null,null,null,null,null,"REF105"]
[" ","SER101"," "," "," "," ",null,null,null,null,null,null,null,"SER101"]
[" ","SER102"," "," "," "," ",null,null,null,null,null,null,null,"SER102"]
[" ","SER103"," "," "," "," ",null,null,null,null,null,null,null,"SER103"]
[" ","SER104"," "," "," "," ",null,null,null,null,null,null,null,"SER104"]
[" ","SER105"," "," "," "," ",null,null,null,null,null,null,null,"SER105"]
[" ","HYP101"," "," "," "," ",null,null,null,null,null,null,null,"HYP101"]
[" ","REF101"," "," "," "," ",null,null,null,null,null,null,null,"REF101"]
[" ","REF102"," "," "," "," ",null,null,null,null,null,null,null,"REF102"]
[" ","REF103"," "," "," "," ",null,null,null,null,null,null,null,"REF103"]
[" ","REF104"," "," "," "," ",null,null,null,null,null,null,null,"REF104"]
[" ",{"$f":"N67","v":"REF105"}," "," "," "," ",null,null,null,null,null,null,null,"REF105"]
[" ","SER101"," "," "," "," ",null,null,null,null,null,null,null,"SER101"]
[" ","SER102"," "," "," "," ",null,null,null,null,null,null,null,"SER102"]
[" ","SER103"," "," "," "," ",null,null,null,null,null,null,null,"SER103"]
[" ","SER104"," "," "," "," ",null,null,null,null,null,null,null,"SER104"]
[" ","SER105"," "," "," "," ",null,null,null,null,null,null,null,"SER105"]
[" ","HYP101"," "," "," "," ",null,null,null,null,null,null,null,"HYP101"]
[" ","REF101"," "," "," "," ",null,null,null,null,null,null,null,"REF101"]
[" ","REF102"," "," "," "," ",null,null,null,null,null,null,null,"REF102"]
[" ","REF103"," "," "," "," ",null,null,null,null,null,null,null,"REF103"]
[" ","REF104"," "," "," "," ",null,null,null,null,null,null,null,"REF104"]
[" ","REF105"," "," "," "," ",null,null,null,null,null,null,null,"REF105"]
[" ","SER101"," "," "," "," ",null,null,null,null,null,null,null,"SER101"]
[" ","SER102"," "," "," "," ",null,null,null,null,null,null,null,"SER102"]
[" ","SER103"," "," "," "," ",null,null,null,null,null,null,null,"SER103"]
[" ","SER104"," "," "," "," ",null,null,null,null,null,null,null,"SER104"]
[" ","SER105"," "," "," "," ",null,null,null,null,null,null,null,"SER105"]
[" ","HYP101"," "," "," "," ",null,null,null,null,null,null,null,"HYP101"]
[" ","REF101"," "," "," "," ",null,null,null,null,null,null,null,"REF101"]
[" ","REF102"," "," "," "," ",null,null,null,null,null,null,null,"REF102"]
[" ","REF103"," "," "," "," ",null,null,null,null,null,null,null,"REF103"]
[" ","REF104"," "," "," "," ",null,null,null,null,null,null,null,"REF104"]
[" ","REF105"," "," "," "," ",null,null,null,null,null,null,null,"REF105"]
[" ","SER101"," "," "," "," ",null,null,null,null,null,null,null,"SER101"]
[" ","SER102"," "," "," "," ",null,null,null,null,null,null,null,"SER102"]
[" ","SER103"," "," "," "," ",null,null,null,null,null,null,null,"SER103"]
[" ","SER104"," "," "," "," ",null,null,null,null,null,null,null,"SER104"]
[" ","SER105"," "," "," "," ",null,null,null,null,null,null,null,"SER105"]
[" ","HYP101"," "," "," "," ",null,null,null,null,null,null,null,"HYP101"]
[" ","REF101"," "," "," "," ",null,null,null,null,null,null,null,"REF101"]
[" ","REF102"," "," "," "," ",null,null,null,null,null,null,null,"REF102"]
[" ","REF103"," "," "," "," ",null,null,null,null,null,null,null,"REF103"]
[" ","REF104"," "," "," "," ",null,null,null,null,null,null,null,"REF104"]
[" ","REF105"," "," "," "," ",null,null,null,null,null,null,null,"REF105"]
[" ","SER101"," "," "," "," ",null,null,null,null,null,null,null,"SER101"]
[" ","SER102"," "," "," "," ",null,null,null,null,null,null,null,"SER102"]
[" ","SER103"," "," "," "," ",null,null,null,null,null,null,null,"SER103"]
[" ","SER104"," "," "," "," ",null,null,null,null,null,null,null,"SER104"]
[" ","SER105"," "," "," "," ",null,null,null,null,null,null,null,"SER105"]
[" ","HYP101"," "," "," "," ",null,null,null,null,null,null,null,"HYP101"]
[" ","REF101"," "," "," "," ",null,null,null,null,null,null,null,"REF101"]
[" ","REF102"," "," "," "," ",null,null,null,null,null,null,null,"REF102"]
[" ","REF103"," "," "," "," ",null,null,null,null,null,null,null,"REF103"]
[" ","REF104"," "," "," "," ",null,null,null,null,null,null,null,"REF104"]
[" ","REF105"," "," "," "," ",null,null,null,null,null,null,null,"REF105"]
[" ","SER101"," "," "," "," ",null,null,null,null,null,null,null,"SER101"]
[" ","SER102"," "," "," "," ",null,null,null,null,null,null,null,"SER102"]
[" ","SER103"," "," "," "," ",null,null,null,null,null,null,null,"SER103"]
[" ","SER104"," "," "," "," ",null,null,null,null,null,null,null,"SER104"]
[" ","SER105"," "," "," "," ",null,null,null,null,null,null,null,"SER105"]
[" ","HYP101"," "," "," "," ",null,null,null,null,null,null,null,"HYP101"]
[" ","REF101"," "," "," "," ",null,null,null,null,null,null,null,"REF101"]
[" ","REF102"," "," "," "," ",null,null,null,null,null,null,null,"REF102"]
[" ","REF103"," "," "," "," ",null,null,null,null,null,null,null,"REF103"]
[" ","REF104"," "," "," "," ",null,null,null,null,null,null,null,"REF104"]
[" ","REF105"," "," "," "," ",null,null,null,null,null,null,null,"REF105"]
[" ","SER101"," "," "," "," ",null,null,null,null,null,null,null,"SER101"]
[" ","SER102"," "," "," "," ",null,null,null,null,null,null,null,"SER102"]
[" ","SER103"," "," "," "," ",null,null,null,null,null,null,null,"SER103"]
[" ","SER104"," "," "," "," ",null,null,null,null,null,null,null,"SER104"]
[" ","SER105"," "," "," "," ",null,null,null,null,null,null,null,"SER105"]
[" ","HYP101"," "," "," "," ",null,null,null,null,null,null,null,"HYP101"]
[" ","REF101"," "," "," "," ",null,null,null,null,null,null,null,"REF101"]
[" ","REF102"," "," "," "," ",null,null,null,null,null,null,null,"REF102"]
[" ",{"$f":"N131","v":"REF103"}," "," "," "," ",null,null,null,null,null,null,null,"REF103"]
[" ",{"$f":"N132","v":"REF104"}," "," "," "," ",null,null,null,null,null,null,null,"REF104"]
[" ",{"$f":"N133","v":"REF105"}," "," "," "," ",null,null,null,null,null,null,null,"REF105"]

{"sheet":"VARIABLES_SERVICIO_MONTOS_HYP","index":4,"n_rows":85,"n_cols":14,"rows_kept":85,"cut":false,"hidden":true,"merged":[]}
["ID_DEALER_CODE","ID_ACCOUNT","YEAR","MONTH","ID_CURRENCY","AMOUNT"]
[57040,{"$f":"N2","v":"HYP201"},2015,1,"MXN",null,null,null,null,null,null,null,null,"HYP201"]
[57040,{"$f":"N3","v":"HYP202"},2015,1,"MXN",null,null,null,null,null,null,null,null,"HYP202"]
[57040,"HYP203",2015,1,"MXN",null,null,null,null,null,null,null,null,"HYP203"]
[57040,"HYP204",2015,1,"MXN",null,null,null,null,null,null,null,null,"HYP204"]
[57040,"HYP901",2015,1,"MXN",null,null,null,null,null,null,null,null,"HYP901"]
[57040,"HYP902",2015,1,"MXN",null,null,null,null,null,null,null,null,"HYP902"]
[57040,"HYP903",2015,1,"MXN",null,null,null,null,null,null,null,null,"HYP903"]
[" ","HYP201"," "," "," "," ",null,null,null,null,null,null,null,"HYP201"]
[" ","HYP202"," "," "," "," ",null,null,null,null,null,null,null,"HYP202"]
[" ","HYP203"," "," "," "," ",null,null,null,null,null,null,null,"HYP203"]
[" ","HYP204"," "," "," "," ",null,null,null,null,null,null,null,"HYP204"]
[" ","HYP901"," "," "," "," ",null,null,null,null,null,null,null,"HYP901"]
[" ","HYP902"," "," "," "," ",null,null,null,null,null,null,null,"HYP902"]
[" ","HYP903"," "," "," "," ",null,null,null,null,null,null,null,"HYP903"]
[" ","HYP201"," "," "," "," ",null,null,null,null,null,null,null,"HYP201"]
[" ","HYP202"," "," "," "," ",null,null,null,null,null,null,null,"HYP202"]
[" ","HYP203"," "," "," "," ",null,null,null,null,null,null,null,"HYP203"]
[" ","HYP204"," "," "," "," ",null,null,null,null,null,null,null,"HYP204"]
[" ","HYP901"," "," "," "," ",null,null,null,null,null,null,null,"HYP901"]
[" ","HYP902"," "," "," "," ",null,null,null,null,null,null,null,"HYP902"]
[" ","HYP903"," "," "," "," ",null,null,null,null,null,null,null,"HYP903"]
[" ","HYP201"," "," "," "," ",null,null,null,null,null,null,null,"HYP201"]
[" ","HYP202"," "," "," "," ",null,null,null,null,null,null,null,"HYP202"]
[" ","HYP203"," "," "," "," ",null,null,null,null,null,null,null,"HYP203"]
[" ","HYP204"," "," "," "," ",null,null,null,null,null,null,null,"HYP204"]
[" ","HYP901"," "," "," "," ",null,null,null,null,null,null,null,"HYP901"]
[" ","HYP902"," "," "," "," ",null,null,null,null,null,null,null,"HYP902"]
[" ","HYP903"," "," "," "," ",null,null,null,null,null,null,null,"HYP903"]
[" ","HYP201"," "," "," "," ",null,null,null,null,null,null,null,"HYP201"]
[" ","HYP202"," "," "," "," ",null,null,null,null,null,null,null,"HYP202"]
[" ","HYP203"," "," "," "," ",null,null,null,null,null,null,null,"HYP203"]
[" ","HYP204"," "," "," "," ",null,null,null,null,null,null,null,"HYP204"]
[" ","HYP901"," "," "," "," ",null,null,null,null,null,null,null,"HYP901"]
[" ","HYP902"," "," "," "," ",null,null,null,null,null,null,null,"HYP902"]
[" ","HYP903"," "," "," "," ",null,null,null,null,null,null,null,"HYP903"]
[" ","HYP201"," "," "," "," ",null,null,null,null,null,null,null,"HYP201"]
[" ","HYP202"," "," "," "," ",null,null,null,null,null,null,null,"HYP202"]
[" ","HYP203"," "," "," "," ",null,null,null,null,null,null,null,"HYP203"]
[" ","HYP204"," "," "," "," ",null,null,null,null,null,null,null,"HYP204"]
[" ","HYP901"," "," "," "," ",null,null,null,null,null,null,null,"HYP901"]
[" ","HYP902"," "," "," "," ",null,null,null,null,null,null,null,"HYP902"]
[" ","HYP903"," "," "," "," ",null,null,null,null,null,null,null,"HYP903"]
[" ","HYP201"," "," "," "," ",null,null,null,null,null,null,null,"HYP201"]
[" ","HYP202"," "," "," "," ",null,null,null,null,null,null,null,"HYP202"]
[" ","HYP203"," "," "," "," ",null,null,null,null,null,null,null,"HYP203"]
[" ","HYP204"," "," "," "," ",null,null,null,null,null,null,null,"HYP204"]
[" ","HYP901"," "," "," "," ",null,null,null,null,null,null,null,"HYP901"]
[" ","HYP902"," "," "," "," ",null,null,null,null,null,null,null,"HYP902"]
[" ","HYP903"," "," "," "," ",null,null,null,null,null,null,null,"HYP903"]
[" ","HYP201"," "," "," "," ",null,null,null,null,null,null,null,"HYP201"]
[" ","HYP202"," "," "," "," ",null,null,null,null,null,null,null,"HYP202"]
[" ","HYP203"," "," "," "," ",null,null,null,null,null,null,null,"HYP203"]
[" ","HYP204"," "," "," "," ",null,null,null,null,null,null,null,"HYP204"]
[" ","HYP901"," "," "," "," ",null,null,null,null,null,null,null,"HYP901"]
[" ","HYP902"," "," "," "," ",null,null,null,null,null,null,null,"HYP902"]
[" ","HYP903"," "," "," "," ",null,null,null,null,null,null,null,"HYP903"]
[" ","HYP201"," "," "," "," ",null,null,null,null,null,null,null,"HYP201"]
[" ","HYP202"," "," "," "," ",null,null,null,null,null,null,null,"HYP202"]
[" ","HYP203"," "," "," "," ",null,null,null,null,null,null,null,"HYP203"]
[" ","HYP204"," "," "," "," ",null,null,null,null,null,null,null,"HYP204"]
[" ","HYP901"," "," "," "," ",null,null,null,null,null,null,null,"HYP901"]
[" ","HYP902"," "," "," "," ",null,null,null,null,null,null,null,"HYP902"]
[" ","HYP903"," "," "," "," ",null,null,null,null,null,null,null,"HYP903"]
[" ","HYP201"," "," "," "," ",null,null,null,null,null,null,null,"HYP201"]
[" ","HYP202"," "," "," "," ",null,null,null,null,null,null,null,"HYP202"]
[" ",{"$f":"N67","v":"HYP203"}," "," "," "," ",null,null,null,null,null,null,null,"HYP203"]
[" ","HYP204"," "," "," "," ",null,null,null,null,null,null,null,"HYP204"]
[" ","HYP901"," "," "," "," ",null,null,null,null,null,null,null,"HYP901"]
[" ","HYP902"," "," "," "," ",null,null,null,null,null,null,null,"HYP902"]
[" ","HYP903"," "," "," "," ",null,null,null,null,null,null,null,"HYP903"]
[" ","HYP201"," "," "," "," ",null,null,null,null,null,null,null,"HYP201"]
[" ","HYP202"," "," "," "," ",null,null,null,null,null,null,null,"HYP202"]
[" ","HYP203"," "," "," "," ",null,null,null,null,null,null,null,"HYP203"]
[" ","HYP204"," "," "," "," ",null,null,null,null,null,null,null,"HYP204"]
[" ","HYP901"," "," "," "," ",null,null,null,null,null,null,null,"HYP901"]
[" ","HYP902"," "," "," "," ",null,null,null,null,null,null,null,"HYP902"]
[" ","HYP903"," "," "," "," ",null,null,null,null,null,null,null,"HYP903"]
[" ","HYP201"," "," "," "," ",null,null,null,null,null,null,null,"HYP201"]
[" ","HYP202"," "," "," "," ",null,null,null,null,null,null,null,"HYP202"]
[" ","HYP203"," "," "," "," ",null,null,null,null,null,null,null,"HYP203"]
[" ","HYP204"," "," "," "," ",null,null,null,null,null,null,null,"HYP204"]
[" ","HYP901"," "," "," "," ",null,null,null,null,null,null,null,"HYP901"]
[" ","HYP902"," "," "," "," ",null,null,null,null,null,null,null,"HYP902"]
[" ","HYP903"," "," "," "," ",null,null,null,null,null,null,null,"HYP903"]

{"sheet":"VARIABLES_SERVICIO_ESTADIST_HYP","index":5,"n_rows":1372,"n_cols":14,"rows_kept":1372,"cut":false,"hidden":true,"merged":[]}
["ID_DEALER_CODE","ID_ACCOUNT","YEAR","MONTH","ID_STATISTIC","STATISTIC_AMOUNT"]
[57040,{"$f":"N2","v":"HYP201"},2015,1,"ORD",null,null,null,null,null,null,null,null,"HYP201"]
[57040,{"$f":"N3","v":"HYP202"},2015,1,"ORD",null,null,null,null,null,null,null,null,"HYP202"]
[57040,"HYP203",2015,1,"ORD",null,null,null,null,null,null,null,null,"HYP203"]
[57040,"HYP204",2015,1,"ORD",null,null,null,null,null,null,null,null,"HYP204"]
[57040,"HYP301",2015,1,"HRS",null,null,null,null,null,null,null,null,"HYP301"]
[57040,"HYP302",2015,1,"HRS",null,null,null,null,null,null,null,null,"HYP302"]
[57040,"HYP303",2015,1,"HRS",null,null,null,null,null,null,null,null,"HYP303"]
[57040,"HYP304",2015,1,"HRS",null,null,null,null,null,null,null,null,"HYP304"]
[57040,"HYP401",2015,1,"UNT",null,null,null,null,null,null,null,null,"HYP401"]
[57040,"HYP402",2015,1,"UNT",null,null,null,null,null,null,null,null,"HYP402"]
[57040,"HYP403",2015,1,"UNT",null,null,null,null,null,null,null,null,"HYP403"]
[57040,"HYP404",2015,1,"UNT",null,null,null,null,null,null,null,null,"HYP404"]
[57040,"HYP501",2015,1,"PER",null,null,null,null,null,null,null,null,"HYP501"]
[57040,"HYP502",2015,1,"PER",null,null,null,null,null,null,null,null,"HYP502"]
[57040,"HYP503",2015,1,"PER",null,null,null,null,null,null,null,null,"HYP503"]
[57040,"HYP504",2015,1,"PER",null,null,null,null,null,null,null,null,"HYP504"]
[57040,"HYP505",2015,1,"PER",null,null,null,null,null,null,null,null,"HYP505"]
[57040,"HYP601",2015,1,"PER",null,null,null,null,null,null,null,null,"HYP601"]
[57040,"HYP602",2015,1,"PER",null,null,null,null,null,null,null,null,"HYP602"]
[57040,"HYP603",2015,1,"PER",null,null,null,null,null,null,null,null,"HYP603"]
[57040,"HYP604",2015,1,"PER",null,null,null,null,null,null,null,null,"HYP604"]
[57040,"HYP605",2015,1,"PER",null,null,null,null,null,null,null,null,"HYP605"]
[57040,"HYP606",2015,1,"PER",null,null,null,null,null,null,null,null,"HYP606"]
[57040,"HYP607",2015,1,"PER",null,null,null,null,null,null,null,null,"HYP607"]
[57040,"HYP608",2015,1,"PER",null,null,null,null,null,null,null,null,"HYP608"]
[57040,"HYP609",2015,1,"PER",null,null,null,null,null,null,null,null,"HYP609"]
[57040,"HYP701",2015,1,"PER",3,null,null,null,null,null,null,null,"HYP701"]
[57040,"HYP702",2015,1,"PER",0,null,null,null,null,null,null,null,"HYP702"]
[57040,"HYP801",2015,1,"AVG",0,null,null,null,null,null,null,null,"HYP801"]
[57040,"HYP802",2015,1,"AVG",0,null,null,null,null,null,null,null,"HYP802"]
[57040,"HYP803",2015,1,"AVG",0,null,null,null,null,null,null,null,"HYP803"]
[57040,"HYP804",2015,1,"AVG",null,null,null,null,null,null,null,null,"HYP804"]
[" ","HYP201"," "," "," "," ",null,null,null,null,null,null,null,"HYP201"]
[" ","HYP202"," "," "," "," ",null,null,null,null,null,null,null,"HYP202"]
[" ","HYP203"," "," "," "," ",null,null,null,null,null,null,null,"HYP203"]
[" ","HYP204"," "," "," "," ",null,null,null,null,null,null,null,"HYP204"]
[" ","HYP301"," "," "," "," ",null,null,null,null,null,null,null,"HYP301"]
[" ","HYP302"," "," "," "," ",null,null,null,null,null,null,null,"HYP302"]
[" ","HYP303"," "," "," "," ",null,null,null,null,null,null,null,"HYP303"]
[" ","HYP304"," "," "," "," ",null,null,null,null,null,null,null,"HYP304"]
[" ","HYP401"," "," "," "," ",null,null,null,null,null,null,null,"HYP401"]
[" ","HYP402"," "," "," "," ",null,null,null,null,null,null,null,"HYP402"]
[" ","HYP403"," "," "," "," ",null,null,null,null,null,null,null,"HYP403"]
[" ","HYP404"," "," "," "," ",null,null,null,null,null,null,null,"HYP404"]
[" ","HYP501"," "," "," "," ",null,null,null,null,null,null,null,"HYP501"]
[" ","HYP502"," "," "," "," ",null,null,null,null,null,null,null,"HYP502"]
[" ","HYP503"," "," "," "," ",null,null,null,null,null,null,null,"HYP503"]
[" ","HYP504"," "," "," "," ",null,null,null,null,null,null,null,"HYP504"]
[" ","HYP505"," "," "," "," ",null,null,null,null,null,null,null,"HYP505"]
[" ","HYP601"," "," "," "," ",null,null,null,null,null,null,null,"HYP601"]
[" ","HYP602"," "," "," "," ",null,null,null,null,null,null,null,"HYP602"]
[" ","HYP603"," "," "," "," ",null,null,null,null,null,null,null,"HYP603"]
[" ","HYP604"," "," "," "," ",null,null,null,null,null,null,null,"HYP604"]
[" ","HYP605"," "," "," "," ",null,null,null,null,null,null,null,"HYP605"]
[" ","HYP606"," "," "," "," ",null,null,null,null,null,null,null,"HYP606"]
[" ","HYP607"," "," "," "," ",null,null,null,null,null,null,null,"HYP607"]
[" ","HYP608"," "," "," "," ",null,null,null,null,null,null,null,"HYP608"]
[" ","HYP609"," "," "," "," ",null,null,null,null,null,null,null,"HYP609"]
[" ","HYP701"," "," "," "," ",null,null,null,null,null,null,null,"HYP701"]
[" ","HYP702"," "," "," "," ",null,null,null,null,null,null,null,"HYP702"]
[" ","HYP801"," "," "," "," ",null,null,null,null,null,null,null,"HYP801"]
[" ","HYP802"," "," "," "," ",null,null,null,null,null,null,null,"HYP802"]
[" ",{"$f":"N64","v":"HYP803"}," "," "," "," ",null,null,null,null,null,null,null,"HYP803"]
[" ","HYP804"," "," "," "," ",null,null,null,null,null,null,null,"HYP804"]
[" ","HYP201"," "," "," "," ",null,null,null,null,null,null,null,"HYP201"]
[" ","HYP202"," "," "," "," ",null,null,null,null,null,null,null,"HYP202"]
[" ","HYP203"," "," "," "," ",null,null,null,null,null,null,null,"HYP203"]
[" ","HYP204"," "," "," "," ",null,null,null,null,null,null,null,"HYP204"]
[" ","HYP301"," "," "," "," ",null,null,null,null,null,null,null,"HYP301"]
[" ","HYP302"," "," "," "," ",null,null,null,null,null,null,null,"HYP302"]
[" ","HYP303"," "," "," "," ",null,null,null,null,null,null,null,"HYP303"]
[" ","HYP304"," "," "," "," ",null,null,null,null,null,null,null,"HYP304"]
[" ","HYP401"," "," "," "," ",null,null,null,null,null,null,null,"HYP401"]
[" ","HYP402"," "," "," "," ",null,null,null,null,null,null,null,"HYP402"]
[" ","HYP403"," "," "," "," ",null,null,null,null,null,null,null,"HYP403"]
[" ","HYP404"," "," "," "," ",null,null,null,null,null,null,null,"HYP404"]
[" ","HYP501"," "," "," "," ",null,null,null,null,null,null,null,"HYP501"]
[" ","HYP502"," "," "," "," ",null,null,null,null,null,null,null,"HYP502"]
[" ","HYP503"," "," "," "," ",null,null,null,null,null,null,null,"HYP503"]
[" ","HYP504"," "," "," "," ",null,null,null,null,null,null,null,"HYP504"]
[" ","HYP505"," "," "," "," ",null,null,null,null,null,null,null,"HYP505"]
[" ","HYP601"," "," "," "," ",null,null,null,null,null,null,null,"HYP601"]
[" ","HYP602"," "," "," "," ",null,null,null,null,null,null,null,"HYP602"]
[" ","HYP603"," "," "," "," ",null,null,null,null,null,null,null,"HYP603"]
[" ","HYP604"," "," "," "," ",null,null,null,null,null,null,null,"HYP604"]
[" ","HYP605"," "," "," "," ",null,null,null,null,null,null,null,"HYP605"]
[" ","HYP606"," "," "," "," ",null,null,null,null,null,null,null,"HYP606"]
[" ","HYP607"," "," "," "," ",null,null,null,null,null,null,null,"HYP607"]
[" ","HYP608"," "," "," "," ",null,null,null,null,null,null,null,"HYP608"]
[" ","HYP609"," "," "," "," ",null,null,null,null,null,null,null,"HYP609"]
[" ","HYP701"," "," "," "," ",null,null,null,null,null,null,null,"HYP701"]
[" ","HYP702"," "," "," "," ",null,null,null,null,null,null,null,"HYP702"]
[" ","HYP801"," "," "," "," ",null,null,null,null,null,null,null,"HYP801"]
[" ","HYP802"," "," "," "," ",null,null,null,null,null,null,null,"HYP802"]
[" ","HYP803"," "," "," "," ",null,null,null,null,null,null,null,"HYP803"]
[" ","HYP804"," "," "," "," ",null,null,null,null,null,null,null,"HYP804"]
[" ","HYP201"," "," "," "," ",null,null,null,null,null,null,null,"HYP201"]
[" ","HYP202"," "," "," "," ",null,null,null,null,null,null,null,"HYP202"]
[" ","HYP203"," "," "," "," ",null,null,null,null,null,null,null,"HYP203"]
[" ","HYP204"," "," "," "," ",null,null,null,null,null,null,null,"HYP204"]
[" ","HYP301"," "," "," "," ",null,null,null,null,null,null,null,"HYP301"]
[" ","HYP302"," "," "," "," ",null,null,null,null,null,null,null,"HYP302"]
[" ","HYP303"," "," "," "," ",null,null,null,null,null,null,null,"HYP303"]
[" ","HYP304"," "," "," "," ",null,null,null,null,null,null,null,"HYP304"]
[" ","HYP401"," "," "," "," ",null,null,null,null,null,null,null,"HYP401"]
[" ","HYP402"," "," "," "," ",null,null,null,null,null,null,null,"HYP402"]
[" ","HYP403"," "," "," "," ",null,null,null,null,null,null,null,"HYP403"]
[" ","HYP404"," "," "," "," ",null,null,null,null,null,null,null,"HYP404"]
[" ","HYP501"," "," "," "," ",null,null,null,null,null,null,null,"HYP501"]
[" ","HYP502"," "," "," "," ",null,null,null,null,null,null,null,"HYP502"]
[" ","HYP503"," "," "," "," ",null,null,null,null,null,null,null,"HYP503"]
[" ","HYP504"," "," "," "," ",null,null,null,null,null,null,null,"HYP504"]
[" ","HYP505"," "," "," "," ",null,null,null,null,null,null,null,"HYP505"]
[" ","HYP601"," "," "," "," ",null,null,null,null,null,null,null,"HYP601"]
[" ","HYP602"," "," "," "," ",null,null,null,null,null,null,null,"HYP602"]
[" ","HYP603"," "," "," "," ",null,null,null,null,null,null,null,"HYP603"]
[" ","HYP604"," "," "," "," ",null,null,null,null,null,null,null,"HYP604"]
[" ","HYP605"," "," "," "," ",null,null,null,null,null,null,null,"HYP605"]
[" ","HYP606"," "," "," "," ",null,null,null,null,null,null,null,"HYP606"]
[" ","HYP607"," "," "," "," ",null,null,null,null,null,null,null,"HYP607"]
[" ",{"$f":"N122","v":"HYP608"}," "," "," "," ",null,null,null,null,null,null,null,"HYP608"]
[" ","HYP609"," "," "," "," ",null,null,null,null,null,null,null,"HYP609"]
[" ","HYP701"," "," "," "," ",null,null,null,null,null,null,null,"HYP701"]
[" ","HYP702"," "," "," "," ",null,null,null,null,null,null,null,"HYP702"]
[" ","HYP801"," "," "," "," ",null,null,null,null,null,null,null,"HYP801"]
[" ","HYP802"," "," "," "," ",null,null,null,null,null,null,null,"HYP802"]
[" ","HYP803"," "," "," "," ",null,null,null,null,null,null,null,"HYP803"]
[" ","HYP804"," "," "," "," ",null,null,null,null,null,null,null,"HYP804"]
[" ","HYP201"," "," "," "," ",null,null,null,null,null,null,null,"HYP201"]
[" ","HYP202"," "," "," "," ",null,null,null,null,null,null,null,"HYP202"]
[" ","HYP203"," "," "," "," ",null,null,null,null,null,null,null,"HYP203"]
[" ","HYP204"," "," "," "," ",null,null,null,null,null,null,null,"HYP204"]
[" ","HYP301"," "," "," "," ",null,null,null,null,null,null,null,"HYP301"]
[" ","HYP302"," "," "," "," ",null,null,null,null,null,null,null,"HYP302"]
[" ","HYP303"," "," "," "," ",null,null,null,null,null,null,null,"HYP303"]
[" ","HYP304"," "," "," "," ",null,null,null,null,null,null,null,"HYP304"]
[" ","HYP401"," "," "," "," ",null,null,null,null,null,null,null,"HYP401"]
[" ","HYP402"," "," "," "," ",null,null,null,null,null,null,null,"HYP402"]
[" ","HYP403"," "," "," "," ",null,null,null,null,null,null,null,"HYP403"]
[" ","HYP404"," "," "," "," ",null,null,null,null,null,null,null,"HYP404"]
[" ","HYP501"," "," "," "," ",null,null,null,null,null,null,null,"HYP501"]
[" ","HYP502"," "," "," "," ",null,null,null,null,null,null,null,"HYP502"]
[" ","HYP503"," "," "," "," ",null,null,null,null,null,null,null,"HYP503"]
[" ","HYP504"," "," "," "," ",null,null,null,null,null,null,null,"HYP504"]
[" ","HYP505"," "," "," "," ",null,null,null,null,null,null,null,"HYP505"]
[" ","HYP601"," "," "," "," ",null,null,null,null,null,null,null,"HYP601"]
[" ","HYP602"," "," "," "," ",null,null,null,null,null,null,null,"HYP602"]
[" ","HYP603"," "," "," "," ",null,null,null,null,null,null,null,"HYP603"]
[" ","HYP604"," "," "," "," ",null,null,null,null,null,null,null,"HYP604"]
[" ","HYP605"," "," "," "," ",null,null,null,null,null,null,null,"HYP605"]
[" ","HYP606"," "," "," "," ",null,null,null,null,null,null,null,"HYP606"]
[" ","HYP607"," "," "," "," ",null,null,null,null,null,null,null,"HYP607"]
[" ","HYP608"," "," "," "," ",null,null,null,null,null,null,null,"HYP608"]
[" ","HYP609"," "," "," "," ",null,null,null,null,null,null,null,"HYP609"]
[" ","HYP701"," "," "," "," ",null,null,null,null,null,null,null,"HYP701"]
[" ","HYP702"," "," "," "," ",null,null,null,null,null,null,null,"HYP702"]
[" ","HYP801"," "," "," "," ",null,null,null,null,null,null,null,"HYP801"]
[" ","HYP802"," "," "," "," ",null,null,null,null,null,null,null,"HYP802"]
[" ","HYP803"," "," "," "," ",null,null,null,null,null,null,null,"HYP803"]
[" ","HYP804"," "," "," "," ",null,null,null,null,null,null,null,"HYP804"]
[" ","HYP201"," "," "," "," ",null,null,null,null,null,null,null,"HYP201"]
[" ","HYP202"," "," "," "," ",null,null,null,null,null,null,null,"HYP202"]
[" ","HYP203"," "," "," "," ",null,null,null,null,null,null,null,"HYP203"]
[" ","HYP204"," "," "," "," ",null,null,null,null,null,null,null,"HYP204"]
[" ","HYP301"," "," "," "," ",null,null,null,null,null,null,null,"HYP301"]
[" ","HYP302"," "," "," "," ",null,null,null,null,null,null,null,"HYP302"]
[" ","HYP303"," "," "," "," ",null,null,null,null,null,null,null,"HYP303"]
[" ","HYP304"," "," "," "," ",null,null,null,null,null,null,null,"HYP304"]
[" ","HYP401"," "," "," "," ",null,null,null,null,null,null,null,"HYP401"]
[" ","HYP402"," "," "," "," ",null,null,null,null,null,null,null,"HYP402"]
[" ","HYP403"," "," "," "," ",null,null,null,null,null,null,null,"HYP403"]
[" ","HYP404"," "," "," "," ",null,null,null,null,null,null,null,"HYP404"]
[" ","HYP501"," "," "," "," ",null,null,null,null,null,null,null,"HYP501"]
[" ","HYP502"," "," "," "," ",null,null,null,null,null,null,null,"HYP502"]
[" ","HYP503"," "," "," "," ",null,null,null,null,null,null,null,"HYP503"]
[" ","HYP504"," "," "," "," ",null,null,null,null,null,null,null,"HYP504"]
[" ","HYP505"," "," "," "," ",null,null,null,null,null,null,null,"HYP505"]
[" ","HYP601"," "," "," "," ",null,null,null,null,null,null,null,"HYP601"]
[" ",{"$f":"N180","v":"HYP602"}," "," "," "," ",null,null,null,null,null,null,null,"HYP602"]
[" ","HYP603"," "," "," "," ",null,null,null,null,null,null,null,"HYP603"]
[" ","HYP604"," "," "," "," ",null,null,null,null,null,null,null,"HYP604"]
[" ","HYP605"," "," "," "," ",null,null,null,null,null,null,null,"HYP605"]
[" ","HYP606"," "," "," "," ",null,null,null,null,null,null,null,"HYP606"]
[" ","HYP607"," "," "," "," ",null,null,null,null,null,null,null,"HYP607"]
[" ","HYP608"," "," "," "," ",null,null,null,null,null,null,null,"HYP608"]
[" ","HYP609"," "," "," "," ",null,null,null,null,null,null,null,"HYP609"]
[" ","HYP701"," "," "," "," ",null,null,null,null,null,null,null,"HYP701"]
[" ","HYP702"," "," "," "," ",null,null,null,null,null,null,null,"HYP702"]
[" ","HYP801"," "," "," "," ",null,null,null,null,null,null,null,"HYP801"]
[" ","HYP802"," "," "," "," ",null,null,null,null,null,null,null,"HYP802"]
[" ","HYP803"," "," "," "," ",null,null,null,null,null,null,null,"HYP803"]
[" ","HYP804"," "," "," "," ",null,null,null,null,null,null,null,"HYP804"]
[" ","HYP201"," "," "," "," ",null,null,null,null,null,null,null,"HYP201"]
[" ","HYP202"," "," "," "," ",null,null,null,null,null,null,null,"HYP202"]
[" ","HYP203"," "," "," "," ",null,null,null,null,null,null,null,"HYP203"]
[" ","HYP204"," "," "," "," ",null,null,null,null,null,null,null,"HYP204"]
[" ","HYP301"," "," "," "," ",null,null,null,null,null,null,null,"HYP301"]
[" ","HYP302"," "," "," "," ",null,null,null,null,null,null,null,"HYP302"]
[" ","HYP303"," "," "," "," ",null,null,null,null,null,null,null,"HYP303"]
[" ","HYP304"," "," "," "," ",null,null,null,null,null,null,null,"HYP304"]
[" ","HYP401"," "," "," "," ",null,null,null,null,null,null,null,"HYP401"]
[" ","HYP402"," "," "," "," ",null,null,null,null,null,null,null,"HYP402"]
[" ","HYP403"," "," "," "," ",null,null,null,null,null,null,null,"HYP403"]
[" ","HYP404"," "," "," "," ",null,null,null,null,null,null,null,"HYP404"]
[" ","HYP501"," "," "," "," ",null,null,null,null,null,null,null,"HYP501"]
[" ","HYP502"," "," "," "," ",null,null,null,null,null,null,null,"HYP502"]
[" ","HYP503"," "," "," "," ",null,null,null,null,null,null,null,"HYP503"]
[" ","HYP504"," "," "," "," ",null,null,null,null,null,null,null,"HYP504"]
[" ","HYP505"," "," "," "," ",null,null,null,null,null,null,null,"HYP505"]
[" ","HYP601"," "," "," "," ",null,null,null,null,null,null,null,"HYP601"]
[" ","HYP602"," "," "," "," ",null,null,null,null,null,null,null,"HYP602"]
[" ","HYP603"," "," "," "," ",null,null,null,null,null,null,null,"HYP603"]
[" ","HYP604"," "," "," "," ",null,null,null,null,null,null,null,"HYP604"]
[" ","HYP605"," "," "," "," ",null,null,null,null,null,null,null,"HYP605"]
[" ","HYP606"," "," "," "," ",null,null,null,null,null,null,null,"HYP606"]
[" ","HYP607"," "," "," "," ",null,null,null,null,null,null,null,"HYP607"]
[" ","HYP608"," "," "," "," ",null,null,null,null,null,null,null,"HYP608"]
[" ","HYP609"," "," "," "," ",null,null,null,null,null,null,null,"HYP609"]
[" ","HYP701"," "," "," "," ",null,null,null,null,null,null,null,"HYP701"]
[" ","HYP702"," "," "," "," ",null,null,null,null,null,null,null,"HYP702"]
[" ","HYP801"," "," "," "," ",null,null,null,null,null,null,null,"HYP801"]
[" ","HYP802"," "," "," "," ",null,null,null,null,null,null,null,"HYP802"]
[" ","HYP803"," "," "," "," ",null,null,null,null,null,null,null,"HYP803"]
[" ","HYP804"," "," "," "," ",null,null,null,null,null,null,null,"HYP804"]
[" ","HYP201"," "," "," "," ",null,null,null,null,null,null,null,"HYP201"]
[" ","HYP202"," "," "," "," ",null,null,null,null,null,null,null,"HYP202"]
[" ","HYP203"," "," "," "," ",null,null,null,null,null,null,null,"HYP203"]
[" ","HYP204"," "," "," "," ",null,null,null,null,null,null,null,"HYP204"]
[" ","HYP301"," "," "," "," ",null,null,null,null,null,null,null,"HYP301"]
[" ","HYP302"," "," "," "," ",null,null,null,null,null,null,null,"HYP302"]
[" ","HYP303"," "," "," "," ",null,null,null,null,null,null,null,"HYP303"]
[" ","HYP304"," "," "," "," ",null,null,null,null,null,null,null,"HYP304"]
[" ","HYP401"," "," "," "," ",null,null,null,null,null,null,null,"HYP401"]
[" ","HYP402"," "," "," "," ",null,null,null,null,null,null,null,"HYP402"]
[" ","HYP403"," "," "," "," ",null,null,null,null,null,null,null,"HYP403"]
[" ","HYP404"," "," "," "," ",null,null,null,null,null,null,null,"HYP404"]
[" ",{"$f":"N238","v":"HYP501"}," "," "," "," ",null,null,null,null,null,null,null,"HYP501"]
[" ","HYP502"," "," "," "," ",null,null,null,null,null,null,null,"HYP502"]
[" ","HYP503"," "," "," "," ",null,null,null,null,null,null,null,"HYP503"]
[" ","HYP504"," "," "," "," ",null,null,null,null,null,null,null,"HYP504"]
[" ","HYP505"," "," "," "," ",null,null,null,null,null,null,null,"HYP505"]
[" ","HYP601"," "," "," "," ",null,null,null,null,null,null,null,"HYP601"]
[" ","HYP602"," "," "," "," ",null,null,null,null,null,null,null,"HYP602"]
[" ","HYP603"," "," "," "," ",null,null,null,null,null,null,null,"HYP603"]
[" ","HYP604"," "," "," "," ",null,null,null,null,null,null,null,"HYP604"]
[" ","HYP605"," "," "," "," ",null,null,null,null,null,null,null,"HYP605"]
[" ","HYP606"," "," "," "," ",null,null,null,null,null,null,null,"HYP606"]
[" ","HYP607"," "," "," "," ",null,null,null,null,null,null,null,"HYP607"]
[" ","HYP608"," "," "," "," ",null,null,null,null,null,null,null,"HYP608"]
[" ","HYP609"," "," "," "," ",null,null,null,null,null,null,null,"HYP609"]
[" ","HYP701"," "," "," "," ",null,null,null,null,null,null,null,"HYP701"]
[" ","HYP702"," "," "," "," ",null,null,null,null,null,null,null,"HYP702"]
[" ","HYP801"," "," "," "," ",null,null,null,null,null,null,null,"HYP801"]
[" ","HYP802"," "," "," "," ",null,null,null,null,null,null,null,"HYP802"]
[" ","HYP803"," "," "," "," ",null,null,null,null,null,null,null,"HYP803"]
[" ","HYP804"," "," "," "," ",null,null,null,null,null,null,null,"HYP804"]
[" ","HYP201"," "," "," "," ",null,null,null,null,null,null,null,"HYP201"]
[" ","HYP202"," "," "," "," ",null,null,null,null,null,null,null,"HYP202"]
[" ","HYP203"," "," "," "," ",null,null,null,null,null,null,null,"HYP203"]
[" ","HYP204"," "," "," "," ",null,null,null,null,null,null,null,"HYP204"]
[" ","HYP301"," "," "," "," ",null,null,null,null,null,null,null,"HYP301"]
[" ","HYP302"," "," "," "," ",null,null,null,null,null,null,null,"HYP302"]
[" ","HYP303"," "," "," "," ",null,null,null,null,null,null,null,"HYP303"]
[" ","HYP304"," "," "," "," ",null,null,null,null,null,null,null,"HYP304"]
[" ","HYP401"," "," "," "," ",null,null,null,null,null,null,null,"HYP401"]
[" ","HYP402"," "," "," "," ",null,null,null,null,null,null,null,"HYP402"]
[" ","HYP403"," "," "," "," ",null,null,null,null,null,null,null,"HYP403"]
[" ","HYP404"," "," "," "," ",null,null,null,null,null,null,null,"HYP404"]
[" ","HYP501"," "," "," "," ",null,null,null,null,null,null,null,"HYP501"]
[" ","HYP502"," "," "," "," ",null,null,null,null,null,null,null,"HYP502"]
[" ","HYP503"," "," "," "," ",null,null,null,null,null,null,null,"HYP503"]
[" ","HYP504"," "," "," "," ",null,null,null,null,null,null,null,"HYP504"]
[" ","HYP505"," "," "," "," ",null,null,null,null,null,null,null,"HYP505"]
[" ","HYP601"," "," "," "," ",null,null,null,null,null,null,null,"HYP601"]
[" ","HYP602"," "," "," "," ",null,null,null,null,null,null,null,"HYP602"]
[" ","HYP603"," "," "," "," ",null,null,null,null,null,null,null,"HYP603"]
[" ","HYP604"," "," "," "," ",null,null,null,null,null,null,null,"HYP604"]
[" ","HYP605"," "," "," "," ",null,null,null,null,null,null,null,"HYP605"]
[" ","HYP606"," "," "," "," ",null,null,null,null,null,null,null,"HYP606"]
[" ","HYP607"," "," "," "," ",null,null,null,null,null,null,null,"HYP607"]
[" ","HYP608"," "," "," "," ",null,null,null,null,null,null,null,"HYP608"]
[" ","HYP609"," "," "," "," ",null,null,null,null,null,null,null,"HYP609"]
[" ","HYP701"," "," "," "," ",null,null,null,null,null,null,null,"HYP701"]
[" ","HYP702"," "," "," "," ",null,null,null,null,null,null,null,"HYP702"]
[" ","HYP801"," "," "," "," ",null,null,null,null,null,null,null,"HYP801"]
[" ","HYP802"," "," "," "," ",null,null,null,null,null,null,null,"HYP802"]
[" ","HYP803"," "," "," "," ",null,null,null,null,null,null,null,"HYP803"]
[" ","HYP804"," "," "," "," ",null,null,null,null,null,null,null,"HYP804"]
[" ","HYP201"," "," "," "," ",null,null,null,null,null,null,null,"HYP201"]
[" ","HYP202"," "," "," "," ",null,null,null,null,null,null,null,"HYP202"]
[" ","HYP203"," "," "," "," ",null,null,null,null,null,null,null,"HYP203"]
[" ","HYP204"," "," "," "," ",null,null,null,null,null,null,null,"HYP204"]
[" ","HYP301"," "," "," "," ",null,null,null,null,null,null,null,"HYP301"]
[" ","HYP302"," "," "," "," ",null,null,null,null,null,null,null,"HYP302"]
[" ",{"$f":"N296","v":"HYP303"}," "," "," "," ",null,null,null,null,null,null,null,"HYP303"]
[" ","HYP304"," "," "," "," ",null,null,null,null,null,null,null,"HYP304"]
[" ","HYP401"," "," "," "," ",null,null,null,null,null,null,null,"HYP401"]
[" ","HYP402"," "," "," "," ",null,null,null,null,null,null,null,"HYP402"]
[" ","HYP403"," "," "," "," ",null,null,null,null,null,null,null,"HYP403"]
[" ","HYP404"," "," "," "," ",null,null,null,null,null,null,null,"HYP404"]
[" ","HYP501"," "," "," "," ",null,null,null,null,null,null,null,"HYP501"]
[" ","HYP502"," "," "," "," ",null,null,null,null,null,null,null,"HYP502"]
[" ","HYP503"," "," "," "," ",null,null,null,null,null,null,null,"HYP503"]
[" ","HYP504"," "," "," "," ",null,null,null,null,null,null,null,"HYP504"]
[" ","HYP505"," "," "," "," ",null,null,null,null,null,null,null,"HYP505"]
[" ","HYP601"," "," "," "," ",null,null,null,null,null,null,null,"HYP601"]
[" ","HYP602"," "," "," "," ",null,null,null,null,null,null,null,"HYP602"]
[" ","HYP603"," "," "," "," ",null,null,null,null,null,null,null,"HYP603"]
[" ","HYP604"," "," "," "," ",null,null,null,null,null,null,null,"HYP604"]
[" ","HYP605"," "," "," "," ",null,null,null,null,null,null,null,"HYP605"]
[" ","HYP606"," "," "," "," ",null,null,null,null,null,null,null,"HYP606"]
[" ","HYP607"," "," "," "," ",null,null,null,null,null,null,null,"HYP607"]
[" ","HYP608"," "," "," "," ",null,null,null,null,null,null,null,"HYP608"]
[" ","HYP609"," "," "," "," ",null,null,null,null,null,null,null,"HYP609"]
[" ","HYP701"," "," "," "," ",null,null,null,null,null,null,null,"HYP701"]
[" ","HYP702"," "," "," "," ",null,null,null,null,null,null,null,"HYP702"]
[" ","HYP801"," "," "," "," ",null,null,null,null,null,null,null,"HYP801"]
[" ","HYP802"," "," "," "," ",null,null,null,null,null,null,null,"HYP802"]
[" ","HYP803"," "," "," "," ",null,null,null,null,null,null,null,"HYP803"]
[" ","HYP804"," "," "," "," ",null,null,null,null,null,null,null,"HYP804"]
[" ","HYP201"," "," "," "," ",null,null,null,null,null,null,null,"HYP201"]
[" ","HYP202"," "," "," "," ",null,null,null,null,null,null,null,"HYP202"]
[" ","HYP203"," "," "," "," ",null,null,null,null,null,null,null,"HYP203"]
[" ","HYP204"," "," "," "," ",null,null,null,null,null,null,null,"HYP204"]
[" ","HYP301"," "," "," "," ",null,null,null,null,null,null,null,"HYP301"]
[" ","HYP302"," "," "," "," ",null,null,null,null,null,null,null,"HYP302"]
[" ","HYP303"," "," "," "," ",null,null,null,null,null,null,null,"HYP303"]
[" ","HYP304"," "," "," "," ",null,null,null,null,null,null,null,"HYP304"]
[" ","HYP401"," "," "," "," ",null,null,null,null,null,null,null,"HYP401"]
[" ","HYP402"," "," "," "," ",null,null,null,null,null,null,null,"HYP402"]
[" ","HYP403"," "," "," "," ",null,null,null,null,null,null,null,"HYP403"]
[" ","HYP404"," "," "," "," ",null,null,null,null,null,null,null,"HYP404"]
[" ","HYP501"," "," "," "," ",null,null,null,null,null,null,null,"HYP501"]
[" ","HYP502"," "," "," "," ",null,null,null,null,null,null,null,"HYP502"]
[" ","HYP503"," "," "," "," ",null,null,null,null,null,null,null,"HYP503"]
[" ","HYP504"," "," "," "," ",null,null,null,null,null,null,null,"HYP504"]
[" ","HYP505"," "," "," "," ",null,null,null,null,null,null,null,"HYP505"]
[" ","HYP601"," "," "," "," ",null,null,null,null,null,null,null,"HYP601"]
[" ","HYP602"," "," "," "," ",null,null,null,null,null,null,null,"HYP602"]
[" ","HYP603"," "," "," "," ",null,null,null,null,null,null,null,"HYP603"]
[" ","HYP604"," "," "," "," ",null,null,null,null,null,null,null,"HYP604"]
[" ","HYP605"," "," "," "," ",null,null,null,null,null,null,null,"HYP605"]
[" ","HYP606"," "," "," "," ",null,null,null,null,null,null,null,"HYP606"]
[" ","HYP607"," "," "," "," ",null,null,null,null,null,null,null,"HYP607"]
[" ","HYP608"," "," "," "," ",null,null,null,null,null,null,null,"HYP608"]
[" ","HYP609"," "," "," "," ",null,null,null,null,null,null,null,"HYP609"]
[" ","HYP701"," "," "," "," ",null,null,null,null,null,null,null,"HYP701"]
[" ","HYP702"," "," "," "," ",null,null,null,null,null,null,null,"HYP702"]
[" ","HYP801"," "," "," "," ",null,null,null,null,null,null,null,"HYP801"]
[" ","HYP802"," "," "," "," ",null,null,null,null,null,null,null,"HYP802"]
[" ","HYP803"," "," "," "," ",null,null,null,null,null,null,null,"HYP803"]
[" ","HYP804"," "," "," "," ",null,null,null,null,null,null,null,"HYP804"]
[" ",{"$f":"N354","v":"HYP201"}," "," "," "," ",null,null,null,null,null,null,null,"HYP201"]
[" ","HYP202"," "," "," "," ",null,null,null,null,null,null,null,"HYP202"]
[" ","HYP203"," "," "," "," ",null,null,null,null,null,null,null,"HYP203"]
[" ","HYP204"," "," "," "," ",null,null,null,null,null,null,null,"HYP204"]
[" ","HYP301"," "," "," "," ",null,null,null,null,null,null,null,"HYP301"]
[" ","HYP302"," "," "," "," ",null,null,null,null,null,null,null,"HYP302"]
[" ","HYP303"," "," "," "," ",null,null,null,null,null,null,null,"HYP303"]
[" ","HYP304"," "," "," "," ",null,null,null,null,null,null,null,"HYP304"]
[" ","HYP401"," "," "," "," ",null,null,null,null,null,null,null,"HYP401"]
[" ","HYP402"," "," "," "," ",null,null,null,null,null,null,null,"HYP402"]
[" ","HYP403"," "," "," "," ",null,null,null,null,null,null,null,"HYP403"]
[" ","HYP404"," "," "," "," ",null,null,null,null,null,null,null,"HYP404"]
[" ","HYP501"," "," "," "," ",null,null,null,null,null,null,null,"HYP501"]
[" ","HYP502"," "," "," "," ",null,null,null,null,null,null,null,"HYP502"]
[" ","HYP503"," "," "," "," ",null,null,null,null,null,null,null,"HYP503"]
[" ","HYP504"," "," "," "," ",null,null,null,null,null,null,null,"HYP504"]
[" ","HYP505"," "," "," "," ",null,null,null,null,null,null,null,"HYP505"]
[" ","HYP601"," "," "," "," ",null,null,null,null,null,null,null,"HYP601"]
[" ","HYP602"," "," "," "," ",null,null,null,null,null,null,null,"HYP602"]
[" ","HYP603"," "," "," "," ",null,null,null,null,null,null,null,"HYP603"]
[" ","HYP604"," "," "," "," ",null,null,null,null,null,null,null,"HYP604"]
[" ","HYP605"," "," "," "," ",null,null,null,null,null,null,null,"HYP605"]
[" ","HYP606"," "," "," "," ",null,null,null,null,null,null,null,"HYP606"]
[" ","HYP607"," "," "," "," ",null,null,null,null,null,null,null,"HYP607"]
[" ","HYP608"," "," "," "," ",null,null,null,null,null,null,null,"HYP608"]
[" ","HYP609"," "," "," "," ",null,null,null,null,null,null,null,"HYP609"]
[" ","HYP701"," "," "," "," ",null,null,null,null,null,null,null,"HYP701"]
[" ","HYP702"," "," "," "," ",null,null,null,null,null,null,null,"HYP702"]
[" ","HYP801"," "," "," "," ",null,null,null,null,null,null,null,"HYP801"]
[" ","HYP802"," "," "," "," ",null,null,null,null,null,null,null,"HYP802"]
[" ","HYP803"," "," "," "," ",null,null,null,null,null,null,null,"HYP803"]
[" ","HYP804"," "," "," "," ",null,null,null,null,null,null,null,"HYP804"]
[]
[]
[]
[]
[]
[]
[]
[]
[]
[]
[]
[]
[]
[]
[]
[null,null,null,null,null," "]
[null,null,null,null,null," "]
[null,null,null,null,null," "]
[null,null,null,null,null," "]
[null,null,null,null,null," "]
[null,null,null,null,null," "]
[null,null,null,null,null," "]
[null,null,null,null,null," "]
[null,null,null,null,null," "]
[null,null,null,null,null," "]
[null,null,null,null,null," "]
[null,null,null,null,null," "]
[null,null,null,null,null," "]
[null,null,null,null,null," "]
[null,null,null,null,null," "]
[null,null,null,null,null," "]
[null,null,null,null,null," "]
[null,null,null,null,null," "]
[null,null,null,null,null," "]
[null,null,null,null,null," "]
[null,null,null,null,null," "]
[null,null,null,null,null," "]
[null,null,null,null,null," "]
[null,null,null,null,null," "]
[null,null,null,null,null," "]
[null,null,null,null,null," "]
[null,null,null,null,null," "]
[null,null,null,null,null," "]
[null,null,null,null,null," "]
[null,null,null,null,null," "]
[null,null,null,null,null," "]
[null,null,null,null,null," "]
[null,null,null,null,null," "]
[null,null,null,null,null," "]
[null,null,null,null,null," "]
[null,null,null,null,null," "]
[null,null,null,null,null," "]
[null,null,null,null,null," "]
[null,null,null,null,null," "]
[null,null,null,null,null," "]
[null,null,null,null,null," "]
[null,null,null,null,null," "]
[null,null,null,null,null," "]
[null,null,null,null,null," "]
[null,null,null,null,null," "]
[null,null,null,null,null," "]
[null,null,null,null,null," "]
[null,null,null,null,null," "]
[null,null,null,null,null," "]
[null,null,null,null,null," "]
[null,null,null,null,null," "]
[null,null,null,null,null," "]
[null,null,null,null,null," "]
[null,null,null,null,null," "]
[null,null,null,null,null," "]
[null,null,null,null,null," "]
[null,null,null,null,null," "]
[null,null,null,null,null," "]
[null,null,null,null,null," "]
[null,null,null,null,null," "]
[null,null,null,null,null," "]
[null,null,null,null,null," "]
[null,null,null,null,null," "]
[null,null,null,null,null," "]
[null,null,null,null,null," "]
[null,null,null,null,null," "]
[null,null,null,null,null," "]
[null,null,null,null,null," "]
[null,null,null,null,null," "]
[null,null,null,null,null," "]
[null,null,null,null,null," "]
[null,null,null,null,null," "]
[null,null,null,null,null," "]
[null,null,null,null,null," "]
[null,null,null,null,null," "]
[null,null,null,null,null," "]
[null,null,null,null,null," "]
[null,null,null,null,null," "]
[null,null,null,null,null," "]
[null,null,null,null,null," "]
[null,null,null,null,null," "]
[null,null,null,null,null," "]
[null,null,null,null,null," "]
[null,null,null,null,null," "]
[null,null,null,null,null," "]
[null,null,null,null,null," "]
[null,null,null,null,null," "]
[null,null,null,null,null," "]
[null,null,null,null,null," "]
[null,null,null,null,null," "]
[null,null,null,null,null," "]
[null,null,null,null,null," "]
[null,null,null,null,null," "]
[null,null,null,null,null," "]
[null,null,null,null,null," "]
[null,null,null,null,null," "]
[null,null,null,null,null," "]
[null,null,null,null,null," "]
[null,null,null,null,null," "]
[null,null,null,null,null," "]
[null,null,null,null,null," "]
[null,null,null,null,null," "]
[null,null,null,null,null," "]
[null,null,null,null,null," "]
[null,null,null,null,null," "]
[null,null,null,null,null," "]
[null,null,null,null,null," "]
[null,null,null,null,null," "]
[null,null,null,null,null," "]
[null,null,null,null,null," "]
[null,null,null,null,null," "]
[null,null,null,null,null," "]
[null,null,null,null,null," "]
[null,null,null,null,null," "]
[null,null,null,null,null," "]
[null,null,null,null,null," "]
[null,null,null,null,null," "]
[null,null,null,null,null," "]
[null,null,null,null,null," "]
[null,null,null,null,null," "]
[null,null,null,null,null," "]
[null,null,null,null,null," "]
[null,null,null,null,null," "]
[null,null,null,null,null," "]
[null,null,null,null,null," "]
[null,null,null,null,null," "]
[null,null,null,null,null," "]
[null,null,null,null,null," "]
[null,null,null,null,null," "]
[null,null,null,null,null," "]
[null,null,null,null,null," "]
[null,null,null,null,null," "]
[null,null,null,null,null," "]
[null,null,null,null,null," "]
[null,null,null,null,null," "]
[null,null,null,null,null," "]
[null,null,null,null,null," "]
[null,null,null,null,null," "]
[null,null,null,null,null," "]
[null,null,null,null,null," "]
[null,null,null,null,null," "]
[null,null,null,null,null," "]
[null,null,null,null,null," "]
[null,null,null,null,null," "]
[null,null,null,null,null," "]
[null,null,null,null,null," "]
[null,null,null,null,null," "]
[null,null,null,null,null," "]
[null,null,null,null,null," "]
[null,null,null,null,null," "]
[null,null,null,null,null," "]
[null,null,null,null,null," "]
[null,null,null,null,null," "]
[null,null,null,null,null," "]
[null,null,null,null,null," "]
[null,null,null,null,null," "]
[null,null,null,null,null," "]
[null,null,null,null,null," "]
[null,null,null,null,null," "]
[null,null,null,null,null," "]
[null,null,null,null,null," "]
[null,null,null,null,null," "]
[null,null,null,null,null," "]
[null,null,null,null,null," "]
[null,null,null,null,null," "]
[null,null,null,null,null," "]
[null,null,null,null,null," "]
[null,null,null,null,null," "]
[null,null,null,null,null," "]
[null,null,null,null,null," "]
[null,null,null,null,null," "]
[null,null,null,null,null," "]
[null,null,null,null,null," "]
[null,null,null,null,null," "]
[null,null,null,null,null," "]
[null,null,null,null,null," "]
[null,null,null,null,null," "]
[null,null,null,null,null," "]
[null,null,null,null,null," "]
[null,null,null,null,null," "]
[null,null,null,null,null," "]
[null,null,null,null,null," "]
[null,null,null,null,null," "]
[null,null,null,null,null," "]
[null,null,null,null,null," "]
[null,null,null,null,null," "]
[null,null,null,null,null," "]
[null,null,null,null,null," "]
[null,null,null,null,null," "]
[null,null,null,null,null," "]
[null,null,null,null,null," "]
[null,null,null,null,null," "]
[null,null,null,null,null," "]
[null,null,null,null,null," "]
[null,null,null,null,null," "]
[null,null,null,null,null," "]
[null,null,null,null,null," "]
[null,null,null,null,null," "]
[null,null,null,null,null," "]
[null,null,null,null,null," "]
[null,null,null,null,null," "]
[null,null,null,null,null," "]
[null,null,null,null,null," "]
[null,null,null,null,null," "]
[null,null,null,null,null," "]
[null,null,null,null,null," "]
[null,null,null,null,null," "]
[null,null,null,null,null," "]
[null,null,null,null,null," "]
[null,null,null,null,null," "]
[null,null,null,null,null," "]
[null,null,null,null,null," "]
[null,null,null,null,null," "]
[null,null,null,null,null," "]
[null,null,null,null,null," "]
[null,null,null,null,null," "]
[null,null,null,null,null," "]
[null,null,null,null,null," "]
[null,null,null,null,null," "]
[null,null,null,null,null," "]
[null,null,null,null,null," "]
[null,null,null,null,null," "]
[null,null,null,null,null," "]
[null,null,null,null,null," "]
[null,null,null,null,null," "]
[null,null,null,null,null," "]
[null,null,null,null,null," "]
[null,null,null,null,null," "]
[null,null,null,null,null," "]
[null,null,null,null,null," "]
[null,null,null,null,null," "]
[null,null,null,null,null," "]
[null,null,null,null,null," "]
[null,null,null,null,null," "]
[null,null,null,null,null," "]
[null,null,null,null,null," "]
[null,null,null,null,null," "]
[null,null,null,null,null," "]
[null,null,null,null,null," "]
[null,null,null,null,null," "]
[null,null,null,null,null," "]
[null,null,null,null,null," "]
[null,null,null,null,null," "]
[null,null,null,null,null," "]
[null,null,null,null,null," "]
[null,null,null,null,null," "]
[null,null,null,null,null," "]
[null,null,null,null,null," "]
[null,null,null,null,null," "]
[null,null,null,null,null," "]
[null,null,null,null,null," "]
[null,null,null,null,null," "]
[null,null,null,null,null," "]
[null,null,null,null,null," "]
[null,null,null,null,null," "]
[null,null,null,null,null," "]
[null,null,null,null,null," "]
[null,null,null,null,null," "]
[null,null,null,null,null," "]
[null,null,null,null,null," "]
[null,null,null,null,null," "]
[null,null,null,null,null," "]
[null,null,null,null,null," "]
[null,null,null,null,null," "]
[null,null,null,null,null," "]
[null,null,null,null,null," "]
[null,null,null,null,null," "]
[null,null,null,null,null," "]
[null,null,null,null,null," "]
[null,null,null,null,null," "]
[null,null,null,null,null," "]
[null,null,null,null,null," "]
[null,null,null,null,null," "]
[null,null,null,null,null," "]
[null,null,null,null,null," "]
[null,null,null,null,null," "]
[null,null,null,null,null," "]
[null,null,null,null,null," "]
[null,null,null,null,null," "]
[null,null,null,null,null," "]
[null,null,null,null,null," "]
[null,null,null,null,null," "]
[null,null,null,null,null," "]
[null,null,null,null,null," "]
[null,null,null,null,null," "]
[null,null,null,null,null," "]
[null,null,null,null,null," "]
[null,null,null,null,null," "]
[null,null,null,null,null," "]
[null,null,null,null,null," "]
[null,null,null,null,null," "]
[null,null,null,null,null," "]
[null,null,null,null,null," "]
[null,null,null,null,null," "]
[null,null,null,null,null," "]
[null,null,null,null,null," "]
[null,null,null,null,null," "]
[null,null,null,null,null," "]
[null,null,null,null,null," "]
[null,null,null,null,null," "]
[null,null,null,null,null," "]
[null,null,null,null,null," "]
[null,null,null,null,null," "]
[null,null,null,null,null," "]
[null,null,null,null,null," "]
[null,null,null,null,null," "]
[null,null,null,null,null," "]
[null,null,null,null,null," "]
[null,null,null,null,null," "]
[null,null,null,null,null," "]
[null,null,null,null,null," "]
[null,null,null,null,null," "]
[null,null,null,null,null," "]
[null,null,null,null,null," "]
[null,null,null,null,null," "]
[null,null,null,null,null," "]
[null,null,null,null,null," "]
[null,null,null,null,null," "]
[null,null,null,null,null," "]
[null,null,null,null,null," "]
[null,null,null,null,null," "]
[null,null,null,null,null," "]
[null,null,null,null,null," "]
[null,null,null,null,null," "]
[null,null,null,null,null," "]
[null,null,null,null,null," "]
[null,null,null,null,null," "]
[null,null,null,null,null," "]
[null,null,null,null,null," "]
[null,null,null,null,null," "]
[null,null,null,null,null," "]
[null,null,null,null,null," "]
[null,null,null,null,null," "]
[null,null,null,null,null," "]
[null,null,null,null,null," "]
[null,null,null,null,null," "]
[null,null,null,null,null," "]
[null,null,null,null,null," "]
[null,null,null,null,null," "]
[null,null,null,null,null," "]
[null,null,null,null,null," "]
[null,null,null,null,null," "]
[null,null,null,null,null," "]
[null,null,null,null,null," "]
[null,null,null,null,null," "]
[null,null,null,null,null," "]
[null,null,null,null,null," "]
[null,null,null,null,null," "]
[null,null,null,null,null," "]
[null,null,null,null,null," "]
[null,null,null,null,null," "]
[null,null,null,null,null," "]
[null,null,null,null,null," "]
[null,null,null,null,null," "]
[null,null,null,null,null," "]
[null,null,null,null,null," "]
[null,null,null,null,null," "]
[null,null,null,null,null," "]
[null,null,null,null,null," "]
[null,null,null,null,null," "]
[null,null,null,null,null," "]
[null,null,null,null,null," "]
[null,null,null,null,null," "]
[null,null,null,null,null," "]
[null,null,null,null,null," "]
[null,null,null,null,null," "]
[null,null,null,null,null," "]
[null,null,null,null,null," "]
[null,null,null,null,null," "]
[null,null,null,null,null," "]
[null,null,null,null,null," "]
[null,null,null,null,null," "]
[null,null,null,null,null," "]
[null,null,null,null,null," "]
[null,null,null,null,null," "]
[null,null,null,null,null," "]
[null,null,null,null,null," "]
[null,null,null,null,null," "]
[null,null,null,null,null," "]
[null,null,null,null,null," "]
[null,null,null,null,null," "]
[null,null,null,null,null," "]
[null,null,null,null,null," "]
[null,null,null,null,null," "]
[null,null,null,null,null," "]
[null,null,null,null,null," "]
[null,null,null,null,null," "]
[null,null,null,null,null," "]
[null,null,null,null,null," "]
[null,null,null,null,null," "]
[null,null,null,null,null," "]
[null,null,null,null,null," "]
[null,null,null,null,null," "]
[null,null,null,null,null," "]
[null,null,null,null,null," "]
[null,null,null,null,null," "]
[null,null,null,null,null," "]
[null,null,null,null,null," "]
[null,null,null,null,null," "]
[null,null,null,null,null," "]
[null,null,null,null,null," "]
[null,null,null,null,null," "]
[null,null,null,null,null," "]
[null,null,null,null,null," "]
[null,null,null,null,null," "]
[null,null,null,null,null," "]
[null,null,null,null,null," "]
[null,null,null,null,null," "]
[null,null,null,null,null," "]
[null,null,null,null,null," "]
[null,null,null,null,null," "]
[null,null,null,null,null," "]
[null,null,null,null,null," "]
[null,null,null,null,null," "]
[null,null,null,null,null," "]
[null,null,null,null,null," "]
[null,null,null,null,null," "]
[null,null,null,null,null," "]
[null,null,null,null,null," "]
[null,null,null,null,null," "]
[null,null,null,null,null," "]
[null,null,null,null,null," "]
[null,null,null,null,null," "]
[null,null,null,null,null," "]
[null,null,null,null,null," "]
[null,null,null,null,null," "]
[null,null,null,null,null," "]
[null,null,null,null,null," "]
[null,null,null,null,null," "]
[null,null,null,null,null," "]
[null,null,null,null,null," "]
[null,null,null,null,null," "]
[null,null,null,null,null," "]
[null,null,null,null,null," "]
[null,null,null,null,null," "]
[null,null,null,null,null," "]
[null,null,null,null,null," "]
[null,null,null,null,null," "]
[null,null,null,null,null," "]
[null,null,null,null,null," "]
[null,null,null,null,null," "]
[null,null,null,null,null," "]
[null,null,null,null,null," "]
[null,null,null,null,null," "]
[null,null,null,null,null," "]
[null,null,null,null,null," "]
[null,null,null,null,null," "]
[null,null,null,null,null," "]
[null,null,null,null,null," "]
[null,null,null,null,null," "]
[null,null,null,null,null," "]
[null,null,null,null,null," "]
[null,null,null,null,null," "]
[null,null,null,null,null," "]
[null,null,null,null,null," "]
[null,null,null,null,null," "]
[null,null,null,null,null," "]
[null,null,null,null,null," "]
[null,null,null,null,null," "]
[null,null,null,null,null," "]
[null,null,null,null,null," "]
[null,null,null,null,null," "]
[null,null,null,null,null," "]
[null,null,null,null,null," "]
[null,null,null,null,null," "]
[null,null,null,null,null," "]
[null,null,null,null,null," "]
[null,null,null,null,null," "]
[null,null,null,null,null," "]
[null,null,null,null,null," "]
[null,null,null,null,null," "]
[null,null,null,null,null," "]
[null,null,null,null,null," "]
[null,null,null,null,null," "]
[null,null,null,null,null," "]
[null,null,null,null,null," "]
[null,null,null,null,null," "]
[null,null,null,null,null," "]
[null,null,null,null,null," "]
[null,null,null,null,null," "]
[null,null,null,null,null," "]
[null,null,null,null,null," "]
[null,null,null,null,null," "]
[null,null,null,null,null," "]
[null,null,null,null,null," "]
[null,null,null,null,null," "]
[null,null,null,null,null," "]
[null,null,null,null,null," "]
[null,null,null,null,null," "]
[null,null,null,null,null," "]
[null,null,null,null,null," "]
[null,null,null,null,null," "]
[null,null,null,null,null," "]
[null,null,null,null,null," "]
[null,null,null,null,null," "]
[null,null,null,null,null," "]
[null,null,null,null,null," "]
[null,null,null,null,null," "]
[null,null,null,null,null," "]
[null,null,null,null,null," "]
[null,null,null,null,null," "]
[null,null,null,null,null," "]
[null,null,null,null,null," "]
[null,null,null,null,null," "]
[null,null,null,null,null," "]
[null,null,null,null,null," "]
[null,null,null,null,null," "]
[null,null,null,null,null," "]
[null,null,null,null,null," "]
[null,null,null,null,null," "]
[null,null,null,null,null," "]
[null,null,null,null,null," "]
[null,null,null,null,null," "]
[null,null,null,null,null," "]
[null,null,null,null,null," "]
[null,null,null,null,null," "]
[null,null,null,null,null," "]
[null,null,null,null,null," "]
[null,null,null,null,null," "]
[null,null,null,null,null," "]
[null,null,null,null,null," "]
[null,null,null,null,null," "]
[null,null,null,null,null," "]
[null,null,null,null,null," "]
[null,null,null,null,null," "]
[null,null,null,null,null," "]
[null,null,null,null,null," "]
[null,null,null,null,null," "]
[null,null,null,null,null," "]
[null,null,null,null,null," "]
[null,null,null,null,null," "]
[null,null,null,null,null," "]
[null,null,null,null,null," "]
[null,null,null,null,null," "]
[null,null,null,null,null," "]
[null,null,null,null,null," "]
[null,null,null,null,null," "]
[null,null,null,null,null," "]
[null,null,null,null,null," "]
[null,null,null,null,null," "]
[null,null,null,null,null," "]
[null,null,null,null,null," "]
[null,null,null,null,null," "]
[null,null,null,null,null," "]
[null,null,null,null,null," "]
[null,null,null,null,null," "]
[null,null,null,null,null," "]
[null,null,null,null,null," "]
[null,null,null,null,null," "]
[null,null,null,null,null," "]
[null,null,null,null,null," "]
[null,null,null,null,null," "]
[null,null,null,null,null," "]
[null,null,null,null,null," "]
[null,null,null,null,null," "]
[null,null,null,null,null," "]
[null,null,null,null,null," "]
[null,null,null,null,null," "]
[null,null,null,null,null," "]
[null,null,null,null,null," "]
[null,null,null,null,null," "]
[null,null,null,null,null," "]
[null,null,null,null,null," "]
[null,null,null,null,null," "]
[null,null,null,null,null," "]
[null,null,null,null,null," "]
[null,null,null,null,null," "]
[null,null,null,null,null," "]
[null,null,null,null,null," "]
[null,null,null,null,null," "]
[null,null,null,null,null," "]
[null,null,null,null,null," "]
[null,null,null,null,null," "]
[null,null,null,null,null," "]
[null,null,null,null,null," "]
[null,null,null,null,null," "]
[null,null,null,null,null," "]
[null,null,null,null,null," "]
[null,null,null,null,null," "]
[null,null,null,null,null," "]
[null,null,null,null,null," "]
[null,null,null,null,null," "]
[null,null,null,null,null," "]
[null,null,null,null,null," "]
[null,null,null,null,null," "]
[null,null,null,null,null," "]
[null,null,null,null,null," "]
[null,null,null,null,null," "]
[null,null,null,null,null," "]
[null,null,null,null,null," "]
[null,null,null,null,null," "]
[null,null,null,null,null," "]
[null,null,null,null,null," "]
[null,null,null,null,null," "]
[null,null,null,null,null," "]
[null,null,null,null,null," "]
[null,null,null,null,null," "]
[null,null,null,null,null," "]
[null,null,null,null,null," "]
[null,null,null,null,null," "]
[null,null,null,null,null," "]
[null,null,null,null,null," "]
[null,null,null,null,null," "]
[null,null,null,null,null," "]
[null,null,null,null,null," "]
[null,null,null,null,null," "]
[null,null,null,null,null," "]
[null,null,null,null,null," "]
[null,null,null,null,null," "]
[null,null,null,null,null," "]
[null,null,null,null,null," "]
[null,null,null,null,null," "]
[null,null,null,null,null," "]
[null,null,null,null,null," "]
[null,null,null,null,null," "]
[null,null,null,null,null," "]
[null,null,null,null,null," "]
[null,null,null,null,null," "]
[null,null,null,null,null," "]
[null,null,null,null,null," "]
[null,null,null,null,null," "]
[null,null,null,null,null," "]
[null,null,null,null,null," "]
[null,null,null,null,null," "]
[null,null,null,null,null," "]
[null,null,null,null,null," "]
[null,null,null,null,null," "]
[null,null,null,null,null," "]
[null,null,null,null,null," "]
[null,null,null,null,null," "]
[null,null,null,null,null," "]
[null,null,null,null,null," "]
[null,null,null,null,null," "]
[null,null,null,null,null," "]
[null,null,null,null,null," "]
[null,null,null,null,null," "]
[null,null,null,null,null," "]
[null,null,null,null,null," "]
[null,null,null,null,null," "]
[null,null,null,null,null," "]
[null,null,null,null,null," "]
[null,null,null,null,null," "]
[null,null,null,null,null," "]
[null,null,null,null,null," "]
[null,null,null,null,null," "]
[null,null,null,null,null," "]
[null,null,null,null,null," "]
[null,null,null,null,null," "]
[null,null,null,null,null," "]
[null,null,null,null,null," "]
[null,null,null,null,null," "]
[null,null,null,null,null," "]
[null,null,null,null,null," "]
[null,null,null,null,null," "]
[null,null,null,null,null," "]
[null,null,null,null,null," "]
[null,null,null,null,null," "]
[null,null,null,null,null," "]
[null,null,null,null,null," "]
[null,null,null,null,null," "]
[null,null,null,null,null," "]
[null,null,null,null,null," "]
[null,null,null,null,null," "]
[null,null,null,null,null," "]
[null,null,null,null,null," "]
[null,null,null,null,null," "]
[null,null,null,null,null," "]
[null,null,null,null,null," "]
[null,null,null,null,null," "]
[null,null,null,null,null," "]
[null,null,null,null,null," "]
[null,null,null,null,null," "]
[null,null,null,null,null," "]
[null,null,null,null,null," "]
[null,null,null,null,null," "]
[null,null,null,null,null," "]
[null,null,null,null,null," "]
[null,null,null,null,null," "]
[null,null,null,null,null," "]
[null,null,null,null,null," "]
[null,null,null,null,null," "]
[null,null,null,null,null," "]
[null,null,null,null,null," "]
[null,null,null,null,null," "]
[null,null,null,null,null," "]
[null,null,null,null,null," "]
[null,null,null,null,null," "]
[null,null,null,null,null," "]
[null,null,null,null,null," "]
[null,null,null,null,null," "]
[null,null,null,null,null," "]
[null,null,null,null,null," "]
[null,null,null,null,null," "]
[null,null,null,null,null," "]
[null,null,null,null,null," "]
[null,null,null,null,null," "]
[null,null,null,null,null," "]
[null,null,null,null,null," "]
[null,null,null,null,null," "]
[null,null,null,null,null," "]
[null,null,null,null,null," "]
[null,null,null,null,null," "]
[null,null,null,null,null," "]
[null,null,null,null,null," "]
[null,null,null,null,null," "]
[null,null,null,null,null," "]
[null,null,null,null,null," "]
[null,null,null,null,null," "]
[null,null,null,null,null," "]
[null,null,null,null,null," "]
[null,null,null,null,null," "]
[null,null,null,null,null," "]
[null,null,null,null,null," "]
[null,null,null,null,null," "]
[null,null,null,null,null," "]
[null,null,null,null,null," "]
[null,null,null,null,null," "]
[null,null,null,null,null," "]
[null,null,null,null,null," "]
[null,null,null,null,null," "]
[null,null,null,null,null," "]
[null,null,null,null,null," "]
[null,null,null,null,null," "]
[null,null,null,null,null," "]
[null,null,null,null,null," "]
[null,null,null,null,null," "]
[null,null,null,null,null," "]
[null,null,null,null,null," "]
[null,null,null,null,null," "]
[null,null,null,null,null," "]
[null,null,null,null,null," "]
[null,null,null,null,null," "]
[null,null,null,null,null," "]
[null,null,null,null,null," "]
[null,null,null,null,null," "]
[null,null,null,null,null," "]
[null,null,null,null,null," "]
[null,null,null,null,null," "]
[null,null,null,null,null," "]
[null,null,null,null,null," "]
[null,null,null,null,null," "]
[null,null,null,null,null," "]
[null,null,null,null,null," "]
[null,null,null,null,null," "]
[null,null,null,null,null," "]
[null,null,null,null,null," "]
[null,null,null,null,null," "]
[null,null,null,null,null," "]
[null,null,null,null,null," "]
[null,null,null,null,null," "]
[null,null,null,null,null," "]
[null,null,null,null,null," "]
[null,null,null,null,null," "]
[null,null,null,null,null," "]
[null,null,null,null,null," "]
[null,null,null,null,null," "]
[null,null,null,null,null," "]
[null,null,null,null,null," "]
[null,null,null,null,null," "]
[null,null,null,null,null," "]
[null,null,null,null,null," "]
[null,null,null,null,null," "]
[null,null,null,null,null," "]
[null,null,null,null,null," "]
[null,null,null,null,null," "]
[null,null,null,null,null," "]
[null,null,null,null,null," "]
[null,null,null,null,null," "]
[null,null,null,null,null," "]
[null,null,null,null,null," "]
[null,null,null,null,null," "]
[null,null,null,null,null," "]
[null,null,null,null,null," "]
[null,null,null,null,null," "]
[null,null,null,null,null," "]
[null,null,null,null,null," "]
[null,null,null,null,null," "]
[null,null,null,null,null," "]
[null,null,null,null,null," "]
[null,null,null,null,null," "]
[null,null,null,null,null," "]
[null,null,null,null,null," "]
[null,null,null,null,null," "]
[null,null,null,null,null," "]
[null,null,null,null,null," "]
[null,null,null,null,null," "]
[null,null,null,null,null," "]
[null,null,null,null,null," "]
[null,null,null,null,null," "]
[null,null,null,null,null," "]
[null,null,null,null,null," "]
[null,null,null,null,null," "]
[null,null,null,null,null," "]
[null,null,null,null,null," "]
[null,null,null,null,null," "]
[null,null,null,null,null," "]
[null,null,null,null,null," "]
[null,null,null,null,null," "]
[null,null,null,null,null," "]
[null,null,null,null,null," "]
[null,null,null,null,null," "]
[null,null,null,null,null," "]
[null,null,null,null,null," "]
[null,null,null,null,null," "]
[null,null,null,null,null," "]
[null,null,null,null,null," "]
[null,null,null,null,null," "]
[null,null,null,null,null," "]
[null,null,null,null,null," "]
[null,null,null,null,null," "]
[null,null,null,null,null," "]
[null,null,null,null,null," "]
[null,null,null,null,null," "]
[null,null,null,null,null," "]
[null,null,null,null,null," "]
[null,null,null,null,null," "]
[null,null,null,null,null," "]
[null,null,null,null,null," "]
[null,null,null,null,null," "]
[null,null,null,null,null," "]
[null,null,null,null,null," "]
[null,null,null,null,null," "]
[null,null,null,null,null," "]
[null,null,null,null,null," "]
[null,null,null,null,null," "]
[null,null,null,null,null," "]
[null,null,null,null,null," "]
[null,null,null,null,null," "]
[null,null,null,null,null," "]
[null,null,null,null,null," "]
[null,null,null,null,null," "]
[null,null,null,null,null," "]
[null,null,null,null,null," "]
[null,null,null,null,null," "]
[null,null,null,null,null," "]
[null,null,null,null,null," "]
[null,null,null,null,null," "]
[null,null,null,null,null," "]
[null,null,null,null,null," "]
[null,null,null,null,null," "]
[null,null,null,null,null," "]
[null,null,null,null,null," "]
[null,null,null,null,null," "]
[null,null,null,null,null," "]
[null,null,null,null,null," "]
[null,null,null,null,null," "]
[null,null,null,null,null," "]
[null,null,null,null,null," "]
[null,null,null,null,null," "]
[null,null,null,null,null," "]
[null,null,null,null,null," "]
[null,null,null,null,null," "]
[null,null,null,null,null," "]
[null,null,null,null,null," "]
[null,null,null,null,null," "]
[null,null,null,null,null," "]
[null,null,null,null,null," "]
[null,null,null,null,null," "]
[null,null,null,null,null," "]
[null,null,null,null,null," "]
[null,null,null,null,null," "]
[null,null,null,null,null," "]
[null,null,null,null,null," "]
[null,null,null,null,null," "]
[null,null,null,null,null," "]
[null,null,null,null,null," "]
[null,null,null,null,null," "]
[null,null,null,null,null," "]
[null,null,null,null,null," "]
[null,null,null,null,null," "]
[null,null,null,null,null," "]
[null,null,null,null,null," "]
[null,null,null,null,null," "]
[null,null,null,null,null," "]
[null,null,null,null,null," "]
[null,null,null,null,null," "]
[null,null,null,null,null," "]
[null,null,null,null,null," "]
[null,null,null,null,null," "]
[null,null,null,null,null," "]
[null,null,null,null,null," "]
[null,null,null,null,null," "]
[null,null,null,null,null," "]
[null,null,null,null,null," "]
[null,null,null,null,null," "]
[null,null,null,null,null," "]
[null,null,null,null,null," "]
[null,null,null,null,null," "]
[null,null,null,null,null," "]
[null,null,null,null,null," "]
[null,null,null,null,null," "]
[null,null,null,null,null," "]
[null,null,null,null,null," "]
[null,null,null,null,null," "]
[null,null,null,null,null," "]
[null,null,null,null,null," "]
[null,null,null,null,null," "]
[null,null,null,null,null," "]
[null,null,null,null,null," "]
[null,null,null,null,null," "]
[null,null,null,null,null," "]
[null,null,null,null,null," "]
[null,null,null,null,null," "]
[null,null,null,null,null," "]
[null,null,null,null,null," "]
[null,null,null,null,null," "]
[null,null,null,null,null," "]
[null,null,null,null,null," "]
[null,null,null,null,null," "]
[null,null,null,null,null," "]
[null,null,null,null,null," "]
[null,null,null,null,null," "]
[null,null,null,null,null," "]
[null,null,null,null,null," "]
[null,null,null,null,null," "]
[null,null,null,null,null," "]
[null,null,null,null,null," "]
[null,null,null,null,null," "]
[null,null,null,null,null," "]
[null,null,null,null,null," "]
[null,null,null,null,null," "]
[null,null,null,null,null," "]
[null,null,null,null,null," "]
[null,null,null,null,null," "]
[null,null,null,null,null," "]
[null,null,null,null,null," "]
[null,null,null,null,null," "]
[null,null,null,null,null," "]
[null,null,null,null,null," "]
[null,null,null,null,null," "]
[null,null,null,null,null," "]
[null,null,null,null,null," "]
[null,null,null,null,null," "]
[null,null,null,null,null," "]
[null,null,null,null,null," "]
[null,null,null,null,null," "]
[null,null,null,null,null," "]
[null,null,null,null,null," "]
[null,null,null,null,null," "]
[null,null,null,null,null," "]
[null,null,null,null,null," "]
[null,null,null,null,null," "]
[null,null,null,null,null," "]
[null,null,null,null,null," "]
[null,null,null,null,null," "]
[null,null,null,null,null," "]
[null,null,null,null,null," "]
[null,null,null,null,null," "]
[null,null,null,null,null," "]
[null,null,null,null,null," "]
[null,null,null,null,null," "]
[null,null,null,null,null," "]
[null,null,null,null,null," "]
[null,null,null,null,null," "]
[null,null,null,null,null," "]
[null,null,null,null,null," "]
[null,null,null,null,null," "]
[null,null,null,null,null," "]
[null,null,null,null,null," "]
[null,null,null,null,null," "]
[null,null,null,null,null," "]
[null,null,null,null,null," "]
[null,null,null,null,null," "]
[null,null,null,null,null," "]
[null,null,null,null,null," "]
[null,null,null,null,null," "]
[null,null,null,null,null," "]
[null,null,null,null,null," "]
[null,null,null,null,null," "]
[null,null,null,null,null," "]
[null,null,null,null,null," "]
[null,null,null,null,null," "]

{"sheet":"VARIABLES_SERVICIO_ESTADISTICAS","index":6,"n_rows":1417,"n_cols":14,"rows_kept":1417,"cut":false,"hidden":true,"merged":[]}
["ID_DEALER_CODE","ID_ACCOUNT","YEAR","MONTH","ID_STATISTIC","STATISTIC_AMOUNT"]
[57040,"SER101",2015,1,"ORD",523,null,null,null,null,null,null,null,"SER101"]
[57040,"SER102",2015,1,"ORD",59,null,null,null,null,null,null,null,"SER102"]
[57040,"SER103",2015,1,"ORD",39,null,null,null,null,null,null,null,"SER103"]
[57040,"SER104",2015,1,"ORD",91,null,null,null,null,null,null,null,"SER104"]
[57040,"SER105",2015,1,"ORD",8,null,null,null,null,null,null,null,"SER105"]
[57040,"HYP101",2015,1,"ORD",24,null,null,null,null,null,null,null,"HYP101"]
[57040,"REF101",2015,1,"ORD",594,null,null,null,null,null,null,null,"REF101"]
[57040,"REF102",2015,1,"ORD",9,null,null,null,null,null,null,null,"REF102"]
[57040,"REF103",2015,1,"ORD",214,null,null,null,null,null,null,null,"REF103"]
[57040,"REF104",2015,1,"ORD",28,null,null,null,null,null,null,null,"REF104"]
[57040,"REF105",2015,1,"ORD",22,null,null,null,null,null,null,null,"REF105"]
[57040,"SHR101",2015,1,"HRS",502.43,null,null,null,null,null,null,null,"SHR101"]
[57040,"SHR102",2015,1,"HRS",370.28,null,null,null,null,null,null,null,"SHR102"]
[57040,"SHR103",2015,1,"HRS",0,null,null,null,null,null,null,null,"SHR103"]
[57040,"SEP101",2015,1,"UNT",0,null,null,null,null,null,null,null,"SEP101"]
[57040,"SEP102",2015,1,"UNT",6,null,null,null,null,null,null,null,"SEP102"]
[57040,"SEP103",2015,1,"UNT",0,null,null,null,null,null,null,null,"SEP103"]
[57040,"SEP104",2015,1,"UNT",0,null,null,null,null,null,null,null,"SEP104"]
[57040,"SJF101",2015,1,"SJF",1,null,null,null,null,null,null,null,"SJF101"]
[57040,"STT101",2015,1,"PER",5,null,null,null,null,null,null,null,"STT101"]
[57040,"STT105",2015,1,"PER",2,null,null,null,null,null,null,null,"STT105"]
[57040,"STT102",2015,1,"PER",1,null,null,null,null,null,null,null,"STT102"]
[57040,"STT103",2015,1,"PER",1,null,null,null,null,null,null,null,"STT103"]
[57040,"STT104",2015,1,"PER",0,null,null,null,null,null,null,null,"STT104"]
[57040,"STC101",2015,1,"PER",3,null,null,null,null,null,null,null,"STC101"]
[57040,"STC102",2015,1,"PER",1,null,null,null,null,null,null,null,"STC102"]
[57040,"STC103",2015,1,"PER",1,null,null,null,null,null,null,null,"STC103"]
[57040,"STC104",2015,1,"PER",1,null,null,null,null,null,null,null,"STC104"]
[57040,"SAS101",2015,1,"PER",0,null,null,null,null,null,null,null,"SAS101"]
[57040,"SAS102",2015,1,"PER",2,null,null,null,null,null,null,null,"SAS102"]
[57040,"EFI101",2015,1,"AVG",4.746666666666667,null,null,null,null,null,null,null,"EFI101"]
[57040,"EFI102",2015,1,"AVG",3.1644444444444444,null,null,null,null,null,null,null,"EFI102"]
[57040,"EFI103",2015,1,"AVG",14.24,null,null,null,null,null,null,null,"EFI103"]
[57040,"TSR101",2015,1,"PCT",1,null,null,null,null,null,null,null,"TSR101"]
[57040,"TSR102",2015,1,"PCT",1,null,null,null,null,null,null,null,"TSR102"]
[57040,"RET101",2015,1,"RET",null,null,null,null,null,null,null,null,"RET101"]
[" ","RET102"," "," "," "," ",null,null,null,null,null,null,null,"RET102"]
[" ","SER101"," "," "," "," ",null,null,null,null,null,null,null,"SER101"]
[" ","SER102"," "," "," "," ",null,null,null,null,null,null,null,"SER102"]
[" ","SER103"," "," "," "," ",null,null,null,null,null,null,null,"SER103"]
[" ","SER104"," "," "," "," ",null,null,null,null,null,null,null,"SER104"]
[" ","SER105"," "," "," "," ",null,null,null,null,null,null,null,"SER105"]
[" ","HYP101"," "," "," "," ",null,null,null,null,null,null,null,"HYP101"]
[" ","REF101"," "," "," "," ",null,null,null,null,null,null,null,"REF101"]
[" ","REF102"," "," "," "," ",null,null,null,null,null,null,null,"REF102"]
[" ","REF103"," "," "," "," ",null,null,null,null,null,null,null,"REF103"]
[" ","REF104"," "," "," "," ",null,null,null,null,null,null,null,"REF104"]
[" ","REF105"," "," "," "," ",null,null,null,null,null,null,null,"REF105"]
[" ","SHR101"," "," "," "," ",null,null,null,null,null,null,null,"SHR101"]
[" ","SHR102"," "," "," "," ",null,null,null,null,null,null,null,"SHR102"]
[" ","SHR103"," "," "," "," ",null,null,null,null,null,null,null,"SHR103"]
[" ","SEP101"," "," "," "," ",null,null,null,null,null,null,null,"SEP101"]
[" ","SEP102"," "," "," "," ",null,null,null,null,null,null,null,"SEP102"]
[" ","SEP103"," "," "," "," ",null,null,null,null,null,null,null,"SEP103"]
[" ","SEP104"," "," "," "," ",null,null,null,null,null,null,null,"SEP104"]
[" ","SJF101"," "," "," "," ",null,null,null,null,null,null,null,"SJF101"]
[" ","STT101"," "," "," "," ",null,null,null,null,null,null,null,"STT101"]
[" ","STT105"," "," "," "," ",null,null,null,null,null,null,null,"STT105"]
[" ","STT102"," "," "," "," ",null,null,null,null,null,null,null,"STT102"]
[" ","STT103"," "," "," "," ",null,null,null,null,null,null,null,"STT103"]
[" ","STT104"," "," "," "," ",null,null,null,null,null,null,null,"STT104"]
[" ","STC101"," "," "," "," ",null,null,null,null,null,null,null,"STC101"]
[" ","STC102"," "," "," "," ",null,null,null,null,null,null,null,"STC102"]
[" ","STC103"," "," "," "," ",null,null,null,null,null,null,null,"STC103"]
[" ","STC104"," "," "," "," ",null,null,null,null,null,null,null,"STC104"]
[" ","SAS101"," "," "," "," ",null,null,null,null,null,null,null,"SAS101"]
[" ","SAS102"," "," "," "," ",null,null,null,null,null,null,null,"SAS102"]
[" ","EFI101"," "," "," "," ",null,null,null,null,null,null,null,"EFI101"]
[" ","EFI102"," "," "," "," ",null,null,null,null,null,null,null,"EFI102"]
[" ","EFI103"," "," "," "," ",null,null,null,null,null,null,null,"EFI103"]
[" ","TSR101"," "," "," "," ",null,null,null,null,null,null,null,"TSR101"]
[" ","TSR102"," "," "," "," ",null,null,null,null,null,null,null,"TSR102"]
[" ","RET101"," "," "," "," ",null,null,null,null,null,null,null,"RET101"]
[" ","RET102"," "," "," "," ",null,null,null,null,null,null,null,"RET102"]
[" ","SER101"," "," "," "," ",null,null,null,null,null,null,null,"SER101"]
[" ","SER102"," "," "," "," ",null,null,null,null,null,null,null,"SER102"]
[" ","SER103"," "," "," "," ",null,null,null,null,null,null,null,"SER103"]
[" ","SER104"," "," "," "," ",null,null,null,null,null,null,null,"SER104"]
[" ","SER105"," "," "," "," ",null,null,null,null,null,null,null,"SER105"]
[" ","HYP101"," "," "," "," ",null,null,null,null,null,null,null,"HYP101"]
[" ","REF101"," "," "," "," ",null,null,null,null,null,null,null,"REF101"]
[" ","REF102"," "," "," "," ",null,null,null,null,null,null,null,"REF102"]
[" ","REF103"," "," "," "," ",null,null,null,null,null,null,null,"REF103"]
[" ","REF104"," "," "," "," ",null,null,null,null,null,null,null,"REF104"]
[" ","REF105"," "," "," "," ",null,null,null,null,null,null,null,"REF105"]
[" ","SHR101"," "," "," "," ",null,null,null,null,null,null,null,"SHR101"]
[" ","SHR102"," "," "," "," ",null,null,null,null,null,null,null,"SHR102"]
[" ","SHR103"," "," "," "," ",null,null,null,null,null,null,null,"SHR103"]
[" ","SEP101"," "," "," "," ",null,null,null,null,null,null,null,"SEP101"]
[" ","SEP102"," "," "," "," ",null,null,null,null,null,null,null,"SEP102"]
[" ","SEP103"," "," "," "," ",null,null,null,null,null,null,null,"SEP103"]
[" ","SEP104"," "," "," "," ",null,null,null,null,null,null,null,"SEP104"]
[" ","SJF101"," "," "," "," ",null,null,null,null,null,null,null,"SJF101"]
[" ","STT101"," "," "," "," ",null,null,null,null,null,null,null,"STT101"]
[" ","STT105"," "," "," "," ",null,null,null,null,null,null,null,"STT105"]
[" ","STT102"," "," "," "," ",null,null,null,null,null,null,null,"STT102"]
[" ","STT103"," "," "," "," ",null,null,null,null,null,null,null,"STT103"]
[" ","STT104"," "," "," "," ",null,null,null,null,null,null,null,"STT104"]
[" ","STC101"," "," "," "," ",null,null,null,null,null,null,null,"STC101"]
[" ","STC102"," "," "," "," ",null,null,null,null,null,null,null,"STC102"]
[" ","STC103"," "," "," "," ",null,null,null,null,null,null,null,"STC103"]
[" ","STC104"," "," "," "," ",null,null,null,null,null,null,null,"STC104"]
[" ","SAS101"," "," "," "," ",null,null,null,null,null,null,null,"SAS101"]
[" ","SAS102"," "," "," "," ",null,null,null,null,null,null,null,"SAS102"]
[" ","EFI101"," "," "," "," ",null,null,null,null,null,null,null,"EFI101"]
[" ","EFI102"," "," "," "," ",null,null,null,null,null,null,null,"EFI102"]
[" ","EFI103"," "," "," "," ",null,null,null,null,null,null,null,"EFI103"]
[" ","TSR101"," "," "," "," ",null,null,null,null,null,null,null,"TSR101"]
[" ","TSR102"," "," "," "," ",null,null,null,null,null,null,null,"TSR102"]
[" ","RET101"," "," "," "," ",null,null,null,null,null,null,null,"RET101"]
[" ","RET102"," "," "," "," ",null,null,null,null,null,null,null,"RET102"]
[" ","SER101"," "," "," "," ",null,null,null,null,null,null,null,"SER101"]
[" ","SER102"," "," "," "," ",null,null,null,null,null,null,null,"SER102"]
[" ","SER103"," "," "," "," ",null,null,null,null,null,null,null,"SER103"]
[" ","SER104"," "," "," "," ",null,null,null,null,null,null,null,"SER104"]
[" ","SER105"," "," "," "," ",null,null,null,null,null,null,null,"SER105"]
[" ","HYP101"," "," "," "," ",null,null,null,null,null,null,null,"HYP101"]
[" ","REF101"," "," "," "," ",null,null,null,null,null,null,null,"REF101"]
[" ","REF102"," "," "," "," ",null,null,null,null,null,null,null,"REF102"]
[" ","REF103"," "," "," "," ",null,null,null,null,null,null,null,"REF103"]
[" ","REF104"," "," "," "," ",null,null,null,null,null,null,null,"REF104"]
[" ","REF105"," "," "," "," ",null,null,null,null,null,null,null,"REF105"]
[" ","SHR101"," "," "," "," ",null,null,null,null,null,null,null,"SHR101"]
[" ","SHR102"," "," "," "," ",null,null,null,null,null,null,null,"SHR102"]
[" ","SHR103"," "," "," "," ",null,null,null,null,null,null,null,"SHR103"]
[" ","SEP101"," "," "," "," ",null,null,null,null,null,null,null,"SEP101"]
[" ","SEP102"," "," "," "," ",null,null,null,null,null,null,null,"SEP102"]
[" ","SEP103"," "," "," "," ",null,null,null,null,null,null,null,"SEP103"]
[" ","SEP104"," "," "," "," ",null,null,null,null,null,null,null,"SEP104"]
[" ","SJF101"," "," "," "," ",null,null,null,null,null,null,null,"SJF101"]
[" ","STT101"," "," "," "," ",null,null,null,null,null,null,null,"STT101"]
[" ","STT105"," "," "," "," ",null,null,null,null,null,null,null,"STT105"]
[" ","STT102"," "," "," "," ",null,null,null,null,null,null,null,"STT102"]
[" ","STT103"," "," "," "," ",null,null,null,null,null,null,null,"STT103"]
[" ","STT104"," "," "," "," ",null,null,null,null,null,null,null,"STT104"]
[" ","STC101"," "," "," "," ",null,null,null,null,null,null,null,"STC101"]
[" ","STC102"," "," "," "," ",null,null,null,null,null,null,null,"STC102"]
[" ","STC103"," "," "," "," ",null,null,null,null,null,null,null,"STC103"]
[" ","STC104"," "," "," "," ",null,null,null,null,null,null,null,"STC104"]
[" ","SAS101"," "," "," "," ",null,null,null,null,null,null,null,"SAS101"]
[" ","SAS102"," "," "," "," ",null,null,null,null,null,null,null,"SAS102"]
[" ","EFI101"," "," "," "," ",null,null,null,null,null,null,null,"EFI101"]
[" ","EFI102"," "," "," "," ",null,null,null,null,null,null,null,"EFI102"]
[" ","EFI103"," "," "," "," ",null,null,null,null,null,null,null,"EFI103"]
[" ","TSR101"," "," "," "," ",null,null,null,null,null,null,null,"TSR101"]
[" ","TSR102"," "," "," "," ",null,null,null,null,null,null,null,"TSR102"]
[" ","RET101"," "," "," "," ",null,null,null,null,null,null,null,"RET101"]
[" ","RET102"," "," "," "," ",null,null,null,null,null,null,null,"RET102"]
[" ","SER101"," "," "," "," ",null,null,null,null,null,null,null,"SER101"]
[" ","SER102"," "," "," "," ",null,null,null,null,null,null,null,"SER102"]
[" ","SER103"," "," "," "," ",null,null,null,null,null,null,null,"SER103"]
[" ","SER104"," "," "," "," ",null,null,null,null,null,null,null,"SER104"]
[" ","SER105"," "," "," "," ",null,null,null,null,null,null,null,"SER105"]
[" ","HYP101"," "," "," "," ",null,null,null,null,null,null,null,"HYP101"]
[" ","REF101"," "," "," "," ",null,null,null,null,null,null,null,"REF101"]
[" ","REF102"," "," "," "," ",null,null,null,null,null,null,null,"REF102"]
[" ","REF103"," "," "," "," ",null,null,null,null,null,null,null,"REF103"]
[" ","REF104"," "," "," "," ",null,null,null,null,null,null,null,"REF104"]
[" ","REF105"," "," "," "," ",null,null,null,null,null,null,null,"REF105"]
[" ","SHR101"," "," "," "," ",null,null,null,null,null,null,null,"SHR101"]
[" ","SHR102"," "," "," "," ",null,null,null,null,null,null,null,"SHR102"]
[" ","SHR103"," "," "," "," ",null,null,null,null,null,null,null,"SHR103"]
[" ","SEP101"," "," "," "," ",null,null,null,null,null,null,null,"SEP101"]
[" ","SEP102"," "," "," "," ",null,null,null,null,null,null,null,"SEP102"]
[" ","SEP103"," "," "," "," ",null,null,null,null,null,null,null,"SEP103"]
[" ","SEP104"," "," "," "," ",null,null,null,null,null,null,null,"SEP104"]
[" ","SJF101"," "," "," "," ",null,null,null,null,null,null,null,"SJF101"]
[" ","STT101"," "," "," "," ",null,null,null,null,null,null,null,"STT101"]
[" ","STT105"," "," "," "," ",null,null,null,null,null,null,null,"STT105"]
[" ","STT102"," "," "," "," ",null,null,null,null,null,null,null,"STT102"]
[" ","STT103"," "," "," "," ",null,null,null,null,null,null,null,"STT103"]
[" ","STT104"," "," "," "," ",null,null,null,null,null,null,null,"STT104"]
[" ","STC101"," "," "," "," ",null,null,null,null,null,null,null,"STC101"]
[" ","STC102"," "," "," "," ",null,null,null,null,null,null,null,"STC102"]
[" ","STC103"," "," "," "," ",null,null,null,null,null,null,null,"STC103"]
[" ","STC104"," "," "," "," ",null,null,null,null,null,null,null,"STC104"]
[" ","SAS101"," "," "," "," ",null,null,null,null,null,null,null,"SAS101"]
[" ","SAS102"," "," "," "," ",null,null,null,null,null,null,null,"SAS102"]
[" ","EFI101"," "," "," "," ",null,null,null,null,null,null,null,"EFI101"]
[" ","EFI102"," "," "," "," ",null,null,null,null,null,null,null,"EFI102"]
[" ","EFI103"," "," "," "," ",null,null,null,null,null,null,null,"EFI103"]
[" ","TSR101"," "," "," "," ",null,null,null,null,null,null,null,"TSR101"]
[" ","TSR102"," "," "," "," ",null,null,null,null,null,null,null,"TSR102"]
[" ","RET101"," "," "," "," ",null,null,null,null,null,null,null,"RET101"]
[" ","RET102"," "," "," "," ",null,null,null,null,null,null,null,"RET102"]
[" ","SER101"," "," "," "," ",null,null,null,null,null,null,null,"SER101"]
[" ","SER102"," "," "," "," ",null,null,null,null,null,null,null,"SER102"]
[" ","SER103"," "," "," "," ",null,null,null,null,null,null,null,"SER103"]
[" ","SER104"," "," "," "," ",null,null,null,null,null,null,null,"SER104"]
[" ","SER105"," "," "," "," ",null,null,null,null,null,null,null,"SER105"]
[" ","HYP101"," "," "," "," ",null,null,null,null,null,null,null,"HYP101"]
[" ","REF101"," "," "," "," ",null,null,null,null,null,null,null,"REF101"]
[" ","REF102"," "," "," "," ",null,null,null,null,null,null,null,"REF102"]
[" ","REF103"," "," "," "," ",null,null,null,null,null,null,null,"REF103"]
[" ","REF104"," "," "," "," ",null,null,null,null,null,null,null,"REF104"]
[" ","REF105"," "," "," "," ",null,null,null,null,null,null,null,"REF105"]
[" ","SHR101"," "," "," "," ",null,null,null,null,null,null,null,"SHR101"]
[" ","SHR102"," "," "," "," ",null,null,null,null,null,null,null,"SHR102"]
[" ","SHR103"," "," "," "," ",null,null,null,null,null,null,null,"SHR103"]
[" ","SEP101"," "," "," "," ",null,null,null,null,null,null,null,"SEP101"]
[" ","SEP102"," "," "," "," ",null,null,null,null,null,null,null,"SEP102"]
[" ","SEP103"," "," "," "," ",null,null,null,null,null,null,null,"SEP103"]
[" ","SEP104"," "," "," "," ",null,null,null,null,null,null,null,"SEP104"]
[" ","SJF101"," "," "," "," ",null,null,null,null,null,null,null,"SJF101"]
[" ","STT101"," "," "," "," ",null,null,null,null,null,null,null,"STT101"]
[" ","STT105"," "," "," "," ",null,null,null,null,null,null,null,"STT105"]
[" ","STT102"," "," "," "," ",null,null,null,null,null,null,null,"STT102"]
[" ","STT103"," "," "," "," ",null,null,null,null,null,null,null,"STT103"]
[" ","STT104"," "," "," "," ",null,null,null,null,null,null,null,"STT104"]
[" ","STC101"," "," "," "," ",null,null,null,null,null,null,null,"STC101"]
[" ","STC102"," "," "," "," ",null,null,null,null,null,null,null,"STC102"]
[" ","STC103"," "," "," "," ",null,null,null,null,null,null,null,"STC103"]
[" ","STC104"," "," "," "," ",null,null,null,null,null,null,null,"STC104"]
[" ","SAS101"," "," "," "," ",null,null,null,null,null,null,null,"SAS101"]
[" ","SAS102"," "," "," "," ",null,null,null,null,null,null,null,"SAS102"]
[" ","EFI101"," "," "," "," ",null,null,null,null,null,null,null,"EFI101"]
[" ","EFI102"," "," "," "," ",null,null,null,null,null,null,null,"EFI102"]
[" ","EFI103"," "," "," "," ",null,null,null,null,null,null,null,"EFI103"]
[" ","TSR101"," "," "," "," ",null,null,null,null,null,null,null,"TSR101"]
[" ","TSR102"," "," "," "," ",null,null,null,null,null,null,null,"TSR102"]
[" ","RET101"," "," "," "," ",null,null,null,null,null,null,null,"RET101"]
[" ","RET102"," "," "," "," ",null,null,null,null,null,null,null,"RET102"]
[" ","SER101"," "," "," "," ",null,null,null,null,null,null,null,"SER101"]
[" ","SER102"," "," "," "," ",null,null,null,null,null,null,null,"SER102"]
[" ","SER103"," "," "," "," ",null,null,null,null,null,null,null,"SER103"]
[" ","SER104"," "," "," "," ",null,null,null,null,null,null,null,"SER104"]
[" ","SER105"," "," "," "," ",null,null,null,null,null,null,null,"SER105"]
[" ","HYP101"," "," "," "," ",null,null,null,null,null,null,null,"HYP101"]
[" ","REF101"," "," "," "," ",null,null,null,null,null,null,null,"REF101"]
[" ","REF102"," "," "," "," ",null,null,null,null,null,null,null,"REF102"]
[" ","REF103"," "," "," "," ",null,null,null,null,null,null,null,"REF103"]
[" ","REF104"," "," "," "," ",null,null,null,null,null,null,null,"REF104"]
[" ","REF105"," "," "," "," ",null,null,null,null,null,null,null,"REF105"]
[" ","SHR101"," "," "," "," ",null,null,null,null,null,null,null,"SHR101"]
[" ","SHR102"," "," "," "," ",null,null,null,null,null,null,null,"SHR102"]
[" ","SHR103"," "," "," "," ",null,null,null,null,null,null,null,"SHR103"]
[" ","SEP101"," "," "," "," ",null,null,null,null,null,null,null,"SEP101"]
[" ","SEP102"," "," "," "," ",null,null,null,null,null,null,null,"SEP102"]
[" ","SEP103"," "," "," "," ",null,null,null,null,null,null,null,"SEP103"]
[" ","SEP104"," "," "," "," ",null,null,null,null,null,null,null,"SEP104"]
[" ","SJF101"," "," "," "," ",null,null,null,null,null,null,null,"SJF101"]
[" ","STT101"," "," "," "," ",null,null,null,null,null,null,null,"STT101"]
[" ","STT105"," "," "," "," ",null,null,null,null,null,null,null,"STT105"]
[" ","STT102"," "," "," "," ",null,null,null,null,null,null,null,"STT102"]
[" ","STT103"," "," "," "," ",null,null,null,null,null,null,null,"STT103"]
[" ","STT104"," "," "," "," ",null,null,null,null,null,null,null,"STT104"]
[" ","STC101"," "," "," "," ",null,null,null,null,null,null,null,"STC101"]
[" ","STC102"," "," "," "," ",null,null,null,null,null,null,null,"STC102"]
[" ","STC103"," "," "," "," ",null,null,null,null,null,null,null,"STC103"]
[" ","STC104"," "," "," "," ",null,null,null,null,null,null,null,"STC104"]
[" ","SAS101"," "," "," "," ",null,null,null,null,null,null,null,"SAS101"]
[" ","SAS102"," "," "," "," ",null,null,null,null,null,null,null,"SAS102"]
[" ","EFI101"," "," "," "," ",null,null,null,null,null,null,null,"EFI101"]
[" ","EFI102"," "," "," "," ",null,null,null,null,null,null,null,"EFI102"]
[" ","EFI103"," "," "," "," ",null,null,null,null,null,null,null,"EFI103"]
[" ","TSR101"," "," "," "," ",null,null,null,null,null,null,null,"TSR101"]
[" ","TSR102"," "," "," "," ",null,null,null,null,null,null,null,"TSR102"]
[" ","RET101"," "," "," "," ",null,null,null,null,null,null,null,"RET101"]
[" ","RET102"," "," "," "," ",null,null,null,null,null,null,null,"RET102"]
[" ","SER101"," "," "," "," ",null,null,null,null,null,null,null,"SER101"]
[" ","SER102"," "," "," "," ",null,null,null,null,null,null,null,"SER102"]
[" ","SER103"," "," "," "," ",null,null,null,null,null,null,null,"SER103"]
[" ","SER104"," "," "," "," ",null,null,null,null,null,null,null,"SER104"]
[" ","SER105"," "," "," "," ",null,null,null,null,null,null,null,"SER105"]
[" ","HYP101"," "," "," "," ",null,null,null,null,null,null,null,"HYP101"]
[" ","REF101"," "," "," "," ",null,null,null,null,null,null,null,"REF101"]
[" ","REF102"," "," "," "," ",null,null,null,null,null,null,null,"REF102"]
[" ","REF103"," "," "," "," ",null,null,null,null,null,null,null,"REF103"]
[" ","REF104"," "," "," "," ",null,null,null,null,null,null,null,"REF104"]
[" ","REF105"," "," "," "," ",null,null,null,null,null,null,null,"REF105"]
[" ","SHR101"," "," "," "," ",null,null,null,null,null,null,null,"SHR101"]
[" ","SHR102"," "," "," "," ",null,null,null,null,null,null,null,"SHR102"]
[" ","SHR103"," "," "," "," ",null,null,null,null,null,null,null,"SHR103"]
[" ","SEP101"," "," "," "," ",null,null,null,null,null,null,null,"SEP101"]
[" ","SEP102"," "," "," "," ",null,null,null,null,null,null,null,"SEP102"]
[" ","SEP103"," "," "," "," ",null,null,null,null,null,null,null,"SEP103"]
[" ","SEP104"," "," "," "," ",null,null,null,null,null,null,null,"SEP104"]
[" ","SJF101"," "," "," "," ",null,null,null,null,null,null,null,"SJF101"]
[" ","STT101"," "," "," "," ",null,null,null,null,null,null,null,"STT101"]
[" ","STT105"," "," "," "," ",null,null,null,null,null,null,null,"STT105"]
[" ","STT102"," "," "," "," ",null,null,null,null,null,null,null,"STT102"]
[" ","STT103"," "," "," "," ",null,null,null,null,null,null,null,"STT103"]
[" ","STT104"," "," "," "," ",null,null,null,null,null,null,null,"STT104"]
[" ","STC101"," "," "," "," ",null,null,null,null,null,null,null,"STC101"]
[" ","STC102"," "," "," "," ",null,null,null,null,null,null,null,"STC102"]
[" ","STC103"," "," "," "," ",null,null,null,null,null,null,null,"STC103"]
[" ","STC104"," "," "," "," ",null,null,null,null,null,null,null,"STC104"]
[" ","SAS101"," "," "," "," ",null,null,null,null,null,null,null,"SAS101"]
[" ","SAS102"," "," "," "," ",null,null,null,null,null,null,null,"SAS102"]
[" ","EFI101"," "," "," "," ",null,null,null,null,null,null,null,"EFI101"]
[" ","EFI102"," "," "," "," ",null,null,null,null,null,null,null,"EFI102"]
[" ","EFI103"," "," "," "," ",null,null,null,null,null,null,null,"EFI103"]
[" ","TSR101"," "," "," "," ",null,null,null,null,null,null,null,"TSR101"]
[" ","TSR102"," "," "," "," ",null,null,null,null,null,null,null,"TSR102"]
[" ","RET101"," "," "," "," ",null,null,null,null,null,null,null,"RET101"]
[" ","RET102"," "," "," "," ",null,null,null,null,null,null,null,"RET102"]
[" ","SER101"," "," "," "," ",null,null,null,null,null,null,null,"SER101"]
[" ","SER102"," "," "," "," ",null,null,null,null,null,null,null,"SER102"]
[" ","SER103"," "," "," "," ",null,null,null,null,null,null,null,"SER103"]
[" ","SER104"," "," "," "," ",null,null,null,null,null,null,null,"SER104"]
[" ","SER105"," "," "," "," ",null,null,null,null,null,null,null,"SER105"]
[" ","HYP101"," "," "," "," ",null,null,null,null,null,null,null,"HYP101"]
[" ","REF101"," "," "," "," ",null,null,null,null,null,null,null,"REF101"]
[" ","REF102"," "," "," "," ",null,null,null,null,null,null,null,"REF102"]
[" ","REF103"," "," "," "," ",null,null,null,null,null,null,null,"REF103"]
[" ","REF104"," "," "," "," ",null,null,null,null,null,null,null,"REF104"]
[" ","REF105"," "," "," "," ",null,null,null,null,null,null,null,"REF105"]
[" ","SHR101"," "," "," "," ",null,null,null,null,null,null,null,"SHR101"]
[" ","SHR102"," "," "," "," ",null,null,null,null,null,null,null,"SHR102"]
[" ","SHR103"," "," "," "," ",null,null,null,null,null,null,null,"SHR103"]
[" ","SEP101"," "," "," "," ",null,null,null,null,null,null,null,"SEP101"]
[" ","SEP102"," "," "," "," ",null,null,null,null,null,null,null,"SEP102"]
[" ","SEP103"," "," "," "," ",null,null,null,null,null,null,null,"SEP103"]
[" ","SEP104"," "," "," "," ",null,null,null,null,null,null,null,"SEP104"]
[" ","SJF101"," "," "," "," ",null,null,null,null,null,null,null,"SJF101"]
[" ","STT101"," "," "," "," ",null,null,null,null,null,null,null,"STT101"]
[" ","STT105"," "," "," "," ",null,null,null,null,null,null,null,"STT105"]
[" ","STT102"," "," "," "," ",null,null,null,null,null,null,null,"STT102"]
[" ","STT103"," "," "," "," ",null,null,null,null,null,null,null,"STT103"]
[" ","STT104"," "," "," "," ",null,null,null,null,null,null,null,"STT104"]
[" ","STC101"," "," "," "," ",null,null,null,null,null,null,null,"STC101"]
[" ","STC102"," "," "," "," ",null,null,null,null,null,null,null,"STC102"]
[" ","STC103"," "," "," "," ",null,null,null,null,null,null,null,"STC103"]
[" ","STC104"," "," "," "," ",null,null,null,null,null,null,null,"STC104"]
[" ","SAS101"," "," "," "," ",null,null,null,null,null,null,null,"SAS101"]
[" ","SAS102"," "," "," "," ",null,null,null,null,null,null,null,"SAS102"]
[" ","EFI101"," "," "," "," ",null,null,null,null,null,null,null,"EFI101"]
[" ","EFI102"," "," "," "," ",null,null,null,null,null,null,null,"EFI102"]
[" ","EFI103"," "," "," "," ",null,null,null,null,null,null,null,"EFI103"]
[" ","TSR101"," "," "," "," ",null,null,null,null,null,null,null,"TSR101"]
[" ","TSR102"," "," "," "," ",null,null,null,null,null,null,null,"TSR102"]
[" ","RET101"," "," "," "," ",null,null,null,null,null,null,null,"RET101"]
[" ","RET102"," "," "," "," ",null,null,null,null,null,null,null,"RET102"]
[" ","SER101"," "," "," "," ",null,null,null,null,null,null,null,"SER101"]
[" ","SER102"," "," "," "," ",null,null,null,null,null,null,null,"SER102"]
[" ","SER103"," "," "," "," ",null,null,null,null,null,null,null,"SER103"]
[" ","SER104"," "," "," "," ",null,null,null,null,null,null,null,"SER104"]
[" ","SER105"," "," "," "," ",null,null,null,null,null,null,null,"SER105"]
[" ","HYP101"," "," "," "," ",null,null,null,null,null,null,null,"HYP101"]
[" ","REF101"," "," "," "," ",null,null,null,null,null,null,null,"REF101"]
[" ","REF102"," "," "," "," ",null,null,null,null,null,null,null,"REF102"]
[" ","REF103"," "," "," "," ",null,null,null,null,null,null,null,"REF103"]
[" ","REF104"," "," "," "," ",null,null,null,null,null,null,null,"REF104"]
[" ","REF105"," "," "," "," ",null,null,null,null,null,null,null,"REF105"]
[" ","SHR101"," "," "," "," ",null,null,null,null,null,null,null,"SHR101"]
[" ","SHR102"," "," "," "," ",null,null,null,null,null,null,null,"SHR102"]
[" ","SHR103"," "," "," "," ",null,null,null,null,null,null,null,"SHR103"]
[" ","SEP101"," "," "," "," ",null,null,null,null,null,null,null,"SEP101"]
[" ","SEP102"," "," "," "," ",null,null,null,null,null,null,null,"SEP102"]
[" ","SEP103"," "," "," "," ",null,null,null,null,null,null,null,"SEP103"]
[" ","SEP104"," "," "," "," ",null,null,null,null,null,null,null,"SEP104"]
[" ","SJF101"," "," "," "," ",null,null,null,null,null,null,null,"SJF101"]
[" ","STT101"," "," "," "," ",null,null,null,null,null,null,null,"STT101"]
[" ","STT105"," "," "," "," ",null,null,null,null,null,null,null,"STT105"]
[" ","STT102"," "," "," "," ",null,null,null,null,null,null,null,"STT102"]
[" ","STT103"," "," "," "," ",null,null,null,null,null,null,null,"STT103"]
[" ","STT104"," "," "," "," ",null,null,null,null,null,null,null,"STT104"]
[" ","STC101"," "," "," "," ",null,null,null,null,null,null,null,"STC101"]
[" ","STC102"," "," "," "," ",null,null,null,null,null,null,null,"STC102"]
[" ","STC103"," "," "," "," ",null,null,null,null,null,null,null,"STC103"]
[" ","STC104"," "," "," "," ",null,null,null,null,null,null,null,"STC104"]
[" ","SAS101"," "," "," "," ",null,null,null,null,null,null,null,"SAS101"]
[" ","SAS102"," "," "," "," ",null,null,null,null,null,null,null,"SAS102"]
[" ","EFI101"," "," "," "," ",null,null,null,null,null,null,null,"EFI101"]
[" ","EFI102"," "," "," "," ",null,null,null,null,null,null,null,"EFI102"]
[" ","EFI103"," "," "," "," ",null,null,null,null,null,null,null,"EFI103"]
[" ","TSR101"," "," "," "," ",null,null,null,null,null,null,null,"TSR101"]
[" ","TSR102"," "," "," "," ",null,null,null,null,null,null,null,"TSR102"]
[" ","RET101"," "," "," "," ",null,null,null,null,null,null,null,"RET101"]
[" ","RET102"," "," "," "," ",null,null,null,null,null,null,null,"RET102"]
[" ","SER101"," "," "," "," ",null,null,null,null,null,null,null,"SER101"]
[" ","SER102"," "," "," "," ",null,null,null,null,null,null,null,"SER102"]
[" ","SER103"," "," "," "," ",null,null,null,null,null,null,null,"SER103"]
[" ","SER104"," "," "," "," ",null,null,null,null,null,null,null,"SER104"]
[" ","SER105"," "," "," "," ",null,null,null,null,null,null,null,"SER105"]
[" ","HYP101"," "," "," "," ",null,null,null,null,null,null,null,"HYP101"]
[" ","REF101"," "," "," "," ",null,null,null,null,null,null,null,"REF101"]
[" ","REF102"," "," "," "," ",null,null,null,null,null,null,null,"REF102"]
[" ","REF103"," "," "," "," ",null,null,null,null,null,null,null,"REF103"]
[" ","REF104"," "," "," "," ",null,null,null,null,null,null,null,"REF104"]
[" ","REF105"," "," "," "," ",null,null,null,null,null,null,null,"REF105"]
[" ","SHR101"," "," "," "," ",null,null,null,null,null,null,null,"SHR101"]
[" ","SHR102"," "," "," "," ",null,null,null,null,null,null,null,"SHR102"]
[" ","SHR103"," "," "," "," ",null,null,null,null,null,null,null,"SHR103"]
[" ","SEP101"," "," "," "," ",null,null,null,null,null,null,null,"SEP101"]
[" ","SEP102"," "," "," "," ",null,null,null,null,null,null,null,"SEP102"]
[" ","SEP103"," "," "," "," ",null,null,null,null,null,null,null,"SEP103"]
[" ","SEP104"," "," "," "," ",null,null,null,null,null,null,null,"SEP104"]
[" ","SJF101"," "," "," "," ",null,null,null,null,null,null,null,"SJF101"]
[" ","STT101"," "," "," "," ",null,null,null,null,null,null,null,"STT101"]
[" ","STT105"," "," "," "," ",null,null,null,null,null,null,null,"STT105"]
[" ","STT102"," "," "," "," ",null,null,null,null,null,null,null,"STT102"]
[" ","STT103"," "," "," "," ",null,null,null,null,null,null,null,"STT103"]
[" ","STT104"," "," "," "," ",null,null,null,null,null,null,null,"STT104"]
[" ","STC101"," "," "," "," ",null,null,null,null,null,null,null,"STC101"]
[" ","STC102"," "," "," "," ",null,null,null,null,null,null,null,"STC102"]
[" ","STC103"," "," "," "," ",null,null,null,null,null,null,null,"STC103"]
[" ","STC104"," "," "," "," ",null,null,null,null,null,null,null,"STC104"]
[" ","SAS101"," "," "," "," ",null,null,null,null,null,null,null,"SAS101"]
[" ","SAS102"," "," "," "," ",null,null,null,null,null,null,null,"SAS102"]
[" ","EFI101"," "," "," "," ",null,null,null,null,null,null,null,"EFI101"]
[" ","EFI102"," "," "," "," ",null,null,null,null,null,null,null,"EFI102"]
[" ","EFI103"," "," "," "," ",null,null,null,null,null,null,null,"EFI103"]
[" ","TSR101"," "," "," "," ",null,null,null,null,null,null,null,"TSR101"]
[" ","TSR102"," "," "," "," ",null,null,null,null,null,null,null,"TSR102"]
[" ","RET101"," "," "," "," ",null,null,null,null,null,null,null,"RET101"]
[" ","RET102"," "," "," "," ",null,null,null,null,null,null,null,"RET102"]
[" ","SER101"," "," "," "," ",null,null,null,null,null,null,null,"SER101"]
[" ","SER102"," "," "," "," ",null,null,null,null,null,null,null,"SER102"]
[" ","SER103"," "," "," "," ",null,null,null,null,null,null,null,"SER103"]
[" ","SER104"," "," "," "," ",null,null,null,null,null,null,null,"SER104"]
[" ","SER105"," "," "," "," ",null,null,null,null,null,null,null,"SER105"]
[" ","HYP101"," "," "," "," ",null,null,null,null,null,null,null,"HYP101"]
[" ","REF101"," "," "," "," ",null,null,null,null,null,null,null,"REF101"]
[" ","REF102"," "," "," "," ",null,null,null,null,null,null,null,"REF102"]
[" ","REF103"," "," "," "," ",null,null,null,null,null,null,null,"REF103"]
[" ","REF104"," "," "," "," ",null,null,null,null,null,null,null,"REF104"]
[" ","REF105"," "," "," "," ",null,null,null,null,null,null,null,"REF105"]
[" ","SHR101"," "," "," "," ",null,null,null,null,null,null,null,"SHR101"]
[" ","SHR102"," "," "," "," ",null,null,null,null,null,null,null,"SHR102"]
[" ","SHR103"," "," "," "," ",null,null,null,null,null,null,null,"SHR103"]
[" ","SEP101"," "," "," "," ",null,null,null,null,null,null,null,"SEP101"]
[" ","SEP102"," "," "," "," ",null,null,null,null,null,null,null,"SEP102"]
[" ","SEP103"," "," "," "," ",null,null,null,null,null,null,null,"SEP103"]
[" ","SEP104"," "," "," "," ",null,null,null,null,null,null,null,"SEP104"]
[" ","SJF101"," "," "," "," ",null,null,null,null,null,null,null,"SJF101"]
[" ","STT101"," "," "," "," ",null,null,null,null,null,null,null,"STT101"]
[" ","STT105"," "," "," "," ",null,null,null,null,null,null,null,"STT105"]
[" ","STT102"," "," "," "," ",null,null,null,null,null,null,null,"STT102"]
[" ","STT103"," "," "," "," ",null,null,null,null,null,null,null,"STT103"]
[" ","STT104"," "," "," "," ",null,null,null,null,null,null,null,"STT104"]
[" ","STC101"," "," "," "," ",null,null,null,null,null,null,null,"STC101"]
[" ","STC102"," "," "," "," ",null,null,null,null,null,null,null,"STC102"]
[" ","STC103"," "," "," "," ",null,null,null,null,null,null,null,"STC103"]
[" ","STC104"," "," "," "," ",null,null,null,null,null,null,null,"STC104"]
[" ","SAS101"," "," "," "," ",null,null,null,null,null,null,null,"SAS101"]
[" ","SAS102"," "," "," "," ",null,null,null,null,null,null,null,"SAS102"]
[" ","EFI101"," "," "," "," ",null,null,null,null,null,null,null,"EFI101"]
[" ","EFI102"," "," "," "," ",null,null,null,null,null,null,null,"EFI102"]
[" ","EFI103"," "," "," "," ",null,null,null,null,null,null,null,"EFI103"]
[" ","TSR101"," "," "," "," ",null,null,null,null,null,null,null,"TSR101"]
[" ","TSR102"," "," "," "," ",null,null,null,null,null,null,null,"TSR102"]
[" ","RET101"," "," "," "," ",null,null,null,null,null,null,null,"RET101"]
[" ","RET102"," "," "," "," ",null,null,null,null,null,null,null,"RET102"]
[null,null,null,null,null," "]
[null,null,null,null,null," "]
[null,null,null,null,null," "]
[null,null,null,null,null," "]
[null,null,null,null,null," "]
[null,null,null,null,null," "]
[null,null,null,null,null," "]
[null,null,null,null,null," "]
[null,null,null,null,null," "]
[null,null,null,null,null," "]
[null,null,null,null,null," "]
[null,null,null,null,null," "]
[null,null,null,null,null," "]
[null,null,null,null,null," "]
[null,null,null,null,null," "]
[null,null,null,null,null," "]
[null,null,null,null,null," "]
[null,null,null,null,null," "]
[null,null,null,null,null," "]
[null,null,null,null,null," "]
[null,null,null,null,null," "]
[null,null,null,null,null," "]
[null,null,null,null,null," "]
[null,null,null,null,null," "]
[null,null,null,null,null," "]
[null,null,null,null,null," "]
[null,null,null,null,null," "]
[null,null,null,null,null," "]
[null,null,null,null,null," "]
[null,null,null,null,null," "]
[null,null,null,null,null," "]
[null,null,null,null,null," "]
[null,null,null,null,null," "]
[null,null,null,null,null," "]
[null,null,null,null,null," "]
[null,null,null,null,null," "]
[null,null,null,null,null," "]
[null,null,null,null,null," "]
[null,null,null,null,null," "]
[null,null,null,null,null," "]
[null,null,null,null,null," "]
[null,null,null,null,null," "]
[null,null,null,null,null," "]
[null,null,null,null,null," "]
[null,null,null,null,null," "]
[null,null,null,null,null," "]
[null,null,null,null,null," "]
[null,null,null,null,null," "]
[null,null,null,null,null," "]
[null,null,null,null,null," "]
[null,null,null,null,null," "]
[null,null,null,null,null," "]
[null,null,null,null,null," "]
[null,null,null,null,null," "]
[null,null,null,null,null," "]
[null,null,null,null,null," "]
[null,null,null,null,null," "]
[null,null,null,null,null," "]
[null,null,null,null,null," "]
[null,null,null,null,null," "]
[null,null,null,null,null," "]
[null,null,null,null,null," "]
[null,null,null,null,null," "]
[null,null,null,null,null," "]
[null,null,null,null,null," "]
[null,null,null,null,null," "]
[null,null,null,null,null," "]
[null,null,null,null,null," "]
[null,null,null,null,null," "]
[null,null,null,null,null," "]
[null,null,null,null,null," "]
[null,null,null,null,null," "]
[null,null,null,null,null," "]
[null,null,null,null,null," "]
[null,null,null,null,null," "]
[null,null,null,null,null," "]
[null,null,null,null,null," "]
[null,null,null,null,null," "]
[null,null,null,null,null," "]
[null,null,null,null,null," "]
[null,null,null,null,null," "]
[null,null,null,null,null," "]
[null,null,null,null,null," "]
[null,null,null,null,null," "]
[null,null,null,null,null," "]
[null,null,null,null,null," "]
[null,null,null,null,null," "]
[null,null,null,null,null," "]
[null,null,null,null,null," "]
[null,null,null,null,null," "]
[null,null,null,null,null," "]
[null,null,null,null,null," "]
[null,null,null,null,null," "]
[null,null,null,null,null," "]
[null,null,null,null,null," "]
[null,null,null,null,null," "]
[null,null,null,null,null," "]
[null,null,null,null,null," "]
[null,null,null,null,null," "]
[null,null,null,null,null," "]
[null,null,null,null,null," "]
[null,null,null,null,null," "]
[null,null,null,null,null," "]
[null,null,null,null,null," "]
[null,null,null,null,null," "]
[null,null,null,null,null," "]
[null,null,null,null,null," "]
[null,null,null,null,null," "]
[null,null,null,null,null," "]
[null,null,null,null,null," "]
[null,null,null,null,null," "]
[null,null,null,null,null," "]
[null,null,null,null,null," "]
[null,null,null,null,null," "]
[null,null,null,null,null," "]
[null,null,null,null,null," "]
[null,null,null,null,null," "]
[null,null,null,null,null," "]
[null,null,null,null,null," "]
[null,null,null,null,null," "]
[null,null,null,null,null," "]
[null,null,null,null,null," "]
[null,null,null,null,null," "]
[null,null,null,null,null," "]
[null,null,null,null,null," "]
[null,null,null,null,null," "]
[null,null,null,null,null," "]
[null,null,null,null,null," "]
[null,null,null,null,null," "]
[null,null,null,null,null," "]
[null,null,null,null,null," "]
[null,null,null,null,null," "]
[null,null,null,null,null," "]
[null,null,null,null,null," "]
[null,null,null,null,null," "]
[null,null,null,null,null," "]
[null,null,null,null,null," "]
[null,null,null,null,null," "]
[null,null,null,null,null," "]
[null,null,null,null,null," "]
[null,null,null,null,null," "]
[null,null,null,null,null," "]
[null,null,null,null,null," "]
[null,null,null,null,null," "]
[null,null,null,null,null," "]
[null,null,null,null,null," "]
[null,null,null,null,null," "]
[null,null,null,null,null," "]
[null,null,null,null,null," "]
[null,null,null,null,null," "]
[null,null,null,null,null," "]
[null,null,null,null,null," "]
[null,null,null,null,null," "]
[null,null,null,null,null," "]
[null,null,null,null,null," "]
[null,null,null,null,null," "]
[null,null,null,null,null," "]
[null,null,null,null,null," "]
[null,null,null,null,null," "]
[null,null,null,null,null," "]
[null,null,null,null,null," "]
[null,null,null,null,null," "]
[null,null,null,null,null," "]
[null,null,null,null,null," "]
[null,null,null,null,null," "]
[null,null,null,null,null," "]
[null,null,null,null,null," "]
[null,null,null,null,null," "]
[null,null,null,null,null," "]
[null,null,null,null,null," "]
[null,null,null,null,null," "]
[null,null,null,null,null," "]
[null,null,null,null,null," "]
[null,null,null,null,null," "]
[null,null,null,null,null," "]
[null,null,null,null,null," "]
[null,null,null,null,null," "]
[null,null,null,null,null," "]
[null,null,null,null,null," "]
[null,null,null,null,null," "]
[null,null,null,null,null," "]
[null,null,null,null,null," "]
[null,null,null,null,null," "]
[null,null,null,null,null," "]
[null,null,null,null,null," "]
[null,null,null,null,null," "]
[null,null,null,null,null," "]
[null,null,null,null,null," "]
[null,null,null,null,null," "]
[null,null,null,null,null," "]
[null,null,null,null,null," "]
[null,null,null,null,null," "]
[null,null,null,null,null," "]
[null,null,null,null,null," "]
[null,null,null,null,null," "]
[null,null,null,null,null," "]
[null,null,null,null,null," "]
[null,null,null,null,null," "]
[null,null,null,null,null," "]
[null,null,null,null,null," "]
[null,null,null,null,null," "]
[null,null,null,null,null," "]
[null,null,null,null,null," "]
[null,null,null,null,null," "]
[null,null,null,null,null," "]
[null,null,null,null,null," "]
[null,null,null,null,null," "]
[null,null,null,null,null," "]
[null,null,null,null,null," "]
[null,null,null,null,null," "]
[null,null,null,null,null," "]
[null,null,null,null,null," "]
[null,null,null,null,null," "]
[null,null,null,null,null," "]
[null,null,null,null,null," "]
[null,null,null,null,null," "]
[null,null,null,null,null," "]
[null,null,null,null,null," "]
[null,null,null,null,null," "]
[null,null,null,null,null," "]
[null,null,null,null,null," "]
[null,null,null,null,null," "]
[null,null,null,null,null," "]
[null,null,null,null,null," "]
[null,null,null,null,null," "]
[null,null,null,null,null," "]
[null,null,null,null,null," "]
[null,null,null,null,null," "]
[null,null,null,null,null," "]
[null,null,null,null,null," "]
[null,null,null,null,null," "]
[null,null,null,null,null," "]
[null,null,null,null,null," "]
[null,null,null,null,null," "]
[null,null,null,null,null," "]
[null,null,null,null,null," "]
[null,null,null,null,null," "]
[null,null,null,null,null," "]
[null,null,null,null,null," "]
[null,null,null,null,null," "]
[null,null,null,null,null," "]
[null,null,null,null,null," "]
[null,null,null,null,null," "]
[null,null,null,null,null," "]
[null,null,null,null,null," "]
[null,null,null,null,null," "]
[null,null,null,null,null," "]
[null,null,null,null,null," "]
[null,null,null,null,null," "]
[null,null,null,null,null," "]
[null,null,null,null,null," "]
[null,null,null,null,null," "]
[null,null,null,null,null," "]
[null,null,null,null,null," "]
[null,null,null,null,null," "]
[null,null,null,null,null," "]
[null,null,null,null,null," "]
[null,null,null,null,null," "]
[null,null,null,null,null," "]
[null,null,null,null,null," "]
[null,null,null,null,null," "]
[null,null,null,null,null," "]
[null,null,null,null,null," "]
[null,null,null,null,null," "]
[null,null,null,null,null," "]
[null,null,null,null,null," "]
[null,null,null,null,null," "]
[null,null,null,null,null," "]
[null,null,null,null,null," "]
[null,null,null,null,null," "]
[null,null,null,null,null," "]
[null,null,null,null,null," "]
[null,null,null,null,null," "]
[null,null,null,null,null," "]
[null,null,null,null,null," "]
[null,null,null,null,null," "]
[null,null,null,null,null," "]
[null,null,null,null,null," "]
[null,null,null,null,null," "]
[null,null,null,null,null," "]
[null,null,null,null,null," "]
[null,null,null,null,null," "]
[null,null,null,null,null," "]
[null,null,null,null,null," "]
[null,null,null,null,null," "]
[null,null,null,null,null," "]
[null,null,null,null,null," "]
[null,null,null,null,null," "]
[null,null,null,null,null," "]
[null,null,null,null,null," "]
[null,null,null,null,null," "]
[null,null,null,null,null," "]
[null,null,null,null,null," "]
[null,null,null,null,null," "]
[null,null,null,null,null," "]
[null,null,null,null,null," "]
[null,null,null,null,null," "]
[null,null,null,null,null," "]
[null,null,null,null,null," "]
[null,null,null,null,null," "]
[null,null,null,null,null," "]
[null,null,null,null,null," "]
[null,null,null,null,null," "]
[null,null,null,null,null," "]
[null,null,null,null,null," "]
[null,null,null,null,null," "]
[null,null,null,null,null," "]
[null,null,null,null,null," "]
[null,null,null,null,null," "]
[null,null,null,null,null," "]
[null,null,null,null,null," "]
[null,null,null,null,null," "]
[null,null,null,null,null," "]
[null,null,null,null,null," "]
[null,null,null,null,null," "]
[null,null,null,null,null," "]
[null,null,null,null,null," "]
[null,null,null,null,null," "]
[null,null,null,null,null," "]
[null,null,null,null,null," "]
[null,null,null,null,null," "]
[null,null,null,null,null," "]
[null,null,null,null,null," "]
[null,null,null,null,null," "]
[null,null,null,null,null," "]
[null,null,null,null,null," "]
[null,null,null,null,null," "]
[null,null,null,null,null," "]
[null,null,null,null,null," "]
[null,null,null,null,null," "]
[null,null,null,null,null," "]
[null,null,null,null,null," "]
[null,null,null,null,null," "]
[null,null,null,null,null," "]
[null,null,null,null,null," "]
[null,null,null,null,null," "]
[null,null,null,null,null," "]
[null,null,null,null,null," "]
[null,null,null,null,null," "]
[null,null,null,null,null," "]
[null,null,null,null,null," "]
[null,null,null,null,null," "]
[null,null,null,null,null," "]
[null,null,null,null,null," "]
[null,null,null,null,null," "]
[null,null,null,null,null," "]
[null,null,null,null,null," "]
[null,null,null,null,null," "]
[null,null,null,null,null," "]
[null,null,null,null,null," "]
[null,null,null,null,null," "]
[null,null,null,null,null," "]
[null,null,null,null,null," "]
[null,null,null,null,null," "]
[null,null,null,null,null," "]
[null,null,null,null,null," "]
[null,null,null,null,null," "]
[null,null,null,null,null," "]
[null,null,null,null,null," "]
[null,null,null,null,null," "]
[null,null,null,null,null," "]
[null,null,null,null,null," "]
[null,null,null,null,null," "]
[null,null,null,null,null," "]
[null,null,null,null,null," "]
[null,null,null,null,null," "]
[null,null,null,null,null," "]
[null,null,null,null,null," "]
[null,null,null,null,null," "]
[null,null,null,null,null," "]
[null,null,null,null,null," "]
[null,null,null,null,null," "]
[null,null,null,null,null," "]
[null,null,null,null,null," "]
[null,null,null,null,null," "]
[null,null,null,null,null," "]
[null,null,null,null,null," "]
[null,null,null,null,null," "]
[null,null,null,null,null," "]
[null,null,null,null,null," "]
[null,null,null,null,null," "]
[null,null,null,null,null," "]
[null,null,null,null,null," "]
[null,null,null,null,null," "]
[null,null,null,null,null," "]
[null,null,null,null,null," "]
[null,null,null,null,null," "]
[null,null,null,null,null," "]
[null,null,null,null,null," "]
[null,null,null,null,null," "]
[null,null,null,null,null," "]
[null,null,null,null,null," "]
[null,null,null,null,null," "]
[null,null,null,null,null," "]
[null,null,null,null,null," "]
[null,null,null,null,null," "]
[null,null,null,null,null," "]
[null,null,null,null,null," "]
[null,null,null,null,null," "]
[null,null,null,null,null," "]
[null,null,null,null,null," "]
[null,null,null,null,null," "]
[null,null,null,null,null," "]
[null,null,null,null,null," "]
[null,null,null,null,null," "]
[null,null,null,null,null," "]
[null,null,null,null,null," "]
[null,null,null,null,null," "]
[null,null,null,null,null," "]
[null,null,null,null,null," "]
[null,null,null,null,null," "]
[null,null,null,null,null," "]
[null,null,null,null,null," "]
[null,null,null,null,null," "]
[null,null,null,null,null," "]
[null,null,null,null,null," "]
[null,null,null,null,null," "]
[null,null,null,null,null," "]
[null,null,null,null,null," "]
[null,null,null,null,null," "]
[null,null,null,null,null," "]
[null,null,null,null,null," "]
[null,null,null,null,null," "]
[null,null,null,null,null," "]
[null,null,null,null,null," "]
[null,null,null,null,null," "]
[null,null,null,null,null," "]
[null,null,null,null,null," "]
[null,null,null,null,null," "]
[null,null,null,null,null," "]
[null,null,null,null,null," "]
[null,null,null,null,null," "]
[null,null,null,null,null," "]
[null,null,null,null,null," "]
[null,null,null,null,null," "]
[null,null,null,null,null," "]
[null,null,null,null,null," "]
[null,null,null,null,null," "]
[null,null,null,null,null," "]
[null,null,null,null,null," "]
[null,null,null,null,null," "]
[null,null,null,null,null," "]
[null,null,null,null,null," "]
[null,null,null,null,null," "]
[null,null,null,null,null," "]
[null,null,null,null,null," "]
[null,null,null,null,null," "]
[null,null,null,null,null," "]
[null,null,null,null,null," "]
[null,null,null,null,null," "]
[null,null,null,null,null," "]
[null,null,null,null,null," "]
[null,null,null,null,null," "]
[null,null,null,null,null," "]
[null,null,null,null,null," "]
[null,null,null,null,null," "]
[null,null,null,null,null," "]
[null,null,null,null,null," "]
[null,null,null,null,null," "]
[null,null,null,null,null," "]
[null,null,null,null,null," "]
[null,null,null,null,null," "]
[null,null,null,null,null," "]
[null,null,null,null,null," "]
[null,null,null,null,null," "]
[null,null,null,null,null," "]
[null,null,null,null,null," "]
[null,null,null,null,null," "]
[null,null,null,null,null," "]
[null,null,null,null,null," "]
[null,null,null,null,null," "]
[null,null,null,null,null," "]
[null,null,null,null,null," "]
[null,null,null,null,null," "]
[null,null,null,null,null," "]
[null,null,null,null,null," "]
[null,null,null,null,null," "]
[null,null,null,null,null," "]
[null,null,null,null,null," "]
[null,null,null,null,null," "]
[null,null,null,null,null," "]
[null,null,null,null,null," "]
[null,null,null,null,null," "]
[null,null,null,null,null," "]
[null,null,null,null,null," "]
[null,null,null,null,null," "]
[null,null,null,null,null," "]
[null,null,null,null,null," "]
[null,null,null,null,null," "]
[null,null,null,null,null," "]
[null,null,null,null,null," "]
[null,null,null,null,null," "]
[null,null,null,null,null," "]
[null,null,null,null,null," "]
[null,null,null,null,null," "]
[null,null,null,null,null," "]
[null,null,null,null,null," "]
[null,null,null,null,null," "]
[null,null,null,null,null," "]
[null,null,null,null,null," "]
[null,null,null,null,null," "]
[null,null,null,null,null," "]
[null,null,null,null,null," "]
[null,null,null,null,null," "]
[null,null,null,null,null," "]
[null,null,null,null,null," "]
[null,null,null,null,null," "]
[null,null,null,null,null," "]
[null,null,null,null,null," "]
[null,null,null,null,null," "]
[null,null,null,null,null," "]
[null,null,null,null,null," "]
[null,null,null,null,null," "]
[null,null,null,null,null," "]
[null,null,null,null,null," "]
[null,null,null,null,null," "]
[null,null,null,null,null," "]
[null,null,null,null,null," "]
[null,null,null,null,null," "]
[null,null,null,null,null," "]
[null,null,null,null,null," "]
[null,null,null,null,null," "]
[null,null,null,null,null," "]
[null,null,null,null,null," "]
[null,null,null,null,null," "]
[null,null,null,null,null," "]
[null,null,null,null,null," "]
[null,null,null,null,null," "]
[null,null,null,null,null," "]
[null,null,null,null,null," "]
[null,null,null,null,null," "]
[null,null,null,null,null," "]
[null,null,null,null,null," "]
[null,null,null,null,null," "]
[null,null,null,null,null," "]
[null,null,null,null,null," "]
[null,null,null,null,null," "]
[null,null,null,null,null," "]
[null,null,null,null,null," "]
[null,null,null,null,null," "]
[null,null,null,null,null," "]
[null,null,null,null,null," "]
[null,null,null,null,null," "]
[null,null,null,null,null," "]
[null,null,null,null,null," "]
[null,null,null,null,null," "]
[null,null,null,null,null," "]
[null,null,null,null,null," "]
[null,null,null,null,null," "]
[null,null,null,null,null," "]
[null,null,null,null,null," "]
[null,null,null,null,null," "]
[null,null,null,null,null," "]
[null,null,null,null,null," "]
[null,null,null,null,null," "]
[null,null,null,null,null," "]
[null,null,null,null,null," "]
[null,null,null,null,null," "]
[null,null,null,null,null," "]
[null,null,null,null,null," "]
[null,null,null,null,null," "]
[null,null,null,null,null," "]
[null,null,null,null,null," "]
[null,null,null,null,null," "]
[null,null,null,null,null," "]
[null,null,null,null,null," "]
[null,null,null,null,null," "]
[null,null,null,null,null," "]
[null,null,null,null,null," "]
[null,null,null,null,null," "]
[null,null,null,null,null," "]
[null,null,null,null,null," "]
[null,null,null,null,null," "]
[null,null,null,null,null," "]
[null,null,null,null,null," "]
[null,null,null,null,null," "]
[null,null,null,null,null," "]
[null,null,null,null,null," "]
[null,null,null,null,null," "]
[null,null,null,null,null," "]
[null,null,null,null,null," "]
[null,null,null,null,null," "]
[null,null,null,null,null," "]
[null,null,null,null,null," "]
[null,null,null,null,null," "]
[null,null,null,null,null," "]
[null,null,null,null,null," "]
[null,null,null,null,null," "]
[null,null,null,null,null," "]
[null,null,null,null,null," "]
[null,null,null,null,null," "]
[null,null,null,null,null," "]
[null,null,null,null,null," "]
[null,null,null,null,null," "]
[null,null,null,null,null," "]
[null,null,null,null,null," "]
[null,null,null,null,null," "]
[null,null,null,null,null," "]
[null,null,null,null,null," "]
[null,null,null,null,null," "]
[null,null,null,null,null," "]
[null,null,null,null,null," "]
[null,null,null,null,null," "]
[null,null,null,null,null," "]
[null,null,null,null,null," "]
[null,null,null,null,null," "]
[null,null,null,null,null," "]
[null,null,null,null,null," "]
[null,null,null,null,null," "]
[null,null,null,null,null," "]
[null,null,null,null,null," "]
[null,null,null,null,null," "]
[null,null,null,null,null," "]
[null,null,null,null,null," "]
[null,null,null,null,null," "]
[null,null,null,null,null," "]
[null,null,null,null,null," "]
[null,null,null,null,null," "]
[null,null,null,null,null," "]
[null,null,null,null,null," "]
[null,null,null,null,null," "]
[null,null,null,null,null," "]
[null,null,null,null,null," "]
[null,null,null,null,null," "]
[null,null,null,null,null," "]
[null,null,null,null,null," "]
[null,null,null,null,null," "]
[null,null,null,null,null," "]
[null,null,null,null,null," "]
[null,null,null,null,null," "]
[null,null,null,null,null," "]
[null,null,null,null,null," "]
[null,null,null,null,null," "]
[null,null,null,null,null," "]
[null,null,null,null,null," "]
[null,null,null,null,null," "]
[null,null,null,null,null," "]
[null,null,null,null,null," "]
[null,null,null,null,null," "]
[null,null,null,null,null," "]
[null,null,null,null,null," "]
[null,null,null,null,null," "]
[null,null,null,null,null," "]
[null,null,null,null,null," "]
[null,null,null,null,null," "]
[null,null,null,null,null," "]
[null,null,null,null,null," "]
[null,null,null,null,null," "]
[null,null,null,null,null," "]
[null,null,null,null,null," "]
[null,null,null,null,null," "]
[null,null,null,null,null," "]
[null,null,null,null,null," "]
[null,null,null,null,null," "]
[null,null,null,null,null," "]
[null,null,null,null,null," "]
[null,null,null,null,null," "]
[null,null,null,null,null," "]
[null,null,null,null,null," "]
[null,null,null,null,null," "]
[null,null,null,null,null," "]
[null,null,null,null,null," "]
[null,null,null,null,null," "]
[null,null,null,null,null," "]
[null,null,null,null,null," "]
[null,null,null,null,null," "]
[null,null,null,null,null," "]
[null,null,null,null,null," "]
[null,null,null,null,null," "]
[null,null,null,null,null," "]
[null,null,null,null,null," "]
[null,null,null,null,null," "]
[null,null,null,null,null," "]
[null,null,null,null,null," "]
[null,null,null,null,null," "]
[null,null,null,null,null," "]
[null,null,null,null,null," "]
[null,null,null,null,null," "]
[null,null,null,null,null," "]
[null,null,null,null,null," "]
[null,null,null,null,null," "]
[null,null,null,null,null," "]
[null,null,null,null,null," "]
[null,null,null,null,null," "]
[null,null,null,null,null," "]
[null,null,null,null,null," "]
[null,null,null,null,null," "]
[null,null,null,null,null," "]
[null,null,null,null,null," "]
[null,null,null,null,null," "]
[null,null,null,null,null," "]
[null,null,null,null,null," "]
[null,null,null,null,null," "]
[null,null,null,null,null," "]
[null,null,null,null,null," "]
[null,null,null,null,null," "]
[null,null,null,null,null," "]
[null,null,null,null,null," "]
[null,null,null,null,null," "]
[null,null,null,null,null," "]
[null,null,null,null,null," "]
[null,null,null,null,null," "]
[null,null,null,null,null," "]
[null,null,null,null,null," "]
[null,null,null,null,null," "]
[null,null,null,null,null," "]
[null,null,null,null,null," "]
[null,null,null,null,null," "]
[null,null,null,null,null," "]
[null,null,null,null,null," "]
[null,null,null,null,null," "]
[null,null,null,null,null," "]
[null,null,null,null,null," "]
[null,null,null,null,null," "]
[null,null,null,null,null," "]
[null,null,null,null,null," "]
[null,null,null,null,null," "]
[null,null,null,null,null," "]
[null,null,null,null,null," "]
[null,null,null,null,null," "]
[null,null,null,null,null," "]
[null,null,null,null,null," "]
[null,null,null,null,null," "]
[null,null,null,null,null," "]
[null,null,null,null,null," "]
[null,null,null,null,null," "]
[null,null,null,null,null," "]
[null,null,null,null,null," "]
[null,null,null,null,null," "]
[null,null,null,null,null," "]
[null,null,null,null,null," "]
[null,null,null,null,null," "]
[null,null,null,null,null," "]
[null,null,null,null,null," "]
[null,null,null,null,null," "]
[null,null,null,null,null," "]
[null,null,null,null,null," "]
[null,null,null,null,null," "]
[null,null,null,null,null," "]
[null,null,null,null,null," "]
[null,null,null,null,null," "]
[null,null,null,null,null," "]
[null,null,null,null,null," "]
[null,null,null,null,null," "]
[null,null,null,null,null," "]
[null,null,null,null,null," "]
[null,null,null,null,null," "]
[null,null,null,null,null," "]
[null,null,null,null,null," "]
[null,null,null,null,null," "]
[null,null,null,null,null," "]
[null,null,null,null,null," "]
[null,null,null,null,null," "]
[null,null,null,null,null," "]
[null,null,null,null,null," "]
[null,null,null,null,null," "]
[null,null,null,null,null," "]
[null,null,null,null,null," "]
[null,null,null,null,null," "]
[null,null,null,null,null," "]
[null,null,null,null,null," "]
[null,null,null,null,null," "]
[null,null,null,null,null," "]
[null,null,null,null,null," "]
[null,null,null,null,null," "]
[null,null,null,null,null," "]
[null,null,null,null,null," "]
[null,null,null,null,null," "]
[null,null,null,null,null," "]
[null,null,null,null,null," "]
[null,null,null,null,null," "]
[null,null,null,null,null," "]
[null,null,null,null,null," "]
[null,null,null,null,null," "]
[null,null,null,null,null," "]
[null,null,null,null,null," "]
[null,null,null,null,null," "]
[null,null,null,null,null," "]
[null,null,null,null,null," "]
[null,null,null,null,null," "]
[null,null,null,null,null," "]
[null,null,null,null,null," "]
[null,null,null,null,null," "]
[null,null,null,null,null," "]
[null,null,null,null,null," "]
[null,null,null,null,null," "]
[null,null,null,null,null," "]
[null,null,null,null,null," "]
[null,null,null,null,null," "]
[null,null,null,null,null," "]
[null,null,null,null,null," "]
[null,null,null,null,null," "]
[null,null,null,null,null," "]
[null,null,null,null,null," "]
[null,null,null,null,null," "]
[null,null,null,null,null," "]
[null,null,null,null,null," "]
[null,null,null,null,null," "]
[null,null,null,null,null," "]
[null,null,null,null,null," "]
[null,null,null,null,null," "]
[null,null,null,null,null," "]
[null,null,null,null,null," "]
[null,null,null,null,null," "]
[null,null,null,null,null," "]
[null,null,null,null,null," "]
[null,null,null,null,null," "]
[null,null,null,null,null," "]
[null,null,null,null,null," "]
[null,null,null,null,null," "]
[null,null,null,null,null," "]
[null,null,null,null,null," "]
[null,null,null,null,null," "]
[null,null,null,null,null," "]
[null,null,null,null,null," "]
[null,null,null,null,null," "]
[null,null,null,null,null," "]
[null,null,null,null,null," "]
[null,null,null,null,null," "]
[null,null,null,null,null," "]
[null,null,null,null,null," "]
[null,null,null,null,null," "]
[null,null,null,null,null," "]
[null,null,null,null,null," "]
[null,null,null,null,null," "]
[null,null,null,null,null," "]
[null,null,null,null,null," "]
[null,null,null,null,null," "]
[null,null,null,null,null," "]
[null,null,null,null,null," "]
[null,null,null,null,null," "]
[null,null,null,null,null," "]
[null,null,null,null,null," "]
[null,null,null,null,null," "]
[null,null,null,null,null," "]
[null,null,null,null,null," "]
[null,null,null,null,null," "]
[null,null,null,null,null," "]
[null,null,null,null,null," "]
[null,null,null,null,null," "]
[null,null,null,null,null," "]
[null,null,null,null,null," "]
[null,null,null,null,null," "]
[null,null,null,null,null," "]
[null,null,null,null,null," "]
[null,null,null,null,null," "]
[null,null,null,null,null," "]
[null,null,null,null,null," "]
[null,null,null,null,null," "]
[null,null,null,null,null," "]
[null,null,null,null,null," "]
[null,null,null,null,null," "]
[null,null,null,null,null," "]
[null,null,null,null,null," "]
[null,null,null,null,null," "]
[null,null,null,null,null," "]
[null,null,null,null,null," "]
[null,null,null,null,null," "]
[null,null,null,null,null," "]
[null,null,null,null,null," "]
[null,null,null,null,null," "]
[null,null,null,null,null," "]
[null,null,null,null,null," "]
[null,null,null,null,null," "]
[null,null,null,null,null," "]
[null,null,null,null,null," "]
[null,null,null,null,null," "]
[null,null,null,null,null," "]
[null,null,null,null,null," "]
[null,null,null,null,null," "]
[null,null,null,null,null," "]
[null,null,null,null,null," "]
[null,null,null,null,null," "]
[null,null,null,null,null," "]
[null,null,null,null,null," "]
[null,null,null,null,null," "]
[null,null,null,null,null," "]
[null,null,null,null,null," "]
[null,null,null,null,null," "]
[null,null,null,null,null," "]
[null,null,null,null,null," "]
[null,null,null,null,null," "]
[null,null,null,null,null," "]
[null,null,null,null,null," "]
[null,null,null,null,null," "]
[null,null,null,null,null," "]
[null,null,null,null,null," "]
[null,null,null,null,null," "]
[null,null,null,null,null," "]
[null,null,null,null,null," "]
[null,null,null,null,null," "]
[null,null,null,null,null," "]
[null,null,null,null,null," "]
[null,null,null,null,null," "]
[null,null,null,null,null," "]
[null,null,null,null,null," "]
[null,null,null,null,null," "]
[null,null,null,null,null," "]
[null,null,null,null,null," "]
[null,null,null,null,null," "]
[null,null,null,null,null," "]
[null,null,null,null,null," "]
[null,null,null,null,null," "]
[null,null,null,null,null," "]
[null,null,null,null,null," "]
[null,null,null,null,null," "]
[null,null,null,null,null," "]
[null,null,null,null,null," "]
[null,null,null,null,null," "]
[null,null,null,null,null," "]
[null,null,null,null,null," "]
[null,null,null,null,null," "]
[null,null,null,null,null," "]
[null,null,null,null,null," "]
[null,null,null,null,null," "]
[null,null,null,null,null," "]
[null,null,null,null,null," "]
[null,null,null,null,null," "]
[null,null,null,null,null," "]
[null,null,null,null,null," "]
[null,null,null,null,null," "]
[null,null,null,null,null," "]
[null,null,null,null,null," "]
[null,null,null,null,null," "]
[null,null,null,null,null," "]
[null,null,null,null,null," "]
[null,null,null,null,null," "]
[null,null,null,null,null," "]
[null,null,null,null,null," "]
[null,null,null,null,null," "]
[null,null,null,null,null," "]
[null,null,null,null,null," "]
[null,null,null,null,null," "]
[null,null,null,null,null," "]
[null,null,null,null,null," "]
[null,null,null,null,null," "]
[null,null,null,null,null," "]
[null,null,null,null,null," "]
[null,null,null,null,null," "]
[null,null,null,null,null," "]
[null,null,null,null,null," "]
[null,null,null,null,null," "]
[null,null,null,null,null," "]
[null,null,null,null,null," "]
[null,null,null,null,null," "]
[null,null,null,null,null," "]
[null,null,null,null,null," "]
[null,null,null,null,null," "]
[null,null,null,null,null," "]
[null,null,null,null,null," "]
[null,null,null,null,null," "]
[null,null,null,null,null," "]
[null,null,null,null,null," "]
[null,null,null,null,null," "]
[null,null,null,null,null," "]
[null,null,null,null,null," "]
[null,null,null,null,null," "]
[null,null,null,null,null," "]
[null,null,null,null,null," "]
[null,null,null,null,null," "]
[null,null,null,null,null," "]
[null,null,null,null,null," "]
[null,null,null,null,null," "]
[null,null,null,null,null," "]
[null,null,null,null,null," "]
[null,null,null,null,null," "]
[null,null,null,null,null," "]
[null,null,null,null,null," "]
[null,null,null,null,null," "]
[null,null,null,null,null," "]
[null,null,null,null,null," "]
[null,null,null,null,null," "]

{"sheet":"VARIABLES_BALANCE","index":7,"n_rows":1069,"n_cols":14,"rows_kept":1069,"cut":false,"hidden":true,"merged":[]}
["ID_DEALER_CODE","ID_ACCOUNT","YEAR","MONTH","ID_CURRENCY","AMOUNT"]
[57040,{"$f":"N2","v":1111},2015,1,"MXN",40000,null,null,null,null,null,null,null,1111]
[57040,{"$f":"N3","v":1112},2015,1,"MXN",7468211,null,null,null,null,null,null,null,1112]
[57040,1113,2015,1,"MXN",0,null,null,null,null,null,null,null,1113]
[57040,1210,2015,1,"MXN",1041961.5200000001,null,null,null,null,null,null,null,1210]
[57040,1211,2015,1,"MXN",21992712,null,null,null,null,null,null,null,1211]
[57040,1212,2015,1,"MXN",0,null,null,null,null,null,null,null,1212]
[57040,1213,2015,1,"MXN",0,null,null,null,null,null,null,null,1213]
[57040,1214,2015,1,"MXN",0,null,null,null,null,null,null,null,1214]
[57040,1215,2015,1,"MXN",0,null,null,null,null,null,null,null,1215]
[57040,1216,2015,1,"MXN",0,null,null,null,null,null,null,null,1216]
[57040,1217,2015,1,"MXN",0,null,null,null,null,null,null,null,1217]
[57040,1218,2015,1,"MXN",840500,null,null,null,null,null,null,null,1218]
[57040,1219,2015,1,"MXN",0,null,null,null,null,null,null,null,1219]
[57040,1220,2015,1,"MXN",1313770.49,null,null,null,null,null,null,null,1220]
[57040,1221,2015,1,"MXN",22027.18,null,null,null,null,null,null,null,1221]
[57040,1222,2015,1,"MXN",0,null,null,null,null,null,null,null,1222]
[57040,1223,2015,1,"MXN",12555122,null,null,null,null,null,null,null,1223]
[57040,1310,2015,1,"MXN",2516295.52,null,null,null,null,null,null,null,1310]
[57040,1311,2015,1,"MXN",0,null,null,null,null,null,null,null,1311]
[57040,1312,2015,1,"MXN",16952516.530000001,null,null,null,null,null,null,null,1312]
[57040,1313,2015,1,"MXN",0,null,null,null,null,null,null,null,1313]
[57040,1314,2015,1,"MXN",1276586.21,null,null,null,null,null,null,null,1314]
[57040,1315,2015,1,"MXN",0,null,null,null,null,null,null,null,1315]
[57040,1316,2015,1,"MXN",83979.94,null,null,null,null,null,null,null,1316]
[57040,1317,2015,1,"MXN",2566,null,null,null,null,null,null,null,1317]
[57040,1318,2015,1,"MXN",5899,null,null,null,null,null,null,null,1318]
[57040,1319,2015,1,"MXN",25566,null,null,null,null,null,null,null,1319]
[57040,1320,2015,1,"MXN",3588,null,null,null,null,null,null,null,1320]
[57040,1410,2015,1,"MXN",0,null,null,null,null,null,null,null,1410]
[57040,1411,2015,1,"MXN",0,null,null,null,null,null,null,null,1411]
[57040,1412,2015,1,"MXN",0,null,null,null,null,null,null,null,1412]
[57040,1413,2015,1,"MXN",0,null,null,null,null,null,null,null,1413]
[57040,1414,2015,1,"MXN",0,null,null,null,null,null,null,null,1414]
[57040,1415,2015,1,"MXN",0,null,null,null,null,null,null,null,1415]
[57040,1510,2015,1,"MXN",0,null,null,null,null,null,null,null,1510]
[57040,1511,2015,1,"MXN",0,null,null,null,null,null,null,null,1511]
[57040,2110,2015,1,"MXN",0,null,null,null,null,null,null,null,2110]
[57040,2111,2015,1,"MXN",0,null,null,null,null,null,null,null,2111]
[57040,2112,2015,1,"MXN",0,null,null,null,null,null,null,null,2112]
[57040,2113,2015,1,"MXN",2442687.89,null,null,null,null,null,null,null,2113]
[57040,2114,2015,1,"MXN",1652874.9500000002,null,null,null,null,null,null,null,2114]
[57040,2115,2015,1,"MXN",683470.65,null,null,null,null,null,null,null,2115]
[57040,2116,2015,1,"MXN",581711.65,null,null,null,null,null,null,null,2116]
[57040,2117,2015,1,"MXN",1643522.58,null,null,null,null,null,null,null,2117]
[57040,2118,2015,1,"MXN",1178834.95,null,null,null,null,null,null,null,2118]
[57040,2119,2015,1,"MXN",428603.4,null,null,null,null,null,null,null,2119]
[57040,2120,2015,1,"MXN",191961.94,null,null,null,null,null,null,null,2120]
[57040,2121,2015,1,"MXN",12518901.300000001,null,null,null,null,null,null,null,2121]
[57040,2122,2015,1,"MXN",1608933.02,null,null,null,null,null,null,null,2122]
[57040,3110,2015,1,"MXN",3232066.93,null,null,null,null,null,null,null,3110]
[57040,3111,2015,1,"MXN",0,null,null,null,null,null,null,null,3111]
[57040,3112,2015,1,"MXN",0,null,null,null,null,null,null,null,3112]
[57040,4111,2015,1,"MXN",3644313.4,null,null,null,null,null,null,null,4111]
[57040,4112,2015,1,"MXN",0,null,null,null,null,null,null,null,4112]
[57040,4113,2015,1,"MXN",0,null,null,null,null,null,null,null,4113]
[57040,4114,2015,1,"MXN",0,null,null,null,null,null,null,null,4114]
[57040,4115,2015,1,"MXN",0,null,null,null,null,null,null,null,4115]
[57040,4116,2015,1,"MXN",3375000,null,null,null,null,null,null,null,4116]
[57040,4210,2015,1,"MXN",0,null,null,null,null,null,null,null,4210]
[57040,4211,2015,1,"MXN",0,null,null,null,null,null,null,null,4211]
[57040,4212,2015,1,"MXN",0,null,null,null,null,null,null,null,4212]
[57040,4213,2015,1,"MXN",0,null,null,null,null,null,null,null,4213]
[57040,4214,2015,1,"MXN",1663936.58,null,null,null,null,null,null,null,4214]
[57040,4215,2015,1,"MXN",1573815.35,null,null,null,null,null,null,null,4215]
[57040,4216,2015,1,"MXN",0,null,null,null,null,null,null,null,4216]
[57040,{"$f":"N67","v":4217},2015,1,"MXN",0,null,null,null,null,null,null,null,4217]
[57040,4218,2015,1,"MXN",0,null,null,null,null,null,null,null,4218]
[57040,4219,2015,1,"MXN",0,null,null,null,null,null,null,null,4219]
[57040,4220,2015,1,"MXN",0,null,null,null,null,null,null,null,4220]
[57040,4310,2015,1,"MXN",25944037,null,null,null,null,null,null,null,4310]
[57040,4311,2015,1,"MXN",0,null,null,null,null,null,null,null,4311]
[57040,4312,2015,1,"MXN",0,null,null,null,null,null,null,null,4312]
[57040,4313,2015,1,"MXN",0,null,null,null,null,null,null,null,4313]
[57040,4314,2015,1,"MXN",1445503.4100000001,null,null,null,null,null,null,null,4314]
[57040,4410,2015,1,"MXN",0,null,null,null,null,null,null,null,4410]
[57040,4411,2015,1,"MXN",0,null,null,null,null,null,null,null,4411]
[57040,4412,2015,1,"MXN",0,null,null,null,null,null,null,null,4412]
[57040,4510,2015,1,"MXN",0,null,null,null,null,null,null,null,4510]
[57040,4511,2015,1,"MXN",7518158.4100000001,null,null,null,null,null,null,null,4511]
[57040,4512,2015,1,"MXN",62936.31,null,null,null,null,null,null,null,4512]
[57040,4513,2015,1,"MXN",0,null,null,null,null,null,null,null,4513]
[57040,4514,2015,1,"MXN",0,null,null,null,null,null,null,null,4514]
[57040,4515,2015,1,"MXN",0,null,null,null,null,null,null,null,4515]
[57040,5010,2015,1,"MXN",10500000,null,null,null,null,null,null,null,5010]
[57040,5011,2015,1,"MXN",0,null,null,null,null,null,null,null,5011]
[57040,5012,2015,1,"MXN",0,null,null,null,null,null,null,null,5012]
[57040,5013,2015,1,"MXN",24905352,null,null,null,null,null,null,null,5013]
[57040,5014,2015,1,"MXN",0,null,null,null,null,null,null,null,5014]
[57040,5016,2015,1,"MXN",1199130.8589999969,null,null,null,null,null,null,null,5016]
[" ",1111," "," "," "," ",null,null,null,null,null,null,null,1111]
[" ",1112," "," "," "," ",null,null,null,null,null,null,null,1112]
[" ",1113," "," "," "," ",null,null,null,null,null,null,null,1113]
[" ",1210," "," "," "," ",null,null,null,null,null,null,null,1210]
[" ",1211," "," "," "," ",null,null,null,null,null,null,null,1211]
[" ",1212," "," "," "," ",null,null,null,null,null,null,null,1212]
[" ",1213," "," "," "," ",null,null,null,null,null,null,null,1213]
[" ",1214," "," "," "," ",null,null,null,null,null,null,null,1214]
[" ",1215," "," "," "," ",null,null,null,null,null,null,null,1215]
[" ",1216," "," "," "," ",null,null,null,null,null,null,null,1216]
[" ",1217," "," "," "," ",null,null,null,null,null,null,null,1217]
[" ",1218," "," "," "," ",null,null,null,null,null,null,null,1218]
[" ",1219," "," "," "," ",null,null,null,null,null,null,null,1219]
[" ",1220," "," "," "," ",null,null,null,null,null,null,null,1220]
[" ",1221," "," "," "," ",null,null,null,null,null,null,null,1221]
[" ",1222," "," "," "," ",null,null,null,null,null,null,null,1222]
[" ",1223," "," "," "," ",null,null,null,null,null,null,null,1223]
[" ",1310," "," "," "," ",null,null,null,null,null,null,null,1310]
[" ",1311," "," "," "," ",null,null,null,null,null,null,null,1311]
[" ",1312," "," "," "," ",null,null,null,null,null,null,null,1312]
[" ",1313," "," "," "," ",null,null,null,null,null,null,null,1313]
[" ",1314," "," "," "," ",null,null,null,null,null,null,null,1314]
[" ",1315," "," "," "," ",null,null,null,null,null,null,null,1315]
[" ",1316," "," "," "," ",null,null,null,null,null,null,null,1316]
[" ",1317," "," "," "," ",null,null,null,null,null,null,null,1317]
[" ",1318," "," "," "," ",null,null,null,null,null,null,null,1318]
[" ",1319," "," "," "," ",null,null,null,null,null,null,null,1319]
[" ",1320," "," "," "," ",null,null,null,null,null,null,null,1320]
[" ",1410," "," "," "," ",null,null,null,null,null,null,null,1410]
[" ",1411," "," "," "," ",null,null,null,null,null,null,null,1411]
[" ",1412," "," "," "," ",null,null,null,null,null,null,null,1412]
[" ",1413," "," "," "," ",null,null,null,null,null,null,null,1413]
[" ",1414," "," "," "," ",null,null,null,null,null,null,null,1414]
[" ",1415," "," "," "," ",null,null,null,null,null,null,null,1415]
[" ",1510," "," "," "," ",null,null,null,null,null,null,null,1510]
[" ",1511," "," "," "," ",null,null,null,null,null,null,null,1511]
[" ",2110," "," "," "," ",null,null,null,null,null,null,null,2110]
[" ",2111," "," "," "," ",null,null,null,null,null,null,null,2111]
[" ",2112," "," "," "," ",null,null,null,null,null,null,null,2112]
[" ",2113," "," "," "," ",null,null,null,null,null,null,null,2113]
[" ",{"$f":"N131","v":2114}," "," "," "," ",null,null,null,null,null,null,null,2114]
[" ",2115," "," "," "," ",null,null,null,null,null,null,null,2115]
[" ",2116," "," "," "," ",null,null,null,null,null,null,null,2116]
[" ",2117," "," "," "," ",null,null,null,null,null,null,null,2117]
[" ",2118," "," "," "," ",null,null,null,null,null,null,null,2118]
[" ",2119," "," "," "," ",null,null,null,null,null,null,null,2119]
[" ",2120," "," "," "," ",null,null,null,null,null,null,null,2120]
[" ",2121," "," "," "," ",null,null,null,null,null,null,null,2121]
[" ",2122," "," "," "," ",null,null,null,null,null,null,null,2122]
[" ",3110," "," "," "," ",null,null,null,null,null,null,null,3110]
[" ",3111," "," "," "," ",null,null,null,null,null,null,null,3111]
[" ",3112," "," "," "," ",null,null,null,null,null,null,null,3112]
[" ",4111," "," "," "," ",null,null,null,null,null,null,null,4111]
[" ",4112," "," "," "," ",null,null,null,null,null,null,null,4112]
[" ",4113," "," "," "," ",null,null,null,null,null,null,null,4113]
[" ",4114," "," "," "," ",null,null,null,null,null,null,null,4114]
[" ",4115," "," "," "," ",null,null,null,null,null,null,null,4115]
[" ",4116," "," "," "," ",null,null,null,null,null,null,null,4116]
[" ",4210," "," "," "," ",null,null,null,null,null,null,null,4210]
[" ",4211," "," "," "," ",null,null,null,null,null,null,null,4211]
[" ",4212," "," "," "," ",null,null,null,null,null,null,null,4212]
[" ",4213," "," "," "," ",null,null,null,null,null,null,null,4213]
[" ",4214," "," "," "," ",null,null,null,null,null,null,null,4214]
[" ",4215," "," "," "," ",null,null,null,null,null,null,null,4215]
[" ",4216," "," "," "," ",null,null,null,null,null,null,null,4216]
[" ",4217," "," "," "," ",null,null,null,null,null,null,null,4217]
[" ",4218," "," "," "," ",null,null,null,null,null,null,null,4218]
[" ",4219," "," "," "," ",null,null,null,null,null,null,null,4219]
[" ",4220," "," "," "," ",null,null,null,null,null,null,null,4220]
[" ",4310," "," "," "," ",null,null,null,null,null,null,null,4310]
[" ",4311," "," "," "," ",null,null,null,null,null,null,null,4311]
[" ",4312," "," "," "," ",null,null,null,null,null,null,null,4312]
[" ",4313," "," "," "," ",null,null,null,null,null,null,null,4313]
[" ",4314," "," "," "," ",null,null,null,null,null,null,null,4314]
[" ",4410," "," "," "," ",null,null,null,null,null,null,null,4410]
[" ",4411," "," "," "," ",null,null,null,null,null,null,null,4411]
[" ",4412," "," "," "," ",null,null,null,null,null,null,null,4412]
[" ",4510," "," "," "," ",null,null,null,null,null,null,null,4510]
[" ",4511," "," "," "," ",null,null,null,null,null,null,null,4511]
[" ",4512," "," "," "," ",null,null,null,null,null,null,null,4512]
[" ",4513," "," "," "," ",null,null,null,null,null,null,null,4513]
[" ",4514," "," "," "," ",null,null,null,null,null,null,null,4514]
[" ",4515," "," "," "," ",null,null,null,null,null,null,null,4515]
[" ",5010," "," "," "," ",null,null,null,null,null,null,null,5010]
[" ",5011," "," "," "," ",null,null,null,null,null,null,null,5011]
[" ",5012," "," "," "," ",null,null,null,null,null,null,null,5012]
[" ",5013," "," "," "," ",null,null,null,null,null,null,null,5013]
[" ",5014," "," "," "," ",null,null,null,null,null,null,null,5014]
[" ",5016," "," "," "," ",null,null,null,null,null,null,null,5016]
[" ",1111," "," "," "," ",null,null,null,null,null,null,null,1111]
[" ",1112," "," "," "," ",null,null,null,null,null,null,null,1112]
[" ",1113," "," "," "," ",null,null,null,null,null,null,null,1113]
[" ",1210," "," "," "," ",null,null,null,null,null,null,null,1210]
[" ",1211," "," "," "," ",null,null,null,null,null,null,null,1211]
[" ",1212," "," "," "," ",null,null,null,null,null,null,null,1212]
[" ",1213," "," "," "," ",null,null,null,null,null,null,null,1213]
[" ",1214," "," "," "," ",null,null,null,null,null,null,null,1214]
[" ",1215," "," "," "," ",null,null,null,null,null,null,null,1215]
[" ",1216," "," "," "," ",null,null,null,null,null,null,null,1216]
[" ",1217," "," "," "," ",null,null,null,null,null,null,null,1217]
[" ",1218," "," "," "," ",null,null,null,null,null,null,null,1218]
[" ",1219," "," "," "," ",null,null,null,null,null,null,null,1219]
[" ",1220," "," "," "," ",null,null,null,null,null,null,null,1220]
[" ",1221," "," "," "," ",null,null,null,null,null,null,null,1221]
[" ",{"$f":"N195","v":1222}," "," "," "," ",null,null,null,null,null,null,null,1222]
[" ",1223," "," "," "," ",null,null,null,null,null,null,null,1223]
[" ",1310," "," "," "," ",null,null,null,null,null,null,null,1310]
[" ",1311," "," "," "," ",null,null,null,null,null,null,null,1311]
[" ",1312," "," "," "," ",null,null,null,null,null,null,null,1312]
[" ",1313," "," "," "," ",null,null,null,null,null,null,null,1313]
[" ",1314," "," "," "," ",null,null,null,null,null,null,null,1314]
[" ",1315," "," "," "," ",null,null,null,null,null,null,null,1315]
[" ",1316," "," "," "," ",null,null,null,null,null,null,null,1316]
[" ",1317," "," "," "," ",null,null,null,null,null,null,null,1317]
[" ",1318," "," "," "," ",null,null,null,null,null,null,null,1318]
[" ",1319," "," "," "," ",null,null,null,null,null,null,null,1319]
[" ",1320," "," "," "," ",null,null,null,null,null,null,null,1320]
[" ",1410," "," "," "," ",null,null,null,null,null,null,null,1410]
[" ",1411," "," "," "," ",null,null,null,null,null,null,null,1411]
[" ",1412," "," "," "," ",null,null,null,null,null,null,null,1412]
[" ",1413," "," "," "," ",null,null,null,null,null,null,null,1413]
[" ",1414," "," "," "," ",null,null,null,null,null,null,null,1414]
[" ",1415," "," "," "," ",null,null,null,null,null,null,null,1415]
[" ",1510," "," "," "," ",null,null,null,null,null,null,null,1510]
[" ",1511," "," "," "," ",null,null,null,null,null,null,null,1511]
[" ",2110," "," "," "," ",null,null,null,null,null,null,null,2110]
[" ",2111," "," "," "," ",null,null,null,null,null,null,null,2111]
[" ",2112," "," "," "," ",null,null,null,null,null,null,null,2112]
[" ",2113," "," "," "," ",null,null,null,null,null,null,null,2113]
[" ",2114," "," "," "," ",null,null,null,null,null,null,null,2114]
[" ",2115," "," "," "," ",null,null,null,null,null,null,null,2115]
[" ",2116," "," "," "," ",null,null,null,null,null,null,null,2116]
[" ",2117," "," "," "," ",null,null,null,null,null,null,null,2117]
[" ",2118," "," "," "," ",null,null,null,null,null,null,null,2118]
[" ",2119," "," "," "," ",null,null,null,null,null,null,null,2119]
[" ",2120," "," "," "," ",null,null,null,null,null,null,null,2120]
[" ",2121," "," "," "," ",null,null,null,null,null,null,null,2121]
[" ",2122," "," "," "," ",null,null,null,null,null,null,null,2122]
[" ",3110," "," "," "," ",null,null,null,null,null,null,null,3110]
[" ",3111," "," "," "," ",null,null,null,null,null,null,null,3111]
[" ",3112," "," "," "," ",null,null,null,null,null,null,null,3112]
[" ",4111," "," "," "," ",null,null,null,null,null,null,null,4111]
[" ",4112," "," "," "," ",null,null,null,null,null,null,null,4112]
[" ",4113," "," "," "," ",null,null,null,null,null,null,null,4113]
[" ",4114," "," "," "," ",null,null,null,null,null,null,null,4114]
[" ",4115," "," "," "," ",null,null,null,null,null,null,null,4115]
[" ",4116," "," "," "," ",null,null,null,null,null,null,null,4116]
[" ",4210," "," "," "," ",null,null,null,null,null,null,null,4210]
[" ",4211," "," "," "," ",null,null,null,null,null,null,null,4211]
[" ",4212," "," "," "," ",null,null,null,null,null,null,null,4212]
[" ",4213," "," "," "," ",null,null,null,null,null,null,null,4213]
[" ",4214," "," "," "," ",null,null,null,null,null,null,null,4214]
[" ",4215," "," "," "," ",null,null,null,null,null,null,null,4215]
[" ",4216," "," "," "," ",null,null,null,null,null,null,null,4216]
[" ",4217," "," "," "," ",null,null,null,null,null,null,null,4217]
[" ",4218," "," "," "," ",null,null,null,null,null,null,null,4218]
[" ",4219," "," "," "," ",null,null,null,null,null,null,null,4219]
[" ",4220," "," "," "," ",null,null,null,null,null,null,null,4220]
[" ",4310," "," "," "," ",null,null,null,null,null,null,null,4310]
[" ",4311," "," "," "," ",null,null,null,null,null,null,null,4311]
[" ",4312," "," "," "," ",null,null,null,null,null,null,null,4312]
[" ",4313," "," "," "," ",null,null,null,null,null,null,null,4313]
[" ",4314," "," "," "," ",null,null,null,null,null,null,null,4314]
[" ",4410," "," "," "," ",null,null,null,null,null,null,null,4410]
[" ",4411," "," "," "," ",null,null,null,null,null,null,null,4411]
[" ",4412," "," "," "," ",null,null,null,null,null,null,null,4412]
[" ",4510," "," "," "," ",null,null,null,null,null,null,null,4510]
[" ",4511," "," "," "," ",null,null,null,null,null,null,null,4511]
[" ",{"$f":"N259","v":4512}," "," "," "," ",null,null,null,null,null,null,null,4512]
[" ",4513," "," "," "," ",null,null,null,null,null,null,null,4513]
[" ",4514," "," "," "," ",null,null,null,null,null,null,null,4514]
[" ",4515," "," "," "," ",null,null,null,null,null,null,null,4515]
[" ",5010," "," "," "," ",null,null,null,null,null,null,null,5010]
[" ",5011," "," "," "," ",null,null,null,null,null,null,null,5011]
[" ",5012," "," "," "," ",null,null,null,null,null,null,null,5012]
[" ",5013," "," "," "," ",null,null,null,null,null,null,null,5013]
[" ",5014," "," "," "," ",null,null,null,null,null,null,null,5014]
[" ",5016," "," "," "," ",null,null,null,null,null,null,null,5016]
[" ",1111," "," "," "," ",null,null,null,null,null,null,null,1111]
[" ",1112," "," "," "," ",null,null,null,null,null,null,null,1112]
[" ",1113," "," "," "," ",null,null,null,null,null,null,null,1113]
[" ",1210," "," "," "," ",null,null,null,null,null,null,null,1210]
[" ",1211," "," "," "," ",null,null,null,null,null,null,null,1211]
[" ",1212," "," "," "," ",null,null,null,null,null,null,null,1212]
[" ",1213," "," "," "," ",null,null,null,null,null,null,null,1213]
[" ",1214," "," "," "," ",null,null,null,null,null,null,null,1214]
[" ",1215," "," "," "," ",null,null,null,null,null,null,null,1215]
[" ",1216," "," "," "," ",null,null,null,null,null,null,null,1216]
[" ",1217," "," "," "," ",null,null,null,null,null,null,null,1217]
[" ",1218," "," "," "," ",null,null,null,null,null,null,null,1218]
[" ",1219," "," "," "," ",null,null,null,null,null,null,null,1219]
[" ",1220," "," "," "," ",null,null,null,null,null,null,null,1220]
[" ",1221," "," "," "," ",null,null,null,null,null,null,null,1221]
[" ",1222," "," "," "," ",null,null,null,null,null,null,null,1222]
[" ",1223," "," "," "," ",null,null,null,null,null,null,null,1223]
[" ",1310," "," "," "," ",null,null,null,null,null,null,null,1310]
[" ",1311," "," "," "," ",null,null,null,null,null,null,null,1311]
[" ",1312," "," "," "," ",null,null,null,null,null,null,null,1312]
[" ",1313," "," "," "," ",null,null,null,null,null,null,null,1313]
[" ",1314," "," "," "," ",null,null,null,null,null,null,null,1314]
[" ",1315," "," "," "," ",null,null,null,null,null,null,null,1315]
[" ",1316," "," "," "," ",null,null,null,null,null,null,null,1316]
[" ",1317," "," "," "," ",null,null,null,null,null,null,null,1317]
[" ",1318," "," "," "," ",null,null,null,null,null,null,null,1318]
[" ",1319," "," "," "," ",null,null,null,null,null,null,null,1319]
[" ",1320," "," "," "," ",null,null,null,null,null,null,null,1320]
[" ",1410," "," "," "," ",null,null,null,null,null,null,null,1410]
[" ",1411," "," "," "," ",null,null,null,null,null,null,null,1411]
[" ",1412," "," "," "," ",null,null,null,null,null,null,null,1412]
[" ",1413," "," "," "," ",null,null,null,null,null,null,null,1413]
[" ",1414," "," "," "," ",null,null,null,null,null,null,null,1414]
[" ",1415," "," "," "," ",null,null,null,null,null,null,null,1415]
[" ",1510," "," "," "," ",null,null,null,null,null,null,null,1510]
[" ",1511," "," "," "," ",null,null,null,null,null,null,null,1511]
[" ",2110," "," "," "," ",null,null,null,null,null,null,null,2110]
[" ",2111," "," "," "," ",null,null,null,null,null,null,null,2111]
[" ",2112," "," "," "," ",null,null,null,null,null,null,null,2112]
[" ",2113," "," "," "," ",null,null,null,null,null,null,null,2113]
[" ",2114," "," "," "," ",null,null,null,null,null,null,null,2114]
[" ",2115," "," "," "," ",null,null,null,null,null,null,null,2115]
[" ",2116," "," "," "," ",null,null,null,null,null,null,null,2116]
[" ",2117," "," "," "," ",null,null,null,null,null,null,null,2117]
[" ",2118," "," "," "," ",null,null,null,null,null,null,null,2118]
[" ",2119," "," "," "," ",null,null,null,null,null,null,null,2119]
[" ",2120," "," "," "," ",null,null,null,null,null,null,null,2120]
[" ",2121," "," "," "," ",null,null,null,null,null,null,null,2121]
[" ",2122," "," "," "," ",null,null,null,null,null,null,null,2122]
[" ",3110," "," "," "," ",null,null,null,null,null,null,null,3110]
[" ",3111," "," "," "," ",null,null,null,null,null,null,null,3111]
[" ",3112," "," "," "," ",null,null,null,null,null,null,null,3112]
[" ",4111," "," "," "," ",null,null,null,null,null,null,null,4111]
[" ",4112," "," "," "," ",null,null,null,null,null,null,null,4112]
[" ",{"$f":"N323","v":4113}," "," "," "," ",null,null,null,null,null,null,null,4113]
[" ",4114," "," "," "," ",null,null,null,null,null,null,null,4114]
[" ",4115," "," "," "," ",null,null,null,null,null,null,null,4115]
[" ",4116," "," "," "," ",null,null,null,null,null,null,null,4116]
[" ",4210," "," "," "," ",null,null,null,null,null,null,null,4210]
[" ",4211," "," "," "," ",null,null,null,null,null,null,null,4211]
[" ",4212," "," "," "," ",null,null,null,null,null,null,null,4212]
[" ",4213," "," "," "," ",null,null,null,null,null,null,null,4213]
[" ",4214," "," "," "," ",null,null,null,null,null,null,null,4214]
[" ",4215," "," "," "," ",null,null,null,null,null,null,null,4215]
[" ",4216," "," "," "," ",null,null,null,null,null,null,null,4216]
[" ",4217," "," "," "," ",null,null,null,null,null,null,null,4217]
[" ",4218," "," "," "," ",null,null,null,null,null,null,null,4218]
[" ",4219," "," "," "," ",null,null,null,null,null,null,null,4219]
[" ",4220," "," "," "," ",null,null,null,null,null,null,null,4220]
[" ",4310," "," "," "," ",null,null,null,null,null,null,null,4310]
[" ",4311," "," "," "," ",null,null,null,null,null,null,null,4311]
[" ",4312," "," "," "," ",null,null,null,null,null,null,null,4312]
[" ",4313," "," "," "," ",null,null,null,null,null,null,null,4313]
[" ",4314," "," "," "," ",null,null,null,null,null,null,null,4314]
[" ",4410," "," "," "," ",null,null,null,null,null,null,null,4410]
[" ",4411," "," "," "," ",null,null,null,null,null,null,null,4411]
[" ",4412," "," "," "," ",null,null,null,null,null,null,null,4412]
[" ",4510," "," "," "," ",null,null,null,null,null,null,null,4510]
[" ",4511," "," "," "," ",null,null,null,null,null,null,null,4511]
[" ",4512," "," "," "," ",null,null,null,null,null,null,null,4512]
[" ",4513," "," "," "," ",null,null,null,null,null,null,null,4513]
[" ",4514," "," "," "," ",null,null,null,null,null,null,null,4514]
[" ",4515," "," "," "," ",null,null,null,null,null,null,null,4515]
[" ",5010," "," "," "," ",null,null,null,null,null,null,null,5010]
[" ",5011," "," "," "," ",null,null,null,null,null,null,null,5011]
[" ",5012," "," "," "," ",null,null,null,null,null,null,null,5012]
[" ",5013," "," "," "," ",null,null,null,null,null,null,null,5013]
[" ",5014," "," "," "," ",null,null,null,null,null,null,null,5014]
[" ",5016," "," "," "," ",null,null,null,null,null,null,null,5016]
[" ",1111," "," "," "," ",null,null,null,null,null,null,null,1111]
[" ",1112," "," "," "," ",null,null,null,null,null,null,null,1112]
[" ",1113," "," "," "," ",null,null,null,null,null,null,null,1113]
[" ",1210," "," "," "," ",null,null,null,null,null,null,null,1210]
[" ",1211," "," "," "," ",null,null,null,null,null,null,null,1211]
[" ",1212," "," "," "," ",null,null,null,null,null,null,null,1212]
[" ",1213," "," "," "," ",null,null,null,null,null,null,null,1213]
[" ",1214," "," "," "," ",null,null,null,null,null,null,null,1214]
[" ",1215," "," "," "," ",null,null,null,null,null,null,null,1215]
[" ",1216," "," "," "," ",null,null,null,null,null,null,null,1216]
[" ",1217," "," "," "," ",null,null,null,null,null,null,null,1217]
[" ",1218," "," "," "," ",null,null,null,null,null,null,null,1218]
[" ",1219," "," "," "," ",null,null,null,null,null,null,null,1219]
[" ",1220," "," "," "," ",null,null,null,null,null,null,null,1220]
[" ",1221," "," "," "," ",null,null,null,null,null,null,null,1221]
[" ",1222," "," "," "," ",null,null,null,null,null,null,null,1222]
[" ",1223," "," "," "," ",null,null,null,null,null,null,null,1223]
[" ",1310," "," "," "," ",null,null,null,null,null,null,null,1310]
[" ",1311," "," "," "," ",null,null,null,null,null,null,null,1311]
[" ",1312," "," "," "," ",null,null,null,null,null,null,null,1312]
[" ",1313," "," "," "," ",null,null,null,null,null,null,null,1313]
[" ",1314," "," "," "," ",null,null,null,null,null,null,null,1314]
[" ",1315," "," "," "," ",null,null,null,null,null,null,null,1315]
[" ",1316," "," "," "," ",null,null,null,null,null,null,null,1316]
[" ",1317," "," "," "," ",null,null,null,null,null,null,null,1317]
[" ",1318," "," "," "," ",null,null,null,null,null,null,null,1318]
[" ",1319," "," "," "," ",null,null,null,null,null,null,null,1319]
[" ",1320," "," "," "," ",null,null,null,null,null,null,null,1320]
[" ",1410," "," "," "," ",null,null,null,null,null,null,null,1410]
[" ",{"$f":"N387","v":1411}," "," "," "," ",null,null,null,null,null,null,null,1411]
[" ",1412," "," "," "," ",null,null,null,null,null,null,null,1412]
[" ",1413," "," "," "," ",null,null,null,null,null,null,null,1413]
[" ",1414," "," "," "," ",null,null,null,null,null,null,null,1414]
[" ",1415," "," "," "," ",null,null,null,null,null,null,null,1415]
[" ",1510," "," "," "," ",null,null,null,null,null,null,null,1510]
[" ",1511," "," "," "," ",null,null,null,null,null,null,null,1511]
[" ",2110," "," "," "," ",null,null,null,null,null,null,null,2110]
[" ",2111," "," "," "," ",null,null,null,null,null,null,null,2111]
[" ",2112," "," "," "," ",null,null,null,null,null,null,null,2112]
[" ",2113," "," "," "," ",null,null,null,null,null,null,null,2113]
[" ",2114," "," "," "," ",null,null,null,null,null,null,null,2114]
[" ",2115," "," "," "," ",null,null,null,null,null,null,null,2115]
[" ",2116," "," "," "," ",null,null,null,null,null,null,null,2116]
[" ",2117," "," "," "," ",null,null,null,null,null,null,null,2117]
[" ",2118," "," "," "," ",null,null,null,null,null,null,null,2118]
[" ",2119," "," "," "," ",null,null,null,null,null,null,null,2119]
[" ",2120," "," "," "," ",null,null,null,null,null,null,null,2120]
[" ",2121," "," "," "," ",null,null,null,null,null,null,null,2121]
[" ",2122," "," "," "," ",null,null,null,null,null,null,null,2122]
[" ",3110," "," "," "," ",null,null,null,null,null,null,null,3110]
[" ",3111," "," "," "," ",null,null,null,null,null,null,null,3111]
[" ",3112," "," "," "," ",null,null,null,null,null,null,null,3112]
[" ",4111," "," "," "," ",null,null,null,null,null,null,null,4111]
[" ",4112," "," "," "," ",null,null,null,null,null,null,null,4112]
[" ",4113," "," "," "," ",null,null,null,null,null,null,null,4113]
[" ",4114," "," "," "," ",null,null,null,null,null,null,null,4114]
[" ",4115," "," "," "," ",null,null,null,null,null,null,null,4115]
[" ",4116," "," "," "," ",null,null,null,null,null,null,null,4116]
[" ",4210," "," "," "," ",null,null,null,null,null,null,null,4210]
[" ",4211," "," "," "," ",null,null,null,null,null,null,null,4211]
[" ",4212," "," "," "," ",null,null,null,null,null,null,null,4212]
[" ",4213," "," "," "," ",null,null,null,null,null,null,null,4213]
[" ",4214," "," "," "," ",null,null,null,null,null,null,null,4214]
[" ",4215," "," "," "," ",null,null,null,null,null,null,null,4215]
[" ",4216," "," "," "," ",null,null,null,null,null,null,null,4216]
[" ",4217," "," "," "," ",null,null,null,null,null,null,null,4217]
[" ",4218," "," "," "," ",null,null,null,null,null,null,null,4218]
[" ",4219," "," "," "," ",null,null,null,null,null,null,null,4219]
[" ",4220," "," "," "," ",null,null,null,null,null,null,null,4220]
[" ",4310," "," "," "," ",null,null,null,null,null,null,null,4310]
[" ",4311," "," "," "," ",null,null,null,null,null,null,null,4311]
[" ",4312," "," "," "," ",null,null,null,null,null,null,null,4312]
[" ",4313," "," "," "," ",null,null,null,null,null,null,null,4313]
[" ",4314," "," "," "," ",null,null,null,null,null,null,null,4314]
[" ",4410," "," "," "," ",null,null,null,null,null,null,null,4410]
[" ",4411," "," "," "," ",null,null,null,null,null,null,null,4411]
[" ",4412," "," "," "," ",null,null,null,null,null,null,null,4412]
[" ",4510," "," "," "," ",null,null,null,null,null,null,null,4510]
[" ",4511," "," "," "," ",null,null,null,null,null,null,null,4511]
[" ",4512," "," "," "," ",null,null,null,null,null,null,null,4512]
[" ",4513," "," "," "," ",null,null,null,null,null,null,null,4513]
[" ",4514," "," "," "," ",null,null,null,null,null,null,null,4514]
[" ",4515," "," "," "," ",null,null,null,null,null,null,null,4515]
[" ",5010," "," "," "," ",null,null,null,null,null,null,null,5010]
[" ",5011," "," "," "," ",null,null,null,null,null,null,null,5011]
[" ",5012," "," "," "," ",null,null,null,null,null,null,null,5012]
[" ",5013," "," "," "," ",null,null,null,null,null,null,null,5013]
[" ",5014," "," "," "," ",null,null,null,null,null,null,null,5014]
[" ",5016," "," "," "," ",null,null,null,null,null,null,null,5016]
[" ",1111," "," "," "," ",null,null,null,null,null,null,null,1111]
[" ",1112," "," "," "," ",null,null,null,null,null,null,null,1112]
[" ",1113," "," "," "," ",null,null,null,null,null,null,null,1113]
[" ",1210," "," "," "," ",null,null,null,null,null,null,null,1210]
[" ",{"$f":"N451","v":1211}," "," "," "," ",null,null,null,null,null,null,null,1211]
[" ",1212," "," "," "," ",null,null,null,null,null,null,null,1212]
[" ",1213," "," "," "," ",null,null,null,null,null,null,null,1213]
[" ",1214," "," "," "," ",null,null,null,null,null,null,null,1214]
[" ",1215," "," "," "," ",null,null,null,null,null,null,null,1215]
[" ",1216," "," "," "," ",null,null,null,null,null,null,null,1216]
[" ",1217," "," "," "," ",null,null,null,null,null,null,null,1217]
[" ",1218," "," "," "," ",null,null,null,null,null,null,null,1218]
[" ",1219," "," "," "," ",null,null,null,null,null,null,null,1219]
[" ",1220," "," "," "," ",null,null,null,null,null,null,null,1220]
[" ",1221," "," "," "," ",null,null,null,null,null,null,null,1221]
[" ",1222," "," "," "," ",null,null,null,null,null,null,null,1222]
[" ",1223," "," "," "," ",null,null,null,null,null,null,null,1223]
[" ",1310," "," "," "," ",null,null,null,null,null,null,null,1310]
[" ",1311," "," "," "," ",null,null,null,null,null,null,null,1311]
[" ",1312," "," "," "," ",null,null,null,null,null,null,null,1312]
[" ",1313," "," "," "," ",null,null,null,null,null,null,null,1313]
[" ",1314," "," "," "," ",null,null,null,null,null,null,null,1314]
[" ",1315," "," "," "," ",null,null,null,null,null,null,null,1315]
[" ",1316," "," "," "," ",null,null,null,null,null,null,null,1316]
[" ",1317," "," "," "," ",null,null,null,null,null,null,null,1317]
[" ",1318," "," "," "," ",null,null,null,null,null,null,null,1318]
[" ",1319," "," "," "," ",null,null,null,null,null,null,null,1319]
[" ",1320," "," "," "," ",null,null,null,null,null,null,null,1320]
[" ",1410," "," "," "," ",null,null,null,null,null,null,null,1410]
[" ",1411," "," "," "," ",null,null,null,null,null,null,null,1411]
[" ",1412," "," "," "," ",null,null,null,null,null,null,null,1412]
[" ",1413," "," "," "," ",null,null,null,null,null,null,null,1413]
[" ",1414," "," "," "," ",null,null,null,null,null,null,null,1414]
[" ",1415," "," "," "," ",null,null,null,null,null,null,null,1415]
[" ",1510," "," "," "," ",null,null,null,null,null,null,null,1510]
[" ",1511," "," "," "," ",null,null,null,null,null,null,null,1511]
[" ",2110," "," "," "," ",null,null,null,null,null,null,null,2110]
[" ",2111," "," "," "," ",null,null,null,null,null,null,null,2111]
[" ",2112," "," "," "," ",null,null,null,null,null,null,null,2112]
[" ",2113," "," "," "," ",null,null,null,null,null,null,null,2113]
[" ",2114," "," "," "," ",null,null,null,null,null,null,null,2114]
[" ",2115," "," "," "," ",null,null,null,null,null,null,null,2115]
[" ",2116," "," "," "," ",null,null,null,null,null,null,null,2116]
[" ",2117," "," "," "," ",null,null,null,null,null,null,null,2117]
[" ",2118," "," "," "," ",null,null,null,null,null,null,null,2118]
[" ",2119," "," "," "," ",null,null,null,null,null,null,null,2119]
[" ",2120," "," "," "," ",null,null,null,null,null,null,null,2120]
[" ",2121," "," "," "," ",null,null,null,null,null,null,null,2121]
[" ",2122," "," "," "," ",null,null,null,null,null,null,null,2122]
[" ",3110," "," "," "," ",null,null,null,null,null,null,null,3110]
[" ",3111," "," "," "," ",null,null,null,null,null,null,null,3111]
[" ",3112," "," "," "," ",null,null,null,null,null,null,null,3112]
[" ",4111," "," "," "," ",null,null,null,null,null,null,null,4111]
[" ",4112," "," "," "," ",null,null,null,null,null,null,null,4112]
[" ",4113," "," "," "," ",null,null,null,null,null,null,null,4113]
[" ",4114," "," "," "," ",null,null,null,null,null,null,null,4114]
[" ",4115," "," "," "," ",null,null,null,null,null,null,null,4115]
[" ",4116," "," "," "," ",null,null,null,null,null,null,null,4116]
[" ",4210," "," "," "," ",null,null,null,null,null,null,null,4210]
[" ",4211," "," "," "," ",null,null,null,null,null,null,null,4211]
[" ",4212," "," "," "," ",null,null,null,null,null,null,null,4212]
[" ",4213," "," "," "," ",null,null,null,null,null,null,null,4213]
[" ",4214," "," "," "," ",null,null,null,null,null,null,null,4214]
[" ",4215," "," "," "," ",null,null,null,null,null,null,null,4215]
[" ",4216," "," "," "," ",null,null,null,null,null,null,null,4216]
[" ",4217," "," "," "," ",null,null,null,null,null,null,null,4217]
[" ",4218," "," "," "," ",null,null,null,null,null,null,null,4218]
[" ",4219," "," "," "," ",null,null,null,null,null,null,null,4219]
[" ",{"$f":"N515","v":4220}," "," "," "," ",null,null,null,null,null,null,null,4220]
[" ",4310," "," "," "," ",null,null,null,null,null,null,null,4310]
[" ",4311," "," "," "," ",null,null,null,null,null,null,null,4311]
[" ",4312," "," "," "," ",null,null,null,null,null,null,null,4312]
[" ",4313," "," "," "," ",null,null,null,null,null,null,null,4313]
[" ",4314," "," "," "," ",null,null,null,null,null,null,null,4314]
[" ",4410," "," "," "," ",null,null,null,null,null,null,null,4410]
[" ",4411," "," "," "," ",null,null,null,null,null,null,null,4411]
[" ",4412," "," "," "," ",null,null,null,null,null,null,null,4412]
[" ",4510," "," "," "," ",null,null,null,null,null,null,null,4510]
[" ",4511," "," "," "," ",null,null,null,null,null,null,null,4511]
[" ",4512," "," "," "," ",null,null,null,null,null,null,null,4512]
[" ",4513," "," "," "," ",null,null,null,null,null,null,null,4513]
[" ",4514," "," "," "," ",null,null,null,null,null,null,null,4514]
[" ",4515," "," "," "," ",null,null,null,null,null,null,null,4515]
[" ",5010," "," "," "," ",null,null,null,null,null,null,null,5010]
[" ",5011," "," "," "," ",null,null,null,null,null,null,null,5011]
[" ",5012," "," "," "," ",null,null,null,null,null,null,null,5012]
[" ",5013," "," "," "," ",null,null,null,null,null,null,null,5013]
[" ",5014," "," "," "," ",null,null,null,null,null,null,null,5014]
[" ",5016," "," "," "," ",null,null,null,null,null,null,null,5016]
[" ",1111," "," "," "," ",null,null,null,null,null,null,null,1111]
[" ",1112," "," "," "," ",null,null,null,null,null,null,null,1112]
[" ",1113," "," "," "," ",null,null,null,null,null,null,null,1113]
[" ",1210," "," "," "," ",null,null,null,null,null,null,null,1210]
[" ",1211," "," "," "," ",null,null,null,null,null,null,null,1211]
[" ",1212," "," "," "," ",null,null,null,null,null,null,null,1212]
[" ",1213," "," "," "," ",null,null,null,null,null,null,null,1213]
[" ",1214," "," "," "," ",null,null,null,null,null,null,null,1214]
[" ",1215," "," "," "," ",null,null,null,null,null,null,null,1215]
[" ",1216," "," "," "," ",null,null,null,null,null,null,null,1216]
[" ",1217," "," "," "," ",null,null,null,null,null,null,null,1217]
[" ",1218," "," "," "," ",null,null,null,null,null,null,null,1218]
[" ",1219," "," "," "," ",null,null,null,null,null,null,null,1219]
[" ",1220," "," "," "," ",null,null,null,null,null,null,null,1220]
[" ",1221," "," "," "," ",null,null,null,null,null,null,null,1221]
[" ",1222," "," "," "," ",null,null,null,null,null,null,null,1222]
[" ",1223," "," "," "," ",null,null,null,null,null,null,null,1223]
[" ",1310," "," "," "," ",null,null,null,null,null,null,null,1310]
[" ",1311," "," "," "," ",null,null,null,null,null,null,null,1311]
[" ",1312," "," "," "," ",null,null,null,null,null,null,null,1312]
[" ",1313," "," "," "," ",null,null,null,null,null,null,null,1313]
[" ",1314," "," "," "," ",null,null,null,null,null,null,null,1314]
[" ",1315," "," "," "," ",null,null,null,null,null,null,null,1315]
[" ",1316," "," "," "," ",null,null,null,null,null,null,null,1316]
[" ",1317," "," "," "," ",null,null,null,null,null,null,null,1317]
[" ",1318," "," "," "," ",null,null,null,null,null,null,null,1318]
[" ",1319," "," "," "," ",null,null,null,null,null,null,null,1319]
[" ",1320," "," "," "," ",null,null,null,null,null,null,null,1320]
[" ",1410," "," "," "," ",null,null,null,null,null,null,null,1410]
[" ",1411," "," "," "," ",null,null,null,null,null,null,null,1411]
[" ",1412," "," "," "," ",null,null,null,null,null,null,null,1412]
[" ",1413," "," "," "," ",null,null,null,null,null,null,null,1413]
[" ",1414," "," "," "," ",null,null,null,null,null,null,null,1414]
[" ",1415," "," "," "," ",null,null,null,null,null,null,null,1415]
[" ",1510," "," "," "," ",null,null,null,null,null,null,null,1510]
[" ",1511," "," "," "," ",null,null,null,null,null,null,null,1511]
[" ",2110," "," "," "," ",null,null,null,null,null,null,null,2110]
[" ",2111," "," "," "," ",null,null,null,null,null,null,null,2111]
[" ",2112," "," "," "," ",null,null,null,null,null,null,null,2112]
[" ",2113," "," "," "," ",null,null,null,null,null,null,null,2113]
[" ",2114," "," "," "," ",null,null,null,null,null,null,null,2114]
[" ",2115," "," "," "," ",null,null,null,null,null,null,null,2115]
[" ",2116," "," "," "," ",null,null,null,null,null,null,null,2116]
[" ",{"$f":"N579","v":2117}," "," "," "," ",null,null,null,null,null,null,null,2117]
[" ",2118," "," "," "," ",null,null,null,null,null,null,null,2118]
[" ",2119," "," "," "," ",null,null,null,null,null,null,null,2119]
[" ",2120," "," "," "," ",null,null,null,null,null,null,null,2120]
[" ",2121," "," "," "," ",null,null,null,null,null,null,null,2121]
[" ",2122," "," "," "," ",null,null,null,null,null,null,null,2122]
[" ",3110," "," "," "," ",null,null,null,null,null,null,null,3110]
[" ",3111," "," "," "," ",null,null,null,null,null,null,null,3111]
[" ",3112," "," "," "," ",null,null,null,null,null,null,null,3112]
[" ",4111," "," "," "," ",null,null,null,null,null,null,null,4111]
[" ",4112," "," "," "," ",null,null,null,null,null,null,null,4112]
[" ",4113," "," "," "," ",null,null,null,null,null,null,null,4113]
[" ",4114," "," "," "," ",null,null,null,null,null,null,null,4114]
[" ",4115," "," "," "," ",null,null,null,null,null,null,null,4115]
[" ",4116," "," "," "," ",null,null,null,null,null,null,null,4116]
[" ",4210," "," "," "," ",null,null,null,null,null,null,null,4210]
[" ",4211," "," "," "," ",null,null,null,null,null,null,null,4211]
[" ",4212," "," "," "," ",null,null,null,null,null,null,null,4212]
[" ",4213," "," "," "," ",null,null,null,null,null,null,null,4213]
[" ",4214," "," "," "," ",null,null,null,null,null,null,null,4214]
[" ",4215," "," "," "," ",null,null,null,null,null,null,null,4215]
[" ",4216," "," "," "," ",null,null,null,null,null,null,null,4216]
[" ",4217," "," "," "," ",null,null,null,null,null,null,null,4217]
[" ",4218," "," "," "," ",null,null,null,null,null,null,null,4218]
[" ",4219," "," "," "," ",null,null,null,null,null,null,null,4219]
[" ",4220," "," "," "," ",null,null,null,null,null,null,null,4220]
[" ",4310," "," "," "," ",null,null,null,null,null,null,null,4310]
[" ",4311," "," "," "," ",null,null,null,null,null,null,null,4311]
[" ",4312," "," "," "," ",null,null,null,null,null,null,null,4312]
[" ",4313," "," "," "," ",null,null,null,null,null,null,null,4313]
[" ",4314," "," "," "," ",null,null,null,null,null,null,null,4314]
[" ",4410," "," "," "," ",null,null,null,null,null,null,null,4410]
[" ",4411," "," "," "," ",null,null,null,null,null,null,null,4411]
[" ",4412," "," "," "," ",null,null,null,null,null,null,null,4412]
[" ",4510," "," "," "," ",null,null,null,null,null,null,null,4510]
[" ",4511," "," "," "," ",null,null,null,null,null,null,null,4511]
[" ",4512," "," "," "," ",null,null,null,null,null,null,null,4512]
[" ",4513," "," "," "," ",null,null,null,null,null,null,null,4513]
[" ",4514," "," "," "," ",null,null,null,null,null,null,null,4514]
[" ",4515," "," "," "," ",null,null,null,null,null,null,null,4515]
[" ",5010," "," "," "," ",null,null,null,null,null,null,null,5010]
[" ",5011," "," "," "," ",null,null,null,null,null,null,null,5011]
[" ",5012," "," "," "," ",null,null,null,null,null,null,null,5012]
[" ",5013," "," "," "," ",null,null,null,null,null,null,null,5013]
[" ",5014," "," "," "," ",null,null,null,null,null,null,null,5014]
[" ",5016," "," "," "," ",null,null,null,null,null,null,null,5016]
[" ",1111," "," "," "," ",null,null,null,null,null,null,null,1111]
[" ",1112," "," "," "," ",null,null,null,null,null,null,null,1112]
[" ",1113," "," "," "," ",null,null,null,null,null,null,null,1113]
[" ",1210," "," "," "," ",null,null,null,null,null,null,null,1210]
[" ",1211," "," "," "," ",null,null,null,null,null,null,null,1211]
[" ",1212," "," "," "," ",null,null,null,null,null,null,null,1212]
[" ",1213," "," "," "," ",null,null,null,null,null,null,null,1213]
[" ",1214," "," "," "," ",null,null,null,null,null,null,null,1214]
[" ",1215," "," "," "," ",null,null,null,null,null,null,null,1215]
[" ",1216," "," "," "," ",null,null,null,null,null,null,null,1216]
[" ",1217," "," "," "," ",null,null,null,null,null,null,null,1217]
[" ",1218," "," "," "," ",null,null,null,null,null,null,null,1218]
[" ",1219," "," "," "," ",null,null,null,null,null,null,null,1219]
[" ",1220," "," "," "," ",null,null,null,null,null,null,null,1220]
[" ",1221," "," "," "," ",null,null,null,null,null,null,null,1221]
[" ",1222," "," "," "," ",null,null,null,null,null,null,null,1222]
[" ",1223," "," "," "," ",null,null,null,null,null,null,null,1223]
[" ",1310," "," "," "," ",null,null,null,null,null,null,null,1310]
[" ",{"$f":"N643","v":1311}," "," "," "," ",null,null,null,null,null,null,null,1311]
[" ",1312," "," "," "," ",null,null,null,null,null,null,null,1312]
[" ",1313," "," "," "," ",null,null,null,null,null,null,null,1313]
[" ",1314," "," "," "," ",null,null,null,null,null,null,null,1314]
[" ",1315," "," "," "," ",null,null,null,null,null,null,null,1315]
[" ",1316," "," "," "," ",null,null,null,null,null,null,null,1316]
[" ",1317," "," "," "," ",null,null,null,null,null,null,null,1317]
[" ",1318," "," "," "," ",null,null,null,null,null,null,null,1318]
[" ",1319," "," "," "," ",null,null,null,null,null,null,null,1319]
[" ",1320," "," "," "," ",null,null,null,null,null,null,null,1320]
[" ",1410," "," "," "," ",null,null,null,null,null,null,null,1410]
[" ",1411," "," "," "," ",null,null,null,null,null,null,null,1411]
[" ",1412," "," "," "," ",null,null,null,null,null,null,null,1412]
[" ",1413," "," "," "," ",null,null,null,null,null,null,null,1413]
[" ",1414," "," "," "," ",null,null,null,null,null,null,null,1414]
[" ",1415," "," "," "," ",null,null,null,null,null,null,null,1415]
[" ",1510," "," "," "," ",null,null,null,null,null,null,null,1510]
[" ",1511," "," "," "," ",null,null,null,null,null,null,null,1511]
[" ",2110," "," "," "," ",null,null,null,null,null,null,null,2110]
[" ",2111," "," "," "," ",null,null,null,null,null,null,null,2111]
[" ",2112," "," "," "," ",null,null,null,null,null,null,null,2112]
[" ",2113," "," "," "," ",null,null,null,null,null,null,null,2113]
[" ",2114," "," "," "," ",null,null,null,null,null,null,null,2114]
[" ",2115," "," "," "," ",null,null,null,null,null,null,null,2115]
[" ",2116," "," "," "," ",null,null,null,null,null,null,null,2116]
[" ",2117," "," "," "," ",null,null,null,null,null,null,null,2117]
[" ",2118," "," "," "," ",null,null,null,null,null,null,null,2118]
[" ",2119," "," "," "," ",null,null,null,null,null,null,null,2119]
[" ",2120," "," "," "," ",null,null,null,null,null,null,null,2120]
[" ",2121," "," "," "," ",null,null,null,null,null,null,null,2121]
[" ",2122," "," "," "," ",null,null,null,null,null,null,null,2122]
[" ",3110," "," "," "," ",null,null,null,null,null,null,null,3110]
[" ",3111," "," "," "," ",null,null,null,null,null,null,null,3111]
[" ",3112," "," "," "," ",null,null,null,null,null,null,null,3112]
[" ",4111," "," "," "," ",null,null,null,null,null,null,null,4111]
[" ",4112," "," "," "," ",null,null,null,null,null,null,null,4112]
[" ",4113," "," "," "," ",null,null,null,null,null,null,null,4113]
[" ",4114," "," "," "," ",null,null,null,null,null,null,null,4114]
[" ",4115," "," "," "," ",null,null,null,null,null,null,null,4115]
[" ",4116," "," "," "," ",null,null,null,null,null,null,null,4116]
[" ",4210," "," "," "," ",null,null,null,null,null,null,null,4210]
[" ",4211," "," "," "," ",null,null,null,null,null,null,null,4211]
[" ",4212," "," "," "," ",null,null,null,null,null,null,null,4212]
[" ",4213," "," "," "," ",null,null,null,null,null,null,null,4213]
[" ",4214," "," "," "," ",null,null,null,null,null,null,null,4214]
[" ",4215," "," "," "," ",null,null,null,null,null,null,null,4215]
[" ",4216," "," "," "," ",null,null,null,null,null,null,null,4216]
[" ",4217," "," "," "," ",null,null,null,null,null,null,null,4217]
[" ",4218," "," "," "," ",null,null,null,null,null,null,null,4218]
[" ",4219," "," "," "," ",null,null,null,null,null,null,null,4219]
[" ",4220," "," "," "," ",null,null,null,null,null,null,null,4220]
[" ",4310," "," "," "," ",null,null,null,null,null,null,null,4310]
[" ",4311," "," "," "," ",null,null,null,null,null,null,null,4311]
[" ",4312," "," "," "," ",null,null,null,null,null,null,null,4312]
[" ",4313," "," "," "," ",null,null,null,null,null,null,null,4313]
[" ",4314," "," "," "," ",null,null,null,null,null,null,null,4314]
[" ",4410," "," "," "," ",null,null,null,null,null,null,null,4410]
[" ",4411," "," "," "," ",null,null,null,null,null,null,null,4411]
[" ",4412," "," "," "," ",null,null,null,null,null,null,null,4412]
[" ",4510," "," "," "," ",null,null,null,null,null,null,null,4510]
[" ",4511," "," "," "," ",null,null,null,null,null,null,null,4511]
[" ",4512," "," "," "," ",null,null,null,null,null,null,null,4512]
[" ",4513," "," "," "," ",null,null,null,null,null,null,null,4513]
[" ",4514," "," "," "," ",null,null,null,null,null,null,null,4514]
[" ",{"$f":"N707","v":4515}," "," "," "," ",null,null,null,null,null,null,null,4515]
[" ",5010," "," "," "," ",null,null,null,null,null,null,null,5010]
[" ",5011," "," "," "," ",null,null,null,null,null,null,null,5011]
[" ",5012," "," "," "," ",null,null,null,null,null,null,null,5012]
[" ",5013," "," "," "," ",null,null,null,null,null,null,null,5013]
[" ",5014," "," "," "," ",null,null,null,null,null,null,null,5014]
[" ",5016," "," "," "," ",null,null,null,null,null,null,null,5016]
[" ",1111," "," "," "," ",null,null,null,null,null,null,null,1111]
[" ",1112," "," "," "," ",null,null,null,null,null,null,null,1112]
[" ",1113," "," "," "," ",null,null,null,null,null,null,null,1113]
[" ",1210," "," "," "," ",null,null,null,null,null,null,null,1210]
[" ",1211," "," "," "," ",null,null,null,null,null,null,null,1211]
[" ",1212," "," "," "," ",null,null,null,null,null,null,null,1212]
[" ",1213," "," "," "," ",null,null,null,null,null,null,null,1213]
[" ",1214," "," "," "," ",null,null,null,null,null,null,null,1214]
[" ",1215," "," "," "," ",null,null,null,null,null,null,null,1215]
[" ",1216," "," "," "," ",null,null,null,null,null,null,null,1216]
[" ",1217," "," "," "," ",null,null,null,null,null,null,null,1217]
[" ",1218," "," "," "," ",null,null,null,null,null,null,null,1218]
[" ",1219," "," "," "," ",null,null,null,null,null,null,null,1219]
[" ",1220," "," "," "," ",null,null,null,null,null,null,null,1220]
[" ",1221," "," "," "," ",null,null,null,null,null,null,null,1221]
[" ",1222," "," "," "," ",null,null,null,null,null,null,null,1222]
[" ",1223," "," "," "," ",null,null,null,null,null,null,null,1223]
[" ",1310," "," "," "," ",null,null,null,null,null,null,null,1310]
[" ",1311," "," "," "," ",null,null,null,null,null,null,null,1311]
[" ",1312," "," "," "," ",null,null,null,null,null,null,null,1312]
[" ",1313," "," "," "," ",null,null,null,null,null,null,null,1313]
[" ",1314," "," "," "," ",null,null,null,null,null,null,null,1314]
[" ",1315," "," "," "," ",null,null,null,null,null,null,null,1315]
[" ",1316," "," "," "," ",null,null,null,null,null,null,null,1316]
[" ",1317," "," "," "," ",null,null,null,null,null,null,null,1317]
[" ",1318," "," "," "," ",null,null,null,null,null,null,null,1318]
[" ",1319," "," "," "," ",null,null,null,null,null,null,null,1319]
[" ",1320," "," "," "," ",null,null,null,null,null,null,null,1320]
[" ",1410," "," "," "," ",null,null,null,null,null,null,null,1410]
[" ",1411," "," "," "," ",null,null,null,null,null,null,null,1411]
[" ",1412," "," "," "," ",null,null,null,null,null,null,null,1412]
[" ",1413," "," "," "," ",null,null,null,null,null,null,null,1413]
[" ",1414," "," "," "," ",null,null,null,null,null,null,null,1414]
[" ",1415," "," "," "," ",null,null,null,null,null,null,null,1415]
[" ",1510," "," "," "," ",null,null,null,null,null,null,null,1510]
[" ",1511," "," "," "," ",null,null,null,null,null,null,null,1511]
[" ",2110," "," "," "," ",null,null,null,null,null,null,null,2110]
[" ",2111," "," "," "," ",null,null,null,null,null,null,null,2111]
[" ",2112," "," "," "," ",null,null,null,null,null,null,null,2112]
[" ",2113," "," "," "," ",null,null,null,null,null,null,null,2113]
[" ",2114," "," "," "," ",null,null,null,null,null,null,null,2114]
[" ",2115," "," "," "," ",null,null,null,null,null,null,null,2115]
[" ",2116," "," "," "," ",null,null,null,null,null,null,null,2116]
[" ",2117," "," "," "," ",null,null,null,null,null,null,null,2117]
[" ",2118," "," "," "," ",null,null,null,null,null,null,null,2118]
[" ",2119," "," "," "," ",null,null,null,null,null,null,null,2119]
[" ",2120," "," "," "," ",null,null,null,null,null,null,null,2120]
[" ",2121," "," "," "," ",null,null,null,null,null,null,null,2121]
[" ",2122," "," "," "," ",null,null,null,null,null,null,null,2122]
[" ",3110," "," "," "," ",null,null,null,null,null,null,null,3110]
[" ",3111," "," "," "," ",null,null,null,null,null,null,null,3111]
[" ",3112," "," "," "," ",null,null,null,null,null,null,null,3112]
[" ",4111," "," "," "," ",null,null,null,null,null,null,null,4111]
[" ",4112," "," "," "," ",null,null,null,null,null,null,null,4112]
[" ",4113," "," "," "," ",null,null,null,null,null,null,null,4113]
[" ",4114," "," "," "," ",null,null,null,null,null,null,null,4114]
[" ",4115," "," "," "," ",null,null,null,null,null,null,null,4115]
[" ",{"$f":"N771","v":4116}," "," "," "," ",null,null,null,null,null,null,null,4116]
[" ",4210," "," "," "," ",null,null,null,null,null,null,null,4210]
[" ",4211," "," "," "," ",null,null,null,null,null,null,null,4211]
[" ",4212," "," "," "," ",null,null,null,null,null,null,null,4212]
[" ",4213," "," "," "," ",null,null,null,null,null,null,null,4213]
[" ",4214," "," "," "," ",null,null,null,null,null,null,null,4214]
[" ",4215," "," "," "," ",null,null,null,null,null,null,null,4215]
[" ",4216," "," "," "," ",null,null,null,null,null,null,null,4216]
[" ",4217," "," "," "," ",null,null,null,null,null,null,null,4217]
[" ",4218," "," "," "," ",null,null,null,null,null,null,null,4218]
[" ",4219," "," "," "," ",null,null,null,null,null,null,null,4219]
[" ",4220," "," "," "," ",null,null,null,null,null,null,null,4220]
[" ",4310," "," "," "," ",null,null,null,null,null,null,null,4310]
[" ",4311," "," "," "," ",null,null,null,null,null,null,null,4311]
[" ",4312," "," "," "," ",null,null,null,null,null,null,null,4312]
[" ",4313," "," "," "," ",null,null,null,null,null,null,null,4313]
[" ",4314," "," "," "," ",null,null,null,null,null,null,null,4314]
[" ",4410," "," "," "," ",null,null,null,null,null,null,null,4410]
[" ",4411," "," "," "," ",null,null,null,null,null,null,null,4411]
[" ",4412," "," "," "," ",null,null,null,null,null,null,null,4412]
[" ",4510," "," "," "," ",null,null,null,null,null,null,null,4510]
[" ",4511," "," "," "," ",null,null,null,null,null,null,null,4511]
[" ",4512," "," "," "," ",null,null,null,null,null,null,null,4512]
[" ",4513," "," "," "," ",null,null,null,null,null,null,null,4513]
[" ",4514," "," "," "," ",null,null,null,null,null,null,null,4514]
[" ",4515," "," "," "," ",null,null,null,null,null,null,null,4515]
[" ",5010," "," "," "," ",null,null,null,null,null,null,null,5010]
[" ",5011," "," "," "," ",null,null,null,null,null,null,null,5011]
[" ",5012," "," "," "," ",null,null,null,null,null,null,null,5012]
[" ",5013," "," "," "," ",null,null,null,null,null,null,null,5013]
[" ",5014," "," "," "," ",null,null,null,null,null,null,null,5014]
[" ",5016," "," "," "," ",null,null,null,null,null,null,null,5016]
[" ",1111," "," "," "," ",null,null,null,null,null,null,null,1111]
[" ",1112," "," "," "," ",null,null,null,null,null,null,null,1112]
[" ",1113," "," "," "," ",null,null,null,null,null,null,null,1113]
[" ",1210," "," "," "," ",null,null,null,null,null,null,null,1210]
[" ",1211," "," "," "," ",null,null,null,null,null,null,null,1211]
[" ",1212," "," "," "," ",null,null,null,null,null,null,null,1212]
[" ",1213," "," "," "," ",null,null,null,null,null,null,null,1213]
[" ",1214," "," "," "," ",null,null,null,null,null,null,null,1214]
[" ",1215," "," "," "," ",null,null,null,null,null,null,null,1215]
[" ",1216," "," "," "," ",null,null,null,null,null,null,null,1216]
[" ",1217," "," "," "," ",null,null,null,null,null,null,null,1217]
[" ",1218," "," "," "," ",null,null,null,null,null,null,null,1218]
[" ",1219," "," "," "," ",null,null,null,null,null,null,null,1219]
[" ",1220," "," "," "," ",null,null,null,null,null,null,null,1220]
[" ",1221," "," "," "," ",null,null,null,null,null,null,null,1221]
[" ",1222," "," "," "," ",null,null,null,null,null,null,null,1222]
[" ",1223," "," "," "," ",null,null,null,null,null,null,null,1223]
[" ",1310," "," "," "," ",null,null,null,null,null,null,null,1310]
[" ",1311," "," "," "," ",null,null,null,null,null,null,null,1311]
[" ",1312," "," "," "," ",null,null,null,null,null,null,null,1312]
[" ",1313," "," "," "," ",null,null,null,null,null,null,null,1313]
[" ",1314," "," "," "," ",null,null,null,null,null,null,null,1314]
[" ",1315," "," "," "," ",null,null,null,null,null,null,null,1315]
[" ",1316," "," "," "," ",null,null,null,null,null,null,null,1316]
[" ",1317," "," "," "," ",null,null,null,null,null,null,null,1317]
[" ",1318," "," "," "," ",null,null,null,null,null,null,null,1318]
[" ",1319," "," "," "," ",null,null,null,null,null,null,null,1319]
[" ",1320," "," "," "," ",null,null,null,null,null,null,null,1320]
[" ",1410," "," "," "," ",null,null,null,null,null,null,null,1410]
[" ",1411," "," "," "," ",null,null,null,null,null,null,null,1411]
[" ",1412," "," "," "," ",null,null,null,null,null,null,null,1412]
[" ",1413," "," "," "," ",null,null,null,null,null,null,null,1413]
[" ",{"$f":"N835","v":1414}," "," "," "," ",null,null,null,null,null,null,null,1414]
[" ",1415," "," "," "," ",null,null,null,null,null,null,null,1415]
[" ",1510," "," "," "," ",null,null,null,null,null,null,null,1510]
[" ",1511," "," "," "," ",null,null,null,null,null,null,null,1511]
[" ",2110," "," "," "," ",null,null,null,null,null,null,null,2110]
[" ",2111," "," "," "," ",null,null,null,null,null,null,null,2111]
[" ",2112," "," "," "," ",null,null,null,null,null,null,null,2112]
[" ",2113," "," "," "," ",null,null,null,null,null,null,null,2113]
[" ",2114," "," "," "," ",null,null,null,null,null,null,null,2114]
[" ",2115," "," "," "," ",null,null,null,null,null,null,null,2115]
[" ",2116," "," "," "," ",null,null,null,null,null,null,null,2116]
[" ",2117," "," "," "," ",null,null,null,null,null,null,null,2117]
[" ",2118," "," "," "," ",null,null,null,null,null,null,null,2118]
[" ",2119," "," "," "," ",null,null,null,null,null,null,null,2119]
[" ",2120," "," "," "," ",null,null,null,null,null,null,null,2120]
[" ",2121," "," "," "," ",null,null,null,null,null,null,null,2121]
[" ",2122," "," "," "," ",null,null,null,null,null,null,null,2122]
[" ",3110," "," "," "," ",null,null,null,null,null,null,null,3110]
[" ",3111," "," "," "," ",null,null,null,null,null,null,null,3111]
[" ",3112," "," "," "," ",null,null,null,null,null,null,null,3112]
[" ",4111," "," "," "," ",null,null,null,null,null,null,null,4111]
[" ",4112," "," "," "," ",null,null,null,null,null,null,null,4112]
[" ",4113," "," "," "," ",null,null,null,null,null,null,null,4113]
[" ",4114," "," "," "," ",null,null,null,null,null,null,null,4114]
[" ",4115," "," "," "," ",null,null,null,null,null,null,null,4115]
[" ",4116," "," "," "," ",null,null,null,null,null,null,null,4116]
[" ",4210," "," "," "," ",null,null,null,null,null,null,null,4210]
[" ",4211," "," "," "," ",null,null,null,null,null,null,null,4211]
[" ",4212," "," "," "," ",null,null,null,null,null,null,null,4212]
[" ",4213," "," "," "," ",null,null,null,null,null,null,null,4213]
[" ",4214," "," "," "," ",null,null,null,null,null,null,null,4214]
[" ",4215," "," "," "," ",null,null,null,null,null,null,null,4215]
[" ",4216," "," "," "," ",null,null,null,null,null,null,null,4216]
[" ",4217," "," "," "," ",null,null,null,null,null,null,null,4217]
[" ",4218," "," "," "," ",null,null,null,null,null,null,null,4218]
[" ",4219," "," "," "," ",null,null,null,null,null,null,null,4219]
[" ",4220," "," "," "," ",null,null,null,null,null,null,null,4220]
[" ",4310," "," "," "," ",null,null,null,null,null,null,null,4310]
[" ",4311," "," "," "," ",null,null,null,null,null,null,null,4311]
[" ",4312," "," "," "," ",null,null,null,null,null,null,null,4312]
[" ",4313," "," "," "," ",null,null,null,null,null,null,null,4313]
[" ",4314," "," "," "," ",null,null,null,null,null,null,null,4314]
[" ",4410," "," "," "," ",null,null,null,null,null,null,null,4410]
[" ",4411," "," "," "," ",null,null,null,null,null,null,null,4411]
[" ",4412," "," "," "," ",null,null,null,null,null,null,null,4412]
[" ",4510," "," "," "," ",null,null,null,null,null,null,null,4510]
[" ",4511," "," "," "," ",null,null,null,null,null,null,null,4511]
[" ",4512," "," "," "," ",null,null,null,null,null,null,null,4512]
[" ",4513," "," "," "," ",null,null,null,null,null,null,null,4513]
[" ",4514," "," "," "," ",null,null,null,null,null,null,null,4514]
[" ",4515," "," "," "," ",null,null,null,null,null,null,null,4515]
[" ",5010," "," "," "," ",null,null,null,null,null,null,null,5010]
[" ",5011," "," "," "," ",null,null,null,null,null,null,null,5011]
[" ",5012," "," "," "," ",null,null,null,null,null,null,null,5012]
[" ",5013," "," "," "," ",null,null,null,null,null,null,null,5013]
[" ",5014," "," "," "," ",null,null,null,null,null,null,null,5014]
[" ",5016," "," "," "," ",null,null,null,null,null,null,null,5016]
[" ",1111," "," "," "," ",null,null,null,null,null,null,null,1111]
[" ",1112," "," "," "," ",null,null,null,null,null,null,null,1112]
[" ",1113," "," "," "," ",null,null,null,null,null,null,null,1113]
[" ",1210," "," "," "," ",null,null,null,null,null,null,null,1210]
[" ",1211," "," "," "," ",null,null,null,null,null,null,null,1211]
[" ",1212," "," "," "," ",null,null,null,null,null,null,null,1212]
[" ",1213," "," "," "," ",null,null,null,null,null,null,null,1213]
[" ",{"$f":"N899","v":1214}," "," "," "," ",null,null,null,null,null,null,null,1214]
[" ",1215," "," "," "," ",null,null,null,null,null,null,null,1215]
[" ",1216," "," "," "," ",null,null,null,null,null,null,null,1216]
[" ",1217," "," "," "," ",null,null,null,null,null,null,null,1217]
[" ",1218," "," "," "," ",null,null,null,null,null,null,null,1218]
[" ",1219," "," "," "," ",null,null,null,null,null,null,null,1219]
[" ",1220," "," "," "," ",null,null,null,null,null,null,null,1220]
[" ",1221," "," "," "," ",null,null,null,null,null,null,null,1221]
[" ",1222," "," "," "," ",null,null,null,null,null,null,null,1222]
[" ",1223," "," "," "," ",null,null,null,null,null,null,null,1223]
[" ",1310," "," "," "," ",null,null,null,null,null,null,null,1310]
[" ",1311," "," "," "," ",null,null,null,null,null,null,null,1311]
[" ",1312," "," "," "," ",null,null,null,null,null,null,null,1312]
[" ",1313," "," "," "," ",null,null,null,null,null,null,null,1313]
[" ",1314," "," "," "," ",null,null,null,null,null,null,null,1314]
[" ",1315," "," "," "," ",null,null,null,null,null,null,null,1315]
[" ",1316," "," "," "," ",null,null,null,null,null,null,null,1316]
[" ",1317," "," "," "," ",null,null,null,null,null,null,null,1317]
[" ",1318," "," "," "," ",null,null,null,null,null,null,null,1318]
[" ",1319," "," "," "," ",null,null,null,null,null,null,null,1319]
[" ",1320," "," "," "," ",null,null,null,null,null,null,null,1320]
[" ",1410," "," "," "," ",null,null,null,null,null,null,null,1410]
[" ",1411," "," "," "," ",null,null,null,null,null,null,null,1411]
[" ",1412," "," "," "," ",null,null,null,null,null,null,null,1412]
[" ",1413," "," "," "," ",null,null,null,null,null,null,null,1413]
[" ",1414," "," "," "," ",null,null,null,null,null,null,null,1414]
[" ",1415," "," "," "," ",null,null,null,null,null,null,null,1415]
[" ",1510," "," "," "," ",null,null,null,null,null,null,null,1510]
[" ",1511," "," "," "," ",null,null,null,null,null,null,null,1511]
[" ",2110," "," "," "," ",null,null,null,null,null,null,null,2110]
[" ",2111," "," "," "," ",null,null,null,null,null,null,null,2111]
[" ",2112," "," "," "," ",null,null,null,null,null,null,null,2112]
[" ",2113," "," "," "," ",null,null,null,null,null,null,null,2113]
[" ",2114," "," "," "," ",null,null,null,null,null,null,null,2114]
[" ",2115," "," "," "," ",null,null,null,null,null,null,null,2115]
[" ",2116," "," "," "," ",null,null,null,null,null,null,null,2116]
[" ",2117," "," "," "," ",null,null,null,null,null,null,null,2117]
[" ",2118," "," "," "," ",null,null,null,null,null,null,null,2118]
[" ",2119," "," "," "," ",null,null,null,null,null,null,null,2119]
[" ",2120," "," "," "," ",null,null,null,null,null,null,null,2120]
[" ",2121," "," "," "," ",null,null,null,null,null,null,null,2121]
[" ",2122," "," "," "," ",null,null,null,null,null,null,null,2122]
[" ",3110," "," "," "," ",null,null,null,null,null,null,null,3110]
[" ",3111," "," "," "," ",null,null,null,null,null,null,null,3111]
[" ",3112," "," "," "," ",null,null,null,null,null,null,null,3112]
[" ",4111," "," "," "," ",null,null,null,null,null,null,null,4111]
[" ",4112," "," "," "," ",null,null,null,null,null,null,null,4112]
[" ",4113," "," "," "," ",null,null,null,null,null,null,null,4113]
[" ",4114," "," "," "," ",null,null,null,null,null,null,null,4114]
[" ",4115," "," "," "," ",null,null,null,null,null,null,null,4115]
[" ",4116," "," "," "," ",null,null,null,null,null,null,null,4116]
[" ",4210," "," "," "," ",null,null,null,null,null,null,null,4210]
[" ",4211," "," "," "," ",null,null,null,null,null,null,null,4211]
[" ",4212," "," "," "," ",null,null,null,null,null,null,null,4212]
[" ",4213," "," "," "," ",null,null,null,null,null,null,null,4213]
[" ",4214," "," "," "," ",null,null,null,null,null,null,null,4214]
[" ",4215," "," "," "," ",null,null,null,null,null,null,null,4215]
[" ",4216," "," "," "," ",null,null,null,null,null,null,null,4216]
[" ",4217," "," "," "," ",null,null,null,null,null,null,null,4217]
[" ",4218," "," "," "," ",null,null,null,null,null,null,null,4218]
[" ",4219," "," "," "," ",null,null,null,null,null,null,null,4219]
[" ",4220," "," "," "," ",null,null,null,null,null,null,null,4220]
[" ",4310," "," "," "," ",null,null,null,null,null,null,null,4310]
[" ",4311," "," "," "," ",null,null,null,null,null,null,null,4311]
[" ",{"$f":"N963","v":4312}," "," "," "," ",null,null,null,null,null,null,null,4312]
[" ",4313," "," "," "," ",null,null,null,null,null,null,null,4313]
[" ",4314," "," "," "," ",null,null,null,null,null,null,null,4314]
[" ",4410," "," "," "," ",null,null,null,null,null,null,null,4410]
[" ",4411," "," "," "," ",null,null,null,null,null,null,null,4411]
[" ",4412," "," "," "," ",null,null,null,null,null,null,null,4412]
[" ",4510," "," "," "," ",null,null,null,null,null,null,null,4510]
[" ",4511," "," "," "," ",null,null,null,null,null,null,null,4511]
[" ",4512," "," "," "," ",null,null,null,null,null,null,null,4512]
[" ",4513," "," "," "," ",null,null,null,null,null,null,null,4513]
[" ",4514," "," "," "," ",null,null,null,null,null,null,null,4514]
[" ",4515," "," "," "," ",null,null,null,null,null,null,null,4515]
[" ",5010," "," "," "," ",null,null,null,null,null,null,null,5010]
[" ",5011," "," "," "," ",null,null,null,null,null,null,null,5011]
[" ",5012," "," "," "," ",null,null,null,null,null,null,null,5012]
[" ",5013," "," "," "," ",null,null,null,null,null,null,null,5013]
[" ",5014," "," "," "," ",null,null,null,null,null,null,null,5014]
[" ",5016," "," "," "," ",null,null,null,null,null,null,null,5016]
[" ",1111," "," "," "," ",null,null,null,null,null,null,null,1111]
[" ",1112," "," "," "," ",null,null,null,null,null,null,null,1112]
[" ",1113," "," "," "," ",null,null,null,null,null,null,null,1113]
[" ",1210," "," "," "," ",null,null,null,null,null,null,null,1210]
[" ",1211," "," "," "," ",null,null,null,null,null,null,null,1211]
[" ",1212," "," "," "," ",null,null,null,null,null,null,null,1212]
[" ",1213," "," "," "," ",null,null,null,null,null,null,null,1213]
[" ",1214," "," "," "," ",null,null,null,null,null,null,null,1214]
[" ",1215," "," "," "," ",null,null,null,null,null,null,null,1215]
[" ",1216," "," "," "," ",null,null,null,null,null,null,null,1216]
[" ",1217," "," "," "," ",null,null,null,null,null,null,null,1217]
[" ",1218," "," "," "," ",null,null,null,null,null,null,null,1218]
[" ",1219," "," "," "," ",null,null,null,null,null,null,null,1219]
[" ",1220," "," "," "," ",null,null,null,null,null,null,null,1220]
[" ",1221," "," "," "," ",null,null,null,null,null,null,null,1221]
[" ",1222," "," "," "," ",null,null,null,null,null,null,null,1222]
[" ",1223," "," "," "," ",null,null,null,null,null,null,null,1223]
[" ",1310," "," "," "," ",null,null,null,null,null,null,null,1310]
[" ",1311," "," "," "," ",null,null,null,null,null,null,null,1311]
[" ",1312," "," "," "," ",null,null,null,null,null,null,null,1312]
[" ",1313," "," "," "," ",null,null,null,null,null,null,null,1313]
[" ",1314," "," "," "," ",null,null,null,null,null,null,null,1314]
[" ",1315," "," "," "," ",null,null,null,null,null,null,null,1315]
[" ",1316," "," "," "," ",null,null,null,null,null,null,null,1316]
[" ",1317," "," "," "," ",null,null,null,null,null,null,null,1317]
[" ",1318," "," "," "," ",null,null,null,null,null,null,null,1318]
[" ",1319," "," "," "," ",null,null,null,null,null,null,null,1319]
[" ",1320," "," "," "," ",null,null,null,null,null,null,null,1320]
[" ",1410," "," "," "," ",null,null,null,null,null,null,null,1410]
[" ",1411," "," "," "," ",null,null,null,null,null,null,null,1411]
[" ",1412," "," "," "," ",null,null,null,null,null,null,null,1412]
[" ",1413," "," "," "," ",null,null,null,null,null,null,null,1413]
[" ",1414," "," "," "," ",null,null,null,null,null,null,null,1414]
[" ",1415," "," "," "," ",null,null,null,null,null,null,null,1415]
[" ",1510," "," "," "," ",null,null,null,null,null,null,null,1510]
[" ",1511," "," "," "," ",null,null,null,null,null,null,null,1511]
[" ",2110," "," "," "," ",null,null,null,null,null,null,null,2110]
[" ",2111," "," "," "," ",null,null,null,null,null,null,null,2111]
[" ",2112," "," "," "," ",null,null,null,null,null,null,null,2112]
[" ",2113," "," "," "," ",null,null,null,null,null,null,null,2113]
[" ",2114," "," "," "," ",null,null,null,null,null,null,null,2114]
[" ",2115," "," "," "," ",null,null,null,null,null,null,null,2115]
[" ",2116," "," "," "," ",null,null,null,null,null,null,null,2116]
[" ",2117," "," "," "," ",null,null,null,null,null,null,null,2117]
[" ",2118," "," "," "," ",null,null,null,null,null,null,null,2118]
[" ",2119," "," "," "," ",null,null,null,null,null,null,null,2119]
[" ",{"$f":"N1027","v":2120}," "," "," "," ",null,null,null,null,null,null,null,2120]
[" ",2121," "," "," "," ",null,null,null,null,null,null,null,2121]
[" ",2122," "," "," "," ",null,null,null,null,null,null,null,2122]
[" ",3110," "," "," "," ",null,null,null,null,null,null,null,3110]
[" ",3111," "," "," "," ",null,null,null,null,null,null,null,3111]
[" ",3112," "," "," "," ",null,null,null,null,null,null,null,3112]
[" ",4111," "," "," "," ",null,null,null,null,null,null,null,4111]
[" ",4112," "," "," "," ",null,null,null,null,null,null,null,4112]
[" ",4113," "," "," "," ",null,null,null,null,null,null,null,4113]
[" ",4114," "," "," "," ",null,null,null,null,null,null,null,4114]
[" ",4115," "," "," "," ",null,null,null,null,null,null,null,4115]
[" ",4116," "," "," "," ",null,null,null,null,null,null,null,4116]
[" ",4210," "," "," "," ",null,null,null,null,null,null,null,4210]
[" ",4211," "," "," "," ",null,null,null,null,null,null,null,4211]
[" ",4212," "," "," "," ",null,null,null,null,null,null,null,4212]
[" ",4213," "," "," "," ",null,null,null,null,null,null,null,4213]
[" ",4214," "," "," "," ",null,null,null,null,null,null,null,4214]
[" ",4215," "," "," "," ",null,null,null,null,null,null,null,4215]
[" ",4216," "," "," "," ",null,null,null,null,null,null,null,4216]
[" ",4217," "," "," "," ",null,null,null,null,null,null,null,4217]
[" ",4218," "," "," "," ",null,null,null,null,null,null,null,4218]
[" ",4219," "," "," "," ",null,null,null,null,null,null,null,4219]
[" ",4220," "," "," "," ",null,null,null,null,null,null,null,4220]
[" ",4310," "," "," "," ",null,null,null,null,null,null,null,4310]
[" ",4311," "," "," "," ",null,null,null,null,null,null,null,4311]
[" ",4312," "," "," "," ",null,null,null,null,null,null,null,4312]
[" ",4313," "," "," "," ",null,null,null,null,null,null,null,4313]
[" ",4314," "," "," "," ",null,null,null,null,null,null,null,4314]
[" ",4410," "," "," "," ",null,null,null,null,null,null,null,4410]
[" ",4411," "," "," "," ",null,null,null,null,null,null,null,4411]
[" ",4412," "," "," "," ",null,null,null,null,null,null,null,4412]
[" ",4510," "," "," "," ",null,null,null,null,null,null,null,4510]
[" ",4511," "," "," "," ",null,null,null,null,null,null,null,4511]
[" ",4512," "," "," "," ",null,null,null,null,null,null,null,4512]
[" ",4513," "," "," "," ",null,null,null,null,null,null,null,4513]
[" ",4514," "," "," "," ",null,null,null,null,null,null,null,4514]
[" ",4515," "," "," "," ",null,null,null,null,null,null,null,4515]
[" ",5010," "," "," "," ",null,null,null,null,null,null,null,5010]
[" ",5011," "," "," "," ",null,null,null,null,null,null,null,5011]
[" ",5012," "," "," "," ",null,null,null,null,null,null,null,5012]
[" ",5013," "," "," "," ",null,null,null,null,null,null,null,5013]
[" ",5014," "," "," "," ",null,null,null,null,null,null,null,5014]
[" ",5016," "," "," "," ",null,null,null,null,null,null,null,5016]

{"sheet":"VARIABLES_ESTADO_DE_RESULTADOS","index":8,"n_rows":1417,"n_cols":14,"rows_kept":1417,"cut":false,"hidden":true,"merged":[]}
["ID_DEALER_CODE","ID_ACCOUNT","YEAR","MONTH","ID_CURRENCY","AMOUNT"]
[57040,{"$f":"N2","v":6111},2015,1,"MXN",13300154.999999996,null,null,null,null,null,null,null,6111]
[57040,{"$f":"N3","v":6112},2015,1,"MXN",1279707.9999999963,null,null,null,null,null,null,null,6112]
[57040,6113,2015,1,"MXN",1171904.26,null,null,null,null,null,null,null,6113]
[57040,6114,2015,1,"MXN",132841.31000000006,null,null,null,null,null,null,null,6114]
[57040,6115,2015,1,"MXN",485655,null,null,null,null,null,null,null,6115]
[57040,6116,2015,1,"MXN",83826,null,null,null,null,null,null,null,6116]
[57040,6117,2015,1,"MXN",525713.96,null,null,null,null,null,null,null,6117]
[57040,6118,2015,1,"MXN",431758.77,null,null,null,null,null,null,null,6118]
[57040,6119,2015,1,"MXN",87418.11,null,null,null,null,null,null,null,6119]
[57040,6120,2015,1,"MXN",20678.12,null,null,null,null,null,null,null,6120]
[57040,6121,2015,1,"MXN",1338838.29,null,null,null,null,null,null,null,6121]
[57040,6122,2015,1,"MXN",505358.3,null,null,null,null,null,null,null,6122]
[57040,6123,2015,1,"MXN",1951970.36,null,null,null,null,null,null,null,6123]
[57040,7111,2015,1,"MXN",321689.65000000002,null,null,null,null,null,null,null,7111]
[57040,7112,2015,1,"MXN",0,null,null,null,null,null,null,null,7112]
[57040,7113,2015,1,"MXN",56062,null,null,null,null,null,null,null,7113]
[57040,7114,2015,1,"MXN",21820,null,null,null,null,null,null,null,7114]
[57040,7115,2015,1,"MXN",50935.8,null,null,null,null,null,null,null,7115]
[57040,7116,2015,1,"MXN",179336,null,null,null,null,null,null,null,7116]
[57040,7117,2015,1,"MXN",0,null,null,null,null,null,null,null,7117]
[57040,7121,2015,1,"MXN",0,null,null,null,null,null,null,null,7121]
[57040,7122,2015,1,"MXN",0,null,null,null,null,null,null,null,7122]
[57040,7123,2015,1,"MXN",0,null,null,null,null,null,null,null,7123]
[57040,7124,2015,1,"MXN",5343.04,null,null,null,null,null,null,null,7124]
[57040,7131,2015,1,"MXN",0,null,null,null,null,null,null,null,7131]
[57040,7132,2015,1,"MXN",0,null,null,null,null,null,null,null,7132]
[57040,7133,2015,1,"MXN",0,null,null,null,null,null,null,null,7133]
[57040,7141,2015,1,"MXN",0,null,null,null,null,null,null,null,7141]
[57040,7142,2015,1,"MXN",0,null,null,null,null,null,null,null,7142]
[57040,7151,2015,1,"MXN",0,null,null,null,null,null,null,null,7151]
[57040,7152,2015,1,"MXN",0,null,null,null,null,null,null,null,7152]
[57040,7153,2015,1,"MXN",0,null,null,null,null,null,null,null,7153]
[57040,7211,2015,1,"MXN",0,null,null,null,null,null,null,null,7211]
[57040,7212,2015,1,"MXN",0,null,null,null,null,null,null,null,7212]
[57040,7213,2015,1,"MXN",0,null,null,null,null,null,null,null,7213]
[57040,7214,2015,1,"MXN",0,null,null,null,null,null,null,null,7214]
[57040,7215,2015,1,"MXN",29000,null,null,null,null,null,null,null,7215]
[57040,7216,2015,1,"MXN",0,null,null,null,null,null,null,null,7216]
[57040,7217,2015,1,"MXN",0,null,null,null,null,null,null,null,7217]
[57040,7218,2015,1,"MXN",0,null,null,null,null,null,null,null,7218]
[57040,7219,2015,1,"MXN",0,null,null,null,null,null,null,null,7219]
[57040,7220,2015,1,"MXN",0,null,null,null,null,null,null,null,7220]
[57040,7221,2015,1,"MXN",0,null,null,null,null,null,null,null,7221]
[57040,7222,2015,1,"MXN",0,null,null,null,null,null,null,null,7222]
[57040,7223,2015,1,"MXN",0,null,null,null,null,null,null,null,7223]
[57040,7224,2015,1,"MXN",0,null,null,null,null,null,null,null,7224]
[57040,7225,2015,1,"MXN",0,null,null,null,null,null,null,null,7225]
[57040,7231,2015,1,"MXN",0,null,null,null,null,null,null,null,7231]
[57040,7232,2015,1,"MXN",8316.1200000000008,null,null,null,null,null,null,null,7232]
[57040,7233,2015,1,"MXN",0,null,null,null,null,null,null,null,7233]
[57040,7234,2015,1,"MXN",0,null,null,null,null,null,null,null,7234]
[57040,7235,2015,1,"MXN",0,null,null,null,null,null,null,null,7235]
[57040,7236,2015,1,"MXN",29255,null,null,null,null,null,null,null,7236]
[57040,7237,2015,1,"MXN",0,null,null,null,null,null,null,null,7237]
[57040,7241,2015,1,"MXN",0,null,null,null,null,null,null,null,7241]
[57040,7242,2015,1,"MXN",0,null,null,null,null,null,null,null,7242]
[57040,7243,2015,1,"MXN",0,null,null,null,null,null,null,null,7243]
[57040,7244,2015,1,"MXN",0,null,null,null,null,null,null,null,7244]
[57040,7251,2015,1,"MXN",1917.61,null,null,null,null,null,null,null,7251]
[57040,7252,2015,1,"MXN",0,null,null,null,null,null,null,null,7252]
[57040,7253,2015,1,"MXN",0,null,null,null,null,null,null,null,7253]
[57040,7254,2015,1,"MXN",0,null,null,null,null,null,null,null,7254]
[57040,7255,2015,1,"MXN",21567,null,null,null,null,null,null,null,7255]
[57040,7256,2015,1,"MXN",0,null,null,null,null,null,null,null,7256]
[57040,7261,2015,1,"MXN",12697.08,null,null,null,null,null,null,null,7261]
[57040,{"$f":"N67","v":7262},2015,1,"MXN",0,null,null,null,null,null,null,null,7262]
[57040,7311,2015,1,"MXN",224390.46,null,null,null,null,null,null,null,7311]
[57040,7312,2015,1,"MXN",34729.910000000003,null,null,null,null,null,null,null,7312]
[57040,7313,2015,1,"MXN",0,null,null,null,null,null,null,null,7313]
[57040,7314,2015,1,"MXN",0,null,null,null,null,null,null,null,7314]
[57040,7315,2015,1,"MXN",0,null,null,null,null,null,null,null,7315]
[57040,7316,2015,1,"MXN",27876,null,null,null,null,null,null,null,7316]
[57040,7321,2015,1,"MXN",0,null,null,null,null,null,null,null,7321]
[57040,7322,2015,1,"MXN",0,null,null,null,null,null,null,null,7322]
[57040,7323,2015,1,"MXN",0,null,null,null,null,null,null,null,7323]
[57040,7324,2015,1,"MXN",0,null,null,null,null,null,null,null,7324]
[57040,7331,2015,1,"MXN",80357.14,null,null,null,null,null,null,null,7331]
[57040,7332,2015,1,"MXN",3128.67,null,null,null,null,null,null,null,7332]
[57040,7333,2015,1,"MXN",0,null,null,null,null,null,null,null,7333]
[57040,7334,2015,1,"MXN",0,null,null,null,null,null,null,null,7334]
[57040,7335,2015,1,"MXN",0,null,null,null,null,null,null,null,7335]
[57040,7336,2015,1,"MXN",0,null,null,null,null,null,null,null,7336]
[57040,7341,2015,1,"MXN",0,null,null,null,null,null,null,null,7341]
[57040,7342,2015,1,"MXN",0,null,null,null,null,null,null,null,7342]
[57040,7343,2015,1,"MXN",0,null,null,null,null,null,null,null,7343]
[57040,7351,2015,1,"MXN",0,null,null,null,null,null,null,null,7351]
[57040,7352,2015,1,"MXN",9386.0110000000004,null,null,null,null,null,null,null,7352]
[57040,7353,2015,1,"MXN",0,null,null,null,null,null,null,null,7353]
[57040,7354,2015,1,"MXN",0,null,null,null,null,null,null,null,7354]
[57040,7361,2015,1,"MXN",0,null,null,null,null,null,null,null,7361]
[57040,7362,2015,1,"MXN",0,null,null,null,null,null,null,null,7362]
[57040,7410,2015,1,"MXN",271803,null,null,null,null,null,null,null,7410]
[57040,7411,2015,1,"MXN",0,null,null,null,null,null,null,null,7411]
[57040,7412,2015,1,"MXN",0,null,null,null,null,null,null,null,7412]
[57040,7413,2015,1,"MXN",0,null,null,null,null,null,null,null,7413]
[57040,7414,2015,1,"MXN",195000,null,null,null,null,null,null,null,7414]
[57040,7415,2015,1,"MXN",0,null,null,null,null,null,null,null,7415]
[57040,7416,2015,1,"MXN",14750.76,null,null,null,null,null,null,null,7416]
[57040,7417,2015,1,"MXN",1871.97,null,null,null,null,null,null,null,7417]
[57040,7418,2015,1,"MXN",0,null,null,null,null,null,null,null,7418]
[57040,7419,2015,1,"MXN",3686.92,null,null,null,null,null,null,null,7419]
[57040,7420,2015,1,"MXN",2040,null,null,null,null,null,null,null,7420]
[57040,7421,2015,1,"MXN",19163.63,null,null,null,null,null,null,null,7421]
[57040,7422,2015,1,"MXN",0,null,null,null,null,null,null,null,7422]
[57040,7423,2015,1,"MXN",0,null,null,null,null,null,null,null,7423]
[57040,7424,2015,1,"MXN",79053.64,null,null,null,null,null,null,null,7424]
[57040,7425,2015,1,"MXN",3951.55,null,null,null,null,null,null,null,7425]
[57040,7426,2015,1,"MXN",0,null,null,null,null,null,null,null,7426]
[57040,7427,2015,1,"MXN",26775,null,null,null,null,null,null,null,7427]
[57040,7428,2015,1,"MXN",35519.75,null,null,null,null,null,null,null,7428]
[57040,7429,2015,1,"MXN",136027.91999999998,null,null,null,null,null,null,null,7429]
[57040,7430,2015,1,"MXN",0,null,null,null,null,null,null,null,7430]
[57040,7431,2015,1,"MXN",0,null,null,null,null,null,null,null,7431]
[57040,8010,2015,1,"MXN",0,null,null,null,null,null,null,null,8010]
[57040,8011,2015,1,"MXN",409465.73,null,null,null,null,null,null,null,8011]
[57040,8012,2015,1,"MXN",45145.78,null,null,null,null,null,null,null,8012]
[57040,8013,2015,1,"MXN",95000,null,null,null,null,null,null,null,8013]
[57040,8014,2015,1,"MXN",101351.91,null,null,null,null,null,null,null,8014]
[" ",6111," "," "," "," ",null,null,null,null,null,null,null,6111]
[" ",6112," "," "," "," ",null,null,null,null,null,null,null,6112]
[" ",6113," "," "," "," ",null,null,null,null,null,null,null,6113]
[" ",6114," "," "," "," ",null,null,null,null,null,null,null,6114]
[" ",6115," "," "," "," ",null,null,null,null,null,null,null,6115]
[" ",6116," "," "," "," ",null,null,null,null,null,null,null,6116]
[" ",6117," "," "," "," ",null,null,null,null,null,null,null,6117]
[" ",6118," "," "," "," ",null,null,null,null,null,null,null,6118]
[" ",6119," "," "," "," ",null,null,null,null,null,null,null,6119]
[" ",6120," "," "," "," ",null,null,null,null,null,null,null,6120]
[" ",6121," "," "," "," ",null,null,null,null,null,null,null,6121]
[" ",{"$f":"N131","v":6122}," "," "," "," ",null,null,null,null,null,null,null,6122]
[" ",6123," "," "," "," ",null,null,null,null,null,null,null,6123]
[" ",7111," "," "," "," ",null,null,null,null,null,null,null,7111]
[" ",7112," "," "," "," ",null,null,null,null,null,null,null,7112]
[" ",7113," "," "," "," ",null,null,null,null,null,null,null,7113]
[" ",7114," "," "," "," ",null,null,null,null,null,null,null,7114]
[" ",7115," "," "," "," ",null,null,null,null,null,null,null,7115]
[" ",7116," "," "," "," ",null,null,null,null,null,null,null,7116]
[" ",7117," "," "," "," ",null,null,null,null,null,null,null,7117]
[" ",7121," "," "," "," ",null,null,null,null,null,null,null,7121]
[" ",7122," "," "," "," ",null,null,null,null,null,null,null,7122]
[" ",7123," "," "," "," ",null,null,null,null,null,null,null,7123]
[" ",7124," "," "," "," ",null,null,null,null,null,null,null,7124]
[" ",7131," "," "," "," ",null,null,null,null,null,null,null,7131]
[" ",7132," "," "," "," ",null,null,null,null,null,null,null,7132]
[" ",7133," "," "," "," ",null,null,null,null,null,null,null,7133]
[" ",7141," "," "," "," ",null,null,null,null,null,null,null,7141]
[" ",7142," "," "," "," ",null,null,null,null,null,null,null,7142]
[" ",7151," "," "," "," ",null,null,null,null,null,null,null,7151]
[" ",7152," "," "," "," ",null,null,null,null,null,null,null,7152]
[" ",7153," "," "," "," ",null,null,null,null,null,null,null,7153]
[" ",7211," "," "," "," ",null,null,null,null,null,null,null,7211]
[" ",7212," "," "," "," ",null,null,null,null,null,null,null,7212]
[" ",7213," "," "," "," ",null,null,null,null,null,null,null,7213]
[" ",7214," "," "," "," ",null,null,null,null,null,null,null,7214]
[" ",7215," "," "," "," ",null,null,null,null,null,null,null,7215]
[" ",7216," "," "," "," ",null,null,null,null,null,null,null,7216]
[" ",7217," "," "," "," ",null,null,null,null,null,null,null,7217]
[" ",7218," "," "," "," ",null,null,null,null,null,null,null,7218]
[" ",7219," "," "," "," ",null,null,null,null,null,null,null,7219]
[" ",7220," "," "," "," ",null,null,null,null,null,null,null,7220]
[" ",7221," "," "," "," ",null,null,null,null,null,null,null,7221]
[" ",7222," "," "," "," ",null,null,null,null,null,null,null,7222]
[" ",7223," "," "," "," ",null,null,null,null,null,null,null,7223]
[" ",7224," "," "," "," ",null,null,null,null,null,null,null,7224]
[" ",7225," "," "," "," ",null,null,null,null,null,null,null,7225]
[" ",7231," "," "," "," ",null,null,null,null,null,null,null,7231]
[" ",7232," "," "," "," ",null,null,null,null,null,null,null,7232]
[" ",7233," "," "," "," ",null,null,null,null,null,null,null,7233]
[" ",7234," "," "," "," ",null,null,null,null,null,null,null,7234]
[" ",7235," "," "," "," ",null,null,null,null,null,null,null,7235]
[" ",7236," "," "," "," ",null,null,null,null,null,null,null,7236]
[" ",7237," "," "," "," ",null,null,null,null,null,null,null,7237]
[" ",7241," "," "," "," ",null,null,null,null,null,null,null,7241]
[" ",7242," "," "," "," ",null,null,null,null,null,null,null,7242]
[" ",7243," "," "," "," ",null,null,null,null,null,null,null,7243]
[" ",7244," "," "," "," ",null,null,null,null,null,null,null,7244]
[" ",7251," "," "," "," ",null,null,null,null,null,null,null,7251]
[" ",7252," "," "," "," ",null,null,null,null,null,null,null,7252]
[" ",7253," "," "," "," ",null,null,null,null,null,null,null,7253]
[" ",7254," "," "," "," ",null,null,null,null,null,null,null,7254]
[" ",7255," "," "," "," ",null,null,null,null,null,null,null,7255]
[" ",7256," "," "," "," ",null,null,null,null,null,null,null,7256]
[" ",7261," "," "," "," ",null,null,null,null,null,null,null,7261]
[" ",7262," "," "," "," ",null,null,null,null,null,null,null,7262]
[" ",7311," "," "," "," ",null,null,null,null,null,null,null,7311]
[" ",7312," "," "," "," ",null,null,null,null,null,null,null,7312]
[" ",7313," "," "," "," ",null,null,null,null,null,null,null,7313]
[" ",7314," "," "," "," ",null,null,null,null,null,null,null,7314]
[" ",7315," "," "," "," ",null,null,null,null,null,null,null,7315]
[" ",7316," "," "," "," ",null,null,null,null,null,null,null,7316]
[" ",7321," "," "," "," ",null,null,null,null,null,null,null,7321]
[" ",7322," "," "," "," ",null,null,null,null,null,null,null,7322]
[" ",7323," "," "," "," ",null,null,null,null,null,null,null,7323]
[" ",{"$f":"N195","v":7324}," "," "," "," ",null,null,null,null,null,null,null,7324]
[" ",7331," "," "," "," ",null,null,null,null,null,null,null,7331]
[" ",7332," "," "," "," ",null,null,null,null,null,null,null,7332]
[" ",7333," "," "," "," ",null,null,null,null,null,null,null,7333]
[" ",7334," "," "," "," ",null,null,null,null,null,null,null,7334]
[" ",7335," "," "," "," ",null,null,null,null,null,null,null,7335]
[" ",7336," "," "," "," ",null,null,null,null,null,null,null,7336]
[" ",7341," "," "," "," ",null,null,null,null,null,null,null,7341]
[" ",7342," "," "," "," ",null,null,null,null,null,null,null,7342]
[" ",7343," "," "," "," ",null,null,null,null,null,null,null,7343]
[" ",7351," "," "," "," ",null,null,null,null,null,null,null,7351]
[" ",7352," "," "," "," ",null,null,null,null,null,null,null,7352]
[" ",7353," "," "," "," ",null,null,null,null,null,null,null,7353]
[" ",7354," "," "," "," ",null,null,null,null,null,null,null,7354]
[" ",7361," "," "," "," ",null,null,null,null,null,null,null,7361]
[" ",7362," "," "," "," ",null,null,null,null,null,null,null,7362]
[" ",7410," "," "," "," ",null,null,null,null,null,null,null,7410]
[" ",7411," "," "," "," ",null,null,null,null,null,null,null,7411]
[" ",7412," "," "," "," ",null,null,null,null,null,null,null,7412]
[" ",7413," "," "," "," ",null,null,null,null,null,null,null,7413]
[" ",7414," "," "," "," ",null,null,null,null,null,null,null,7414]
[" ",7415," "," "," "," ",null,null,null,null,null,null,null,7415]
[" ",7416," "," "," "," ",null,null,null,null,null,null,null,7416]
[" ",7417," "," "," "," ",null,null,null,null,null,null,null,7417]
[" ",7418," "," "," "," ",null,null,null,null,null,null,null,7418]
[" ",7419," "," "," "," ",null,null,null,null,null,null,null,7419]
[" ",7420," "," "," "," ",null,null,null,null,null,null,null,7420]
[" ",7421," "," "," "," ",null,null,null,null,null,null,null,7421]
[" ",7422," "," "," "," ",null,null,null,null,null,null,null,7422]
[" ",7423," "," "," "," ",null,null,null,null,null,null,null,7423]
[" ",7424," "," "," "," ",null,null,null,null,null,null,null,7424]
[" ",7425," "," "," "," ",null,null,null,null,null,null,null,7425]
[" ",7426," "," "," "," ",null,null,null,null,null,null,null,7426]
[" ",7427," "," "," "," ",null,null,null,null,null,null,null,7427]
[" ",7428," "," "," "," ",null,null,null,null,null,null,null,7428]
[" ",7429," "," "," "," ",null,null,null,null,null,null,null,7429]
[" ",7430," "," "," "," ",null,null,null,null,null,null,null,7430]
[" ",7431," "," "," "," ",null,null,null,null,null,null,null,7431]
[" ",8010," "," "," "," ",null,null,null,null,null,null,null,8010]
[" ",8011," "," "," "," ",null,null,null,null,null,null,null,8011]
[" ",8012," "," "," "," ",null,null,null,null,null,null,null,8012]
[" ",8013," "," "," "," ",null,null,null,null,null,null,null,8013]
[" ",8014," "," "," "," ",null,null,null,null,null,null,null,8014]
[" ",6111," "," "," "," ",null,null,null,null,null,null,null,6111]
[" ",6112," "," "," "," ",null,null,null,null,null,null,null,6112]
[" ",6113," "," "," "," ",null,null,null,null,null,null,null,6113]
[" ",6114," "," "," "," ",null,null,null,null,null,null,null,6114]
[" ",6115," "," "," "," ",null,null,null,null,null,null,null,6115]
[" ",6116," "," "," "," ",null,null,null,null,null,null,null,6116]
[" ",6117," "," "," "," ",null,null,null,null,null,null,null,6117]
[" ",6118," "," "," "," ",null,null,null,null,null,null,null,6118]
[" ",6119," "," "," "," ",null,null,null,null,null,null,null,6119]
[" ",6120," "," "," "," ",null,null,null,null,null,null,null,6120]
[" ",6121," "," "," "," ",null,null,null,null,null,null,null,6121]
[" ",6122," "," "," "," ",null,null,null,null,null,null,null,6122]
[" ",6123," "," "," "," ",null,null,null,null,null,null,null,6123]
[" ",7111," "," "," "," ",null,null,null,null,null,null,null,7111]
[" ",7112," "," "," "," ",null,null,null,null,null,null,null,7112]
[" ",7113," "," "," "," ",null,null,null,null,null,null,null,7113]
[" ",7114," "," "," "," ",null,null,null,null,null,null,null,7114]
[" ",7115," "," "," "," ",null,null,null,null,null,null,null,7115]
[" ",7116," "," "," "," ",null,null,null,null,null,null,null,7116]
[" ",7117," "," "," "," ",null,null,null,null,null,null,null,7117]
[" ",7121," "," "," "," ",null,null,null,null,null,null,null,7121]
[" ",{"$f":"N259","v":7122}," "," "," "," ",null,null,null,null,null,null,null,7122]
[" ",7123," "," "," "," ",null,null,null,null,null,null,null,7123]
[" ",7124," "," "," "," ",null,null,null,null,null,null,null,7124]
[" ",7131," "," "," "," ",null,null,null,null,null,null,null,7131]
[" ",7132," "," "," "," ",null,null,null,null,null,null,null,7132]
[" ",7133," "," "," "," ",null,null,null,null,null,null,null,7133]
[" ",7141," "," "," "," ",null,null,null,null,null,null,null,7141]
[" ",7142," "," "," "," ",null,null,null,null,null,null,null,7142]
[" ",7151," "," "," "," ",null,null,null,null,null,null,null,7151]
[" ",7152," "," "," "," ",null,null,null,null,null,null,null,7152]
[" ",7153," "," "," "," ",null,null,null,null,null,null,null,7153]
[" ",7211," "," "," "," ",null,null,null,null,null,null,null,7211]
[" ",7212," "," "," "," ",null,null,null,null,null,null,null,7212]
[" ",7213," "," "," "," ",null,null,null,null,null,null,null,7213]
[" ",7214," "," "," "," ",null,null,null,null,null,null,null,7214]
[" ",7215," "," "," "," ",null,null,null,null,null,null,null,7215]
[" ",7216," "," "," "," ",null,null,null,null,null,null,null,7216]
[" ",7217," "," "," "," ",null,null,null,null,null,null,null,7217]
[" ",7218," "," "," "," ",null,null,null,null,null,null,null,7218]
[" ",7219," "," "," "," ",null,null,null,null,null,null,null,7219]
[" ",7220," "," "," "," ",null,null,null,null,null,null,null,7220]
[" ",7221," "," "," "," ",null,null,null,null,null,null,null,7221]
[" ",7222," "," "," "," ",null,null,null,null,null,null,null,7222]
[" ",7223," "," "," "," ",null,null,null,null,null,null,null,7223]
[" ",7224," "," "," "," ",null,null,null,null,null,null,null,7224]
[" ",7225," "," "," "," ",null,null,null,null,null,null,null,7225]
[" ",7231," "," "," "," ",null,null,null,null,null,null,null,7231]
[" ",7232," "," "," "," ",null,null,null,null,null,null,null,7232]
[" ",7233," "," "," "," ",null,null,null,null,null,null,null,7233]
[" ",7234," "," "," "," ",null,null,null,null,null,null,null,7234]
[" ",7235," "," "," "," ",null,null,null,null,null,null,null,7235]
[" ",7236," "," "," "," ",null,null,null,null,null,null,null,7236]
[" ",7237," "," "," "," ",null,null,null,null,null,null,null,7237]
[" ",7241," "," "," "," ",null,null,null,null,null,null,null,7241]
[" ",7242," "," "," "," ",null,null,null,null,null,null,null,7242]
[" ",7243," "," "," "," ",null,null,null,null,null,null,null,7243]
[" ",7244," "," "," "," ",null,null,null,null,null,null,null,7244]
[" ",7251," "," "," "," ",null,null,null,null,null,null,null,7251]
[" ",7252," "," "," "," ",null,null,null,null,null,null,null,7252]
[" ",7253," "," "," "," ",null,null,null,null,null,null,null,7253]
[" ",7254," "," "," "," ",null,null,null,null,null,null,null,7254]
[" ",7255," "," "," "," ",null,null,null,null,null,null,null,7255]
[" ",7256," "," "," "," ",null,null,null,null,null,null,null,7256]
[" ",7261," "," "," "," ",null,null,null,null,null,null,null,7261]
[" ",7262," "," "," "," ",null,null,null,null,null,null,null,7262]
[" ",7311," "," "," "," ",null,null,null,null,null,null,null,7311]
[" ",7312," "," "," "," ",null,null,null,null,null,null,null,7312]
[" ",7313," "," "," "," ",null,null,null,null,null,null,null,7313]
[" ",7314," "," "," "," ",null,null,null,null,null,null,null,7314]
[" ",7315," "," "," "," ",null,null,null,null,null,null,null,7315]
[" ",7316," "," "," "," ",null,null,null,null,null,null,null,7316]
[" ",7321," "," "," "," ",null,null,null,null,null,null,null,7321]
[" ",7322," "," "," "," ",null,null,null,null,null,null,null,7322]
[" ",7323," "," "," "," ",null,null,null,null,null,null,null,7323]
[" ",7324," "," "," "," ",null,null,null,null,null,null,null,7324]
[" ",7331," "," "," "," ",null,null,null,null,null,null,null,7331]
[" ",7332," "," "," "," ",null,null,null,null,null,null,null,7332]
[" ",7333," "," "," "," ",null,null,null,null,null,null,null,7333]
[" ",7334," "," "," "," ",null,null,null,null,null,null,null,7334]
[" ",7335," "," "," "," ",null,null,null,null,null,null,null,7335]
[" ",7336," "," "," "," ",null,null,null,null,null,null,null,7336]
[" ",7341," "," "," "," ",null,null,null,null,null,null,null,7341]
[" ",7342," "," "," "," ",null,null,null,null,null,null,null,7342]
[" ",7343," "," "," "," ",null,null,null,null,null,null,null,7343]
[" ",{"$f":"N323","v":7351}," "," "," "," ",null,null,null,null,null,null,null,7351]
[" ",7352," "," "," "," ",null,null,null,null,null,null,null,7352]
[" ",7353," "," "," "," ",null,null,null,null,null,null,null,7353]
[" ",7354," "," "," "," ",null,null,null,null,null,null,null,7354]
[" ",7361," "," "," "," ",null,null,null,null,null,null,null,7361]
[" ",7362," "," "," "," ",null,null,null,null,null,null,null,7362]
[" ",7410," "," "," "," ",null,null,null,null,null,null,null,7410]
[" ",7411," "," "," "," ",null,null,null,null,null,null,null,7411]
[" ",7412," "," "," "," ",null,null,null,null,null,null,null,7412]
[" ",7413," "," "," "," ",null,null,null,null,null,null,null,7413]
[" ",7414," "," "," "," ",null,null,null,null,null,null,null,7414]
[" ",7415," "," "," "," ",null,null,null,null,null,null,null,7415]
[" ",7416," "," "," "," ",null,null,null,null,null,null,null,7416]
[" ",7417," "," "," "," ",null,null,null,null,null,null,null,7417]
[" ",7418," "," "," "," ",null,null,null,null,null,null,null,7418]
[" ",7419," "," "," "," ",null,null,null,null,null,null,null,7419]
[" ",7420," "," "," "," ",null,null,null,null,null,null,null,7420]
[" ",7421," "," "," "," ",null,null,null,null,null,null,null,7421]
[" ",7422," "," "," "," ",null,null,null,null,null,null,null,7422]
[" ",7423," "," "," "," ",null,null,null,null,null,null,null,7423]
[" ",7424," "," "," "," ",null,null,null,null,null,null,null,7424]
[" ",7425," "," "," "," ",null,null,null,null,null,null,null,7425]
[" ",7426," "," "," "," ",null,null,null,null,null,null,null,7426]
[" ",7427," "," "," "," ",null,null,null,null,null,null,null,7427]
[" ",7428," "," "," "," ",null,null,null,null,null,null,null,7428]
[" ",7429," "," "," "," ",null,null,null,null,null,null,null,7429]
[" ",7430," "," "," "," ",null,null,null,null,null,null,null,7430]
[" ",7431," "," "," "," ",null,null,null,null,null,null,null,7431]
[" ",8010," "," "," "," ",null,null,null,null,null,null,null,8010]
[" ",8011," "," "," "," ",null,null,null,null,null,null,null,8011]
[" ",8012," "," "," "," ",null,null,null,null,null,null,null,8012]
[" ",8013," "," "," "," ",null,null,null,null,null,null,null,8013]
[" ",8014," "," "," "," ",null,null,null,null,null,null,null,8014]
[" ",6111," "," "," "," ",null,null,null,null,null,null,null,6111]
[" ",6112," "," "," "," ",null,null,null,null,null,null,null,6112]
[" ",6113," "," "," "," ",null,null,null,null,null,null,null,6113]
[" ",6114," "," "," "," ",null,null,null,null,null,null,null,6114]
[" ",6115," "," "," "," ",null,null,null,null,null,null,null,6115]
[" ",6116," "," "," "," ",null,null,null,null,null,null,null,6116]
[" ",6117," "," "," "," ",null,null,null,null,null,null,null,6117]
[" ",6118," "," "," "," ",null,null,null,null,null,null,null,6118]
[" ",6119," "," "," "," ",null,null,null,null,null,null,null,6119]
[" ",6120," "," "," "," ",null,null,null,null,null,null,null,6120]
[" ",6121," "," "," "," ",null,null,null,null,null,null,null,6121]
[" ",6122," "," "," "," ",null,null,null,null,null,null,null,6122]
[" ",6123," "," "," "," ",null,null,null,null,null,null,null,6123]
[" ",7111," "," "," "," ",null,null,null,null,null,null,null,7111]
[" ",7112," "," "," "," ",null,null,null,null,null,null,null,7112]
[" ",7113," "," "," "," ",null,null,null,null,null,null,null,7113]
[" ",7114," "," "," "," ",null,null,null,null,null,null,null,7114]
[" ",7115," "," "," "," ",null,null,null,null,null,null,null,7115]
[" ",7116," "," "," "," ",null,null,null,null,null,null,null,7116]
[" ",7117," "," "," "," ",null,null,null,null,null,null,null,7117]
[" ",7121," "," "," "," ",null,null,null,null,null,null,null,7121]
[" ",7122," "," "," "," ",null,null,null,null,null,null,null,7122]
[" ",7123," "," "," "," ",null,null,null,null,null,null,null,7123]
[" ",7124," "," "," "," ",null,null,null,null,null,null,null,7124]
[" ",7131," "," "," "," ",null,null,null,null,null,null,null,7131]
[" ",7132," "," "," "," ",null,null,null,null,null,null,null,7132]
[" ",7133," "," "," "," ",null,null,null,null,null,null,null,7133]
[" ",7141," "," "," "," ",null,null,null,null,null,null,null,7141]
[" ",7142," "," "," "," ",null,null,null,null,null,null,null,7142]
[" ",7151," "," "," "," ",null,null,null,null,null,null,null,7151]
[" ",7152," "," "," "," ",null,null,null,null,null,null,null,7152]
[" ",{"$f":"N387","v":7153}," "," "," "," ",null,null,null,null,null,null,null,7153]
[" ",7211," "," "," "," ",null,null,null,null,null,null,null,7211]
[" ",7212," "," "," "," ",null,null,null,null,null,null,null,7212]
[" ",7213," "," "," "," ",null,null,null,null,null,null,null,7213]
[" ",7214," "," "," "," ",null,null,null,null,null,null,null,7214]
[" ",7215," "," "," "," ",null,null,null,null,null,null,null,7215]
[" ",7216," "," "," "," ",null,null,null,null,null,null,null,7216]
[" ",7217," "," "," "," ",null,null,null,null,null,null,null,7217]
[" ",7218," "," "," "," ",null,null,null,null,null,null,null,7218]
[" ",7219," "," "," "," ",null,null,null,null,null,null,null,7219]
[" ",7220," "," "," "," ",null,null,null,null,null,null,null,7220]
[" ",7221," "," "," "," ",null,null,null,null,null,null,null,7221]
[" ",7222," "," "," "," ",null,null,null,null,null,null,null,7222]
[" ",7223," "," "," "," ",null,null,null,null,null,null,null,7223]
[" ",7224," "," "," "," ",null,null,null,null,null,null,null,7224]
[" ",7225," "," "," "," ",null,null,null,null,null,null,null,7225]
[" ",7231," "," "," "," ",null,null,null,null,null,null,null,7231]
[" ",7232," "," "," "," ",null,null,null,null,null,null,null,7232]
[" ",7233," "," "," "," ",null,null,null,null,null,null,null,7233]
[" ",7234," "," "," "," ",null,null,null,null,null,null,null,7234]
[" ",7235," "," "," "," ",null,null,null,null,null,null,null,7235]
[" ",7236," "," "," "," ",null,null,null,null,null,null,null,7236]
[" ",7237," "," "," "," ",null,null,null,null,null,null,null,7237]
[" ",7241," "," "," "," ",null,null,null,null,null,null,null,7241]
[" ",7242," "," "," "," ",null,null,null,null,null,null,null,7242]
[" ",7243," "," "," "," ",null,null,null,null,null,null,null,7243]
[" ",7244," "," "," "," ",null,null,null,null,null,null,null,7244]
[" ",7251," "," "," "," ",null,null,null,null,null,null,null,7251]
[" ",7252," "," "," "," ",null,null,null,null,null,null,null,7252]
[" ",7253," "," "," "," ",null,null,null,null,null,null,null,7253]
[" ",7254," "," "," "," ",null,null,null,null,null,null,null,7254]
[" ",7255," "," "," "," ",null,null,null,null,null,null,null,7255]
[" ",7256," "," "," "," ",null,null,null,null,null,null,null,7256]
[" ",7261," "," "," "," ",null,null,null,null,null,null,null,7261]
[" ",7262," "," "," "," ",null,null,null,null,null,null,null,7262]
[" ",7311," "," "," "," ",null,null,null,null,null,null,null,7311]
[" ",7312," "," "," "," ",null,null,null,null,null,null,null,7312]
[" ",7313," "," "," "," ",null,null,null,null,null,null,null,7313]
[" ",7314," "," "," "," ",null,null,null,null,null,null,null,7314]
[" ",7315," "," "," "," ",null,null,null,null,null,null,null,7315]
[" ",7316," "," "," "," ",null,null,null,null,null,null,null,7316]
[" ",7321," "," "," "," ",null,null,null,null,null,null,null,7321]
[" ",7322," "," "," "," ",null,null,null,null,null,null,null,7322]
[" ",7323," "," "," "," ",null,null,null,null,null,null,null,7323]
[" ",7324," "," "," "," ",null,null,null,null,null,null,null,7324]
[" ",7331," "," "," "," ",null,null,null,null,null,null,null,7331]
[" ",7332," "," "," "," ",null,null,null,null,null,null,null,7332]
[" ",7333," "," "," "," ",null,null,null,null,null,null,null,7333]
[" ",7334," "," "," "," ",null,null,null,null,null,null,null,7334]
[" ",7335," "," "," "," ",null,null,null,null,null,null,null,7335]
[" ",7336," "," "," "," ",null,null,null,null,null,null,null,7336]
[" ",7341," "," "," "," ",null,null,null,null,null,null,null,7341]
[" ",7342," "," "," "," ",null,null,null,null,null,null,null,7342]
[" ",7343," "," "," "," ",null,null,null,null,null,null,null,7343]
[" ",7351," "," "," "," ",null,null,null,null,null,null,null,7351]
[" ",7352," "," "," "," ",null,null,null,null,null,null,null,7352]
[" ",7353," "," "," "," ",null,null,null,null,null,null,null,7353]
[" ",7354," "," "," "," ",null,null,null,null,null,null,null,7354]
[" ",7361," "," "," "," ",null,null,null,null,null,null,null,7361]
[" ",7362," "," "," "," ",null,null,null,null,null,null,null,7362]
[" ",7410," "," "," "," ",null,null,null,null,null,null,null,7410]
[" ",7411," "," "," "," ",null,null,null,null,null,null,null,7411]
[" ",7412," "," "," "," ",null,null,null,null,null,null,null,7412]
[" ",7413," "," "," "," ",null,null,null,null,null,null,null,7413]
[" ",{"$f":"N451","v":7414}," "," "," "," ",null,null,null,null,null,null,null,7414]
[" ",7415," "," "," "," ",null,null,null,null,null,null,null,7415]
[" ",7416," "," "," "," ",null,null,null,null,null,null,null,7416]
[" ",7417," "," "," "," ",null,null,null,null,null,null,null,7417]
[" ",7418," "," "," "," ",null,null,null,null,null,null,null,7418]
[" ",7419," "," "," "," ",null,null,null,null,null,null,null,7419]
[" ",7420," "," "," "," ",null,null,null,null,null,null,null,7420]
[" ",7421," "," "," "," ",null,null,null,null,null,null,null,7421]
[" ",7422," "," "," "," ",null,null,null,null,null,null,null,7422]
[" ",7423," "," "," "," ",null,null,null,null,null,null,null,7423]
[" ",7424," "," "," "," ",null,null,null,null,null,null,null,7424]
[" ",7425," "," "," "," ",null,null,null,null,null,null,null,7425]
[" ",7426," "," "," "," ",null,null,null,null,null,null,null,7426]
[" ",7427," "," "," "," ",null,null,null,null,null,null,null,7427]
[" ",7428," "," "," "," ",null,null,null,null,null,null,null,7428]
[" ",7429," "," "," "," ",null,null,null,null,null,null,null,7429]
[" ",7430," "," "," "," ",null,null,null,null,null,null,null,7430]
[" ",7431," "," "," "," ",null,null,null,null,null,null,null,7431]
[" ",8010," "," "," "," ",null,null,null,null,null,null,null,8010]
[" ",8011," "," "," "," ",null,null,null,null,null,null,null,8011]
[" ",8012," "," "," "," ",null,null,null,null,null,null,null,8012]
[" ",8013," "," "," "," ",null,null,null,null,null,null,null,8013]
[" ",8014," "," "," "," ",null,null,null,null,null,null,null,8014]
[" ",6111," "," "," "," ",null,null,null,null,null,null,null,6111]
[" ",6112," "," "," "," ",null,null,null,null,null,null,null,6112]
[" ",6113," "," "," "," ",null,null,null,null,null,null,null,6113]
[" ",6114," "," "," "," ",null,null,null,null,null,null,null,6114]
[" ",6115," "," "," "," ",null,null,null,null,null,null,null,6115]
[" ",6116," "," "," "," ",null,null,null,null,null,null,null,6116]
[" ",6117," "," "," "," ",null,null,null,null,null,null,null,6117]
[" ",6118," "," "," "," ",null,null,null,null,null,null,null,6118]
[" ",6119," "," "," "," ",null,null,null,null,null,null,null,6119]
[" ",6120," "," "," "," ",null,null,null,null,null,null,null,6120]
[" ",6121," "," "," "," ",null,null,null,null,null,null,null,6121]
[" ",6122," "," "," "," ",null,null,null,null,null,null,null,6122]
[" ",6123," "," "," "," ",null,null,null,null,null,null,null,6123]
[" ",7111," "," "," "," ",null,null,null,null,null,null,null,7111]
[" ",7112," "," "," "," ",null,null,null,null,null,null,null,7112]
[" ",7113," "," "," "," ",null,null,null,null,null,null,null,7113]
[" ",7114," "," "," "," ",null,null,null,null,null,null,null,7114]
[" ",7115," "," "," "," ",null,null,null,null,null,null,null,7115]
[" ",7116," "," "," "," ",null,null,null,null,null,null,null,7116]
[" ",7117," "," "," "," ",null,null,null,null,null,null,null,7117]
[" ",7121," "," "," "," ",null,null,null,null,null,null,null,7121]
[" ",7122," "," "," "," ",null,null,null,null,null,null,null,7122]
[" ",7123," "," "," "," ",null,null,null,null,null,null,null,7123]
[" ",7124," "," "," "," ",null,null,null,null,null,null,null,7124]
[" ",7131," "," "," "," ",null,null,null,null,null,null,null,7131]
[" ",7132," "," "," "," ",null,null,null,null,null,null,null,7132]
[" ",7133," "," "," "," ",null,null,null,null,null,null,null,7133]
[" ",7141," "," "," "," ",null,null,null,null,null,null,null,7141]
[" ",7142," "," "," "," ",null,null,null,null,null,null,null,7142]
[" ",7151," "," "," "," ",null,null,null,null,null,null,null,7151]
[" ",7152," "," "," "," ",null,null,null,null,null,null,null,7152]
[" ",7153," "," "," "," ",null,null,null,null,null,null,null,7153]
[" ",7211," "," "," "," ",null,null,null,null,null,null,null,7211]
[" ",7212," "," "," "," ",null,null,null,null,null,null,null,7212]
[" ",7213," "," "," "," ",null,null,null,null,null,null,null,7213]
[" ",7214," "," "," "," ",null,null,null,null,null,null,null,7214]
[" ",7215," "," "," "," ",null,null,null,null,null,null,null,7215]
[" ",7216," "," "," "," ",null,null,null,null,null,null,null,7216]
[" ",7217," "," "," "," ",null,null,null,null,null,null,null,7217]
[" ",7218," "," "," "," ",null,null,null,null,null,null,null,7218]
[" ",7219," "," "," "," ",null,null,null,null,null,null,null,7219]
[" ",{"$f":"N515","v":7220}," "," "," "," ",null,null,null,null,null,null,null,7220]
[" ",7221," "," "," "," ",null,null,null,null,null,null,null,7221]
[" ",7222," "," "," "," ",null,null,null,null,null,null,null,7222]
[" ",7223," "," "," "," ",null,null,null,null,null,null,null,7223]
[" ",7224," "," "," "," ",null,null,null,null,null,null,null,7224]
[" ",7225," "," "," "," ",null,null,null,null,null,null,null,7225]
[" ",7231," "," "," "," ",null,null,null,null,null,null,null,7231]
[" ",7232," "," "," "," ",null,null,null,null,null,null,null,7232]
[" ",7233," "," "," "," ",null,null,null,null,null,null,null,7233]
[" ",7234," "," "," "," ",null,null,null,null,null,null,null,7234]
[" ",7235," "," "," "," ",null,null,null,null,null,null,null,7235]
[" ",7236," "," "," "," ",null,null,null,null,null,null,null,7236]
[" ",7237," "," "," "," ",null,null,null,null,null,null,null,7237]
[" ",7241," "," "," "," ",null,null,null,null,null,null,null,7241]
[" ",7242," "," "," "," ",null,null,null,null,null,null,null,7242]
[" ",7243," "," "," "," ",null,null,null,null,null,null,null,7243]
[" ",7244," "," "," "," ",null,null,null,null,null,null,null,7244]
[" ",7251," "," "," "," ",null,null,null,null,null,null,null,7251]
[" ",7252," "," "," "," ",null,null,null,null,null,null,null,7252]
[" ",7253," "," "," "," ",null,null,null,null,null,null,null,7253]
[" ",7254," "," "," "," ",null,null,null,null,null,null,null,7254]
[" ",7255," "," "," "," ",null,null,null,null,null,null,null,7255]
[" ",7256," "," "," "," ",null,null,null,null,null,null,null,7256]
[" ",7261," "," "," "," ",null,null,null,null,null,null,null,7261]
[" ",7262," "," "," "," ",null,null,null,null,null,null,null,7262]
[" ",7311," "," "," "," ",null,null,null,null,null,null,null,7311]
[" ",7312," "," "," "," ",null,null,null,null,null,null,null,7312]
[" ",7313," "," "," "," ",null,null,null,null,null,null,null,7313]
[" ",7314," "," "," "," ",null,null,null,null,null,null,null,7314]
[" ",7315," "," "," "," ",null,null,null,null,null,null,null,7315]
[" ",7316," "," "," "," ",null,null,null,null,null,null,null,7316]
[" ",7321," "," "," "," ",null,null,null,null,null,null,null,7321]
[" ",7322," "," "," "," ",null,null,null,null,null,null,null,7322]
[" ",7323," "," "," "," ",null,null,null,null,null,null,null,7323]
[" ",7324," "," "," "," ",null,null,null,null,null,null,null,7324]
[" ",7331," "," "," "," ",null,null,null,null,null,null,null,7331]
[" ",7332," "," "," "," ",null,null,null,null,null,null,null,7332]
[" ",7333," "," "," "," ",null,null,null,null,null,null,null,7333]
[" ",7334," "," "," "," ",null,null,null,null,null,null,null,7334]
[" ",7335," "," "," "," ",null,null,null,null,null,null,null,7335]
[" ",7336," "," "," "," ",null,null,null,null,null,null,null,7336]
[" ",7341," "," "," "," ",null,null,null,null,null,null,null,7341]
[" ",7342," "," "," "," ",null,null,null,null,null,null,null,7342]
[" ",7343," "," "," "," ",null,null,null,null,null,null,null,7343]
[" ",7351," "," "," "," ",null,null,null,null,null,null,null,7351]
[" ",7352," "," "," "," ",null,null,null,null,null,null,null,7352]
[" ",7353," "," "," "," ",null,null,null,null,null,null,null,7353]
[" ",7354," "," "," "," ",null,null,null,null,null,null,null,7354]
[" ",7361," "," "," "," ",null,null,null,null,null,null,null,7361]
[" ",7362," "," "," "," ",null,null,null,null,null,null,null,7362]
[" ",7410," "," "," "," ",null,null,null,null,null,null,null,7410]
[" ",7411," "," "," "," ",null,null,null,null,null,null,null,7411]
[" ",7412," "," "," "," ",null,null,null,null,null,null,null,7412]
[" ",7413," "," "," "," ",null,null,null,null,null,null,null,7413]
[" ",7414," "," "," "," ",null,null,null,null,null,null,null,7414]
[" ",7415," "," "," "," ",null,null,null,null,null,null,null,7415]
[" ",7416," "," "," "," ",null,null,null,null,null,null,null,7416]
[" ",7417," "," "," "," ",null,null,null,null,null,null,null,7417]
[" ",7418," "," "," "," ",null,null,null,null,null,null,null,7418]
[" ",7419," "," "," "," ",null,null,null,null,null,null,null,7419]
[" ",7420," "," "," "," ",null,null,null,null,null,null,null,7420]
[" ",7421," "," "," "," ",null,null,null,null,null,null,null,7421]
[" ",7422," "," "," "," ",null,null,null,null,null,null,null,7422]
[" ",7423," "," "," "," ",null,null,null,null,null,null,null,7423]
[" ",{"$f":"N579","v":7424}," "," "," "," ",null,null,null,null,null,null,null,7424]
[" ",7425," "," "," "," ",null,null,null,null,null,null,null,7425]
[" ",7426," "," "," "," ",null,null,null,null,null,null,null,7426]
[" ",7427," "," "," "," ",null,null,null,null,null,null,null,7427]
[" ",7428," "," "," "," ",null,null,null,null,null,null,null,7428]
[" ",7429," "," "," "," ",null,null,null,null,null,null,null,7429]
[" ",7430," "," "," "," ",null,null,null,null,null,null,null,7430]
[" ",7431," "," "," "," ",null,null,null,null,null,null,null,7431]
[" ",8010," "," "," "," ",null,null,null,null,null,null,null,8010]
[" ",8011," "," "," "," ",null,null,null,null,null,null,null,8011]
[" ",8012," "," "," "," ",null,null,null,null,null,null,null,8012]
[" ",8013," "," "," "," ",null,null,null,null,null,null,null,8013]
[" ",8014," "," "," "," ",null,null,null,null,null,null,null,8014]
[" ",6111," "," "," "," ",null,null,null,null,null,null,null,6111]
[" ",6112," "," "," "," ",null,null,null,null,null,null,null,6112]
[" ",6113," "," "," "," ",null,null,null,null,null,null,null,6113]
[" ",6114," "," "," "," ",null,null,null,null,null,null,null,6114]
[" ",6115," "," "," "," ",null,null,null,null,null,null,null,6115]
[" ",6116," "," "," "," ",null,null,null,null,null,null,null,6116]
[" ",6117," "," "," "," ",null,null,null,null,null,null,null,6117]
[" ",6118," "," "," "," ",null,null,null,null,null,null,null,6118]
[" ",6119," "," "," "," ",null,null,null,null,null,null,null,6119]
[" ",6120," "," "," "," ",null,null,null,null,null,null,null,6120]
[" ",6121," "," "," "," ",null,null,null,null,null,null,null,6121]
[" ",6122," "," "," "," ",null,null,null,null,null,null,null,6122]
[" ",6123," "," "," "," ",null,null,null,null,null,null,null,6123]
[" ",7111," "," "," "," ",null,null,null,null,null,null,null,7111]
[" ",7112," "," "," "," ",null,null,null,null,null,null,null,7112]
[" ",7113," "," "," "," ",null,null,null,null,null,null,null,7113]
[" ",7114," "," "," "," ",null,null,null,null,null,null,null,7114]
[" ",7115," "," "," "," ",null,null,null,null,null,null,null,7115]
[" ",7116," "," "," "," ",null,null,null,null,null,null,null,7116]
[" ",7117," "," "," "," ",null,null,null,null,null,null,null,7117]
[" ",7121," "," "," "," ",null,null,null,null,null,null,null,7121]
[" ",7122," "," "," "," ",null,null,null,null,null,null,null,7122]
[" ",7123," "," "," "," ",null,null,null,null,null,null,null,7123]
[" ",7124," "," "," "," ",null,null,null,null,null,null,null,7124]
[" ",7131," "," "," "," ",null,null,null,null,null,null,null,7131]
[" ",7132," "," "," "," ",null,null,null,null,null,null,null,7132]
[" ",7133," "," "," "," ",null,null,null,null,null,null,null,7133]
[" ",7141," "," "," "," ",null,null,null,null,null,null,null,7141]
[" ",7142," "," "," "," ",null,null,null,null,null,null,null,7142]
[" ",7151," "," "," "," ",null,null,null,null,null,null,null,7151]
[" ",7152," "," "," "," ",null,null,null,null,null,null,null,7152]
[" ",7153," "," "," "," ",null,null,null,null,null,null,null,7153]
[" ",7211," "," "," "," ",null,null,null,null,null,null,null,7211]
[" ",7212," "," "," "," ",null,null,null,null,null,null,null,7212]
[" ",7213," "," "," "," ",null,null,null,null,null,null,null,7213]
[" ",7214," "," "," "," ",null,null,null,null,null,null,null,7214]
[" ",7215," "," "," "," ",null,null,null,null,null,null,null,7215]
[" ",7216," "," "," "," ",null,null,null,null,null,null,null,7216]
[" ",7217," "," "," "," ",null,null,null,null,null,null,null,7217]
[" ",7218," "," "," "," ",null,null,null,null,null,null,null,7218]
[" ",7219," "," "," "," ",null,null,null,null,null,null,null,7219]
[" ",7220," "," "," "," ",null,null,null,null,null,null,null,7220]
[" ",7221," "," "," "," ",null,null,null,null,null,null,null,7221]
[" ",7222," "," "," "," ",null,null,null,null,null,null,null,7222]
[" ",7223," "," "," "," ",null,null,null,null,null,null,null,7223]
[" ",7224," "," "," "," ",null,null,null,null,null,null,null,7224]
[" ",7225," "," "," "," ",null,null,null,null,null,null,null,7225]
[" ",7231," "," "," "," ",null,null,null,null,null,null,null,7231]
[" ",7232," "," "," "," ",null,null,null,null,null,null,null,7232]
[" ",7233," "," "," "," ",null,null,null,null,null,null,null,7233]
[" ",7234," "," "," "," ",null,null,null,null,null,null,null,7234]
[" ",{"$f":"N643","v":7235}," "," "," "," ",null,null,null,null,null,null,null,7235]
[" ",7236," "," "," "," ",null,null,null,null,null,null,null,7236]
[" ",7237," "," "," "," ",null,null,null,null,null,null,null,7237]
[" ",7241," "," "," "," ",null,null,null,null,null,null,null,7241]
[" ",7242," "," "," "," ",null,null,null,null,null,null,null,7242]
[" ",7243," "," "," "," ",null,null,null,null,null,null,null,7243]
[" ",7244," "," "," "," ",null,null,null,null,null,null,null,7244]
[" ",7251," "," "," "," ",null,null,null,null,null,null,null,7251]
[" ",7252," "," "," "," ",null,null,null,null,null,null,null,7252]
[" ",7253," "," "," "," ",null,null,null,null,null,null,null,7253]
[" ",7254," "," "," "," ",null,null,null,null,null,null,null,7254]
[" ",7255," "," "," "," ",null,null,null,null,null,null,null,7255]
[" ",7256," "," "," "," ",null,null,null,null,null,null,null,7256]
[" ",7261," "," "," "," ",null,null,null,null,null,null,null,7261]
[" ",7262," "," "," "," ",null,null,null,null,null,null,null,7262]
[" ",7311," "," "," "," ",null,null,null,null,null,null,null,7311]
[" ",7312," "," "," "," ",null,null,null,null,null,null,null,7312]
[" ",7313," "," "," "," ",null,null,null,null,null,null,null,7313]
[" ",7314," "," "," "," ",null,null,null,null,null,null,null,7314]
[" ",7315," "," "," "," ",null,null,null,null,null,null,null,7315]
[" ",7316," "," "," "," ",null,null,null,null,null,null,null,7316]
[" ",7321," "," "," "," ",null,null,null,null,null,null,null,7321]
[" ",7322," "," "," "," ",null,null,null,null,null,null,null,7322]
[" ",7323," "," "," "," ",null,null,null,null,null,null,null,7323]
[" ",7324," "," "," "," ",null,null,null,null,null,null,null,7324]
[" ",7331," "," "," "," ",null,null,null,null,null,null,null,7331]
[" ",7332," "," "," "," ",null,null,null,null,null,null,null,7332]
[" ",7333," "," "," "," ",null,null,null,null,null,null,null,7333]
[" ",7334," "," "," "," ",null,null,null,null,null,null,null,7334]
[" ",7335," "," "," "," ",null,null,null,null,null,null,null,7335]
[" ",7336," "," "," "," ",null,null,null,null,null,null,null,7336]
[" ",7341," "," "," "," ",null,null,null,null,null,null,null,7341]
[" ",7342," "," "," "," ",null,null,null,null,null,null,null,7342]
[" ",7343," "," "," "," ",null,null,null,null,null,null,null,7343]
[" ",7351," "," "," "," ",null,null,null,null,null,null,null,7351]
[" ",7352," "," "," "," ",null,null,null,null,null,null,null,7352]
[" ",7353," "," "," "," ",null,null,null,null,null,null,null,7353]
[" ",7354," "," "," "," ",null,null,null,null,null,null,null,7354]
[" ",7361," "," "," "," ",null,null,null,null,null,null,null,7361]
[" ",7362," "," "," "," ",null,null,null,null,null,null,null,7362]
[" ",7410," "," "," "," ",null,null,null,null,null,null,null,7410]
[" ",7411," "," "," "," ",null,null,null,null,null,null,null,7411]
[" ",7412," "," "," "," ",null,null,null,null,null,null,null,7412]
[" ",7413," "," "," "," ",null,null,null,null,null,null,null,7413]
[" ",7414," "," "," "," ",null,null,null,null,null,null,null,7414]
[" ",7415," "," "," "," ",null,null,null,null,null,null,null,7415]
[" ",7416," "," "," "," ",null,null,null,null,null,null,null,7416]
[" ",7417," "," "," "," ",null,null,null,null,null,null,null,7417]
[" ",7418," "," "," "," ",null,null,null,null,null,null,null,7418]
[" ",7419," "," "," "," ",null,null,null,null,null,null,null,7419]
[" ",7420," "," "," "," ",null,null,null,null,null,null,null,7420]
[" ",7421," "," "," "," ",null,null,null,null,null,null,null,7421]
[" ",7422," "," "," "," ",null,null,null,null,null,null,null,7422]
[" ",7423," "," "," "," ",null,null,null,null,null,null,null,7423]
[" ",7424," "," "," "," ",null,null,null,null,null,null,null,7424]
[" ",7425," "," "," "," ",null,null,null,null,null,null,null,7425]
[" ",7426," "," "," "," ",null,null,null,null,null,null,null,7426]
[" ",7427," "," "," "," ",null,null,null,null,null,null,null,7427]
[" ",7428," "," "," "," ",null,null,null,null,null,null,null,7428]
[" ",7429," "," "," "," ",null,null,null,null,null,null,null,7429]
[" ",7430," "," "," "," ",null,null,null,null,null,null,null,7430]
[" ",7431," "," "," "," ",null,null,null,null,null,null,null,7431]
[" ",8010," "," "," "," ",null,null,null,null,null,null,null,8010]
[" ",8011," "," "," "," ",null,null,null,null,null,null,null,8011]
[" ",{"$f":"N707","v":8012}," "," "," "," ",null,null,null,null,null,null,null,8012]
[" ",8013," "," "," "," ",null,null,null,null,null,null,null,8013]
[" ",8014," "," "," "," ",null,null,null,null,null,null,null,8014]
[" ",6111," "," "," "," ",null,null,null,null,null,null,null,6111]
[" ",6112," "," "," "," ",null,null,null,null,null,null,null,6112]
[" ",6113," "," "," "," ",null,null,null,null,null,null,null,6113]
[" ",6114," "," "," "," ",null,null,null,null,null,null,null,6114]
[" ",6115," "," "," "," ",null,null,null,null,null,null,null,6115]
[" ",6116," "," "," "," ",null,null,null,null,null,null,null,6116]
[" ",6117," "," "," "," ",null,null,null,null,null,null,null,6117]
[" ",6118," "," "," "," ",null,null,null,null,null,null,null,6118]
[" ",6119," "," "," "," ",null,null,null,null,null,null,null,6119]
[" ",6120," "," "," "," ",null,null,null,null,null,null,null,6120]
[" ",6121," "," "," "," ",null,null,null,null,null,null,null,6121]
[" ",6122," "," "," "," ",null,null,null,null,null,null,null,6122]
[" ",6123," "," "," "," ",null,null,null,null,null,null,null,6123]
[" ",7111," "," "," "," ",null,null,null,null,null,null,null,7111]
[" ",7112," "," "," "," ",null,null,null,null,null,null,null,7112]
[" ",7113," "," "," "," ",null,null,null,null,null,null,null,7113]
[" ",7114," "," "," "," ",null,null,null,null,null,null,null,7114]
[" ",7115," "," "," "," ",null,null,null,null,null,null,null,7115]
[" ",7116," "," "," "," ",null,null,null,null,null,null,null,7116]
[" ",7117," "," "," "," ",null,null,null,null,null,null,null,7117]
[" ",7121," "," "," "," ",null,null,null,null,null,null,null,7121]
[" ",7122," "," "," "," ",null,null,null,null,null,null,null,7122]
[" ",7123," "," "," "," ",null,null,null,null,null,null,null,7123]
[" ",7124," "," "," "," ",null,null,null,null,null,null,null,7124]
[" ",7131," "," "," "," ",null,null,null,null,null,null,null,7131]
[" ",7132," "," "," "," ",null,null,null,null,null,null,null,7132]
[" ",7133," "," "," "," ",null,null,null,null,null,null,null,7133]
[" ",7141," "," "," "," ",null,null,null,null,null,null,null,7141]
[" ",7142," "," "," "," ",null,null,null,null,null,null,null,7142]
[" ",7151," "," "," "," ",null,null,null,null,null,null,null,7151]
[" ",7152," "," "," "," ",null,null,null,null,null,null,null,7152]
[" ",7153," "," "," "," ",null,null,null,null,null,null,null,7153]
[" ",7211," "," "," "," ",null,null,null,null,null,null,null,7211]
[" ",7212," "," "," "," ",null,null,null,null,null,null,null,7212]
[" ",7213," "," "," "," ",null,null,null,null,null,null,null,7213]
[" ",7214," "," "," "," ",null,null,null,null,null,null,null,7214]
[" ",7215," "," "," "," ",null,null,null,null,null,null,null,7215]
[" ",7216," "," "," "," ",null,null,null,null,null,null,null,7216]
[" ",7217," "," "," "," ",null,null,null,null,null,null,null,7217]
[" ",7218," "," "," "," ",null,null,null,null,null,null,null,7218]
[" ",7219," "," "," "," ",null,null,null,null,null,null,null,7219]
[" ",7220," "," "," "," ",null,null,null,null,null,null,null,7220]
[" ",7221," "," "," "," ",null,null,null,null,null,null,null,7221]
[" ",7222," "," "," "," ",null,null,null,null,null,null,null,7222]
[" ",7223," "," "," "," ",null,null,null,null,null,null,null,7223]
[" ",7224," "," "," "," ",null,null,null,null,null,null,null,7224]
[" ",7225," "," "," "," ",null,null,null,null,null,null,null,7225]
[" ",7231," "," "," "," ",null,null,null,null,null,null,null,7231]
[" ",7232," "," "," "," ",null,null,null,null,null,null,null,7232]
[" ",7233," "," "," "," ",null,null,null,null,null,null,null,7233]
[" ",7234," "," "," "," ",null,null,null,null,null,null,null,7234]
[" ",7235," "," "," "," ",null,null,null,null,null,null,null,7235]
[" ",7236," "," "," "," ",null,null,null,null,null,null,null,7236]
[" ",7237," "," "," "," ",null,null,null,null,null,null,null,7237]
[" ",7241," "," "," "," ",null,null,null,null,null,null,null,7241]
[" ",7242," "," "," "," ",null,null,null,null,null,null,null,7242]
[" ",7243," "," "," "," ",null,null,null,null,null,null,null,7243]
[" ",7244," "," "," "," ",null,null,null,null,null,null,null,7244]
[" ",7251," "," "," "," ",null,null,null,null,null,null,null,7251]
[" ",7252," "," "," "," ",null,null,null,null,null,null,null,7252]
[" ",7253," "," "," "," ",null,null,null,null,null,null,null,7253]
[" ",{"$f":"N771","v":7254}," "," "," "," ",null,null,null,null,null,null,null,7254]
[" ",7255," "," "," "," ",null,null,null,null,null,null,null,7255]
[" ",7256," "," "," "," ",null,null,null,null,null,null,null,7256]
[" ",7261," "," "," "," ",null,null,null,null,null,null,null,7261]
[" ",7262," "," "," "," ",null,null,null,null,null,null,null,7262]
[" ",7311," "," "," "," ",null,null,null,null,null,null,null,7311]
[" ",7312," "," "," "," ",null,null,null,null,null,null,null,7312]
[" ",7313," "," "," "," ",null,null,null,null,null,null,null,7313]
[" ",7314," "," "," "," ",null,null,null,null,null,null,null,7314]
[" ",7315," "," "," "," ",null,null,null,null,null,null,null,7315]
[" ",7316," "," "," "," ",null,null,null,null,null,null,null,7316]
[" ",7321," "," "," "," ",null,null,null,null,null,null,null,7321]
[" ",7322," "," "," "," ",null,null,null,null,null,null,null,7322]
[" ",7323," "," "," "," ",null,null,null,null,null,null,null,7323]
[" ",7324," "," "," "," ",null,null,null,null,null,null,null,7324]
[" ",7331," "," "," "," ",null,null,null,null,null,null,null,7331]
[" ",7332," "," "," "," ",null,null,null,null,null,null,null,7332]
[" ",7333," "," "," "," ",null,null,null,null,null,null,null,7333]
[" ",7334," "," "," "," ",null,null,null,null,null,null,null,7334]
[" ",7335," "," "," "," ",null,null,null,null,null,null,null,7335]
[" ",7336," "," "," "," ",null,null,null,null,null,null,null,7336]
[" ",7341," "," "," "," ",null,null,null,null,null,null,null,7341]
[" ",7342," "," "," "," ",null,null,null,null,null,null,null,7342]
[" ",7343," "," "," "," ",null,null,null,null,null,null,null,7343]
[" ",7351," "," "," "," ",null,null,null,null,null,null,null,7351]
[" ",7352," "," "," "," ",null,null,null,null,null,null,null,7352]
[" ",7353," "," "," "," ",null,null,null,null,null,null,null,7353]
[" ",7354," "," "," "," ",null,null,null,null,null,null,null,7354]
[" ",7361," "," "," "," ",null,null,null,null,null,null,null,7361]
[" ",7362," "," "," "," ",null,null,null,null,null,null,null,7362]
[" ",7410," "," "," "," ",null,null,null,null,null,null,null,7410]
[" ",7411," "," "," "," ",null,null,null,null,null,null,null,7411]
[" ",7412," "," "," "," ",null,null,null,null,null,null,null,7412]
[" ",7413," "," "," "," ",null,null,null,null,null,null,null,7413]
[" ",7414," "," "," "," ",null,null,null,null,null,null,null,7414]
[" ",7415," "," "," "," ",null,null,null,null,null,null,null,7415]
[" ",7416," "," "," "," ",null,null,null,null,null,null,null,7416]
[" ",7417," "," "," "," ",null,null,null,null,null,null,null,7417]
[" ",7418," "," "," "," ",null,null,null,null,null,null,null,7418]
[" ",7419," "," "," "," ",null,null,null,null,null,null,null,7419]
[" ",7420," "," "," "," ",null,null,null,null,null,null,null,7420]
[" ",7421," "," "," "," ",null,null,null,null,null,null,null,7421]
[" ",7422," "," "," "," ",null,null,null,null,null,null,null,7422]
[" ",7423," "," "," "," ",null,null,null,null,null,null,null,7423]
[" ",7424," "," "," "," ",null,null,null,null,null,null,null,7424]
[" ",7425," "," "," "," ",null,null,null,null,null,null,null,7425]
[" ",7426," "," "," "," ",null,null,null,null,null,null,null,7426]
[" ",7427," "," "," "," ",null,null,null,null,null,null,null,7427]
[" ",7428," "," "," "," ",null,null,null,null,null,null,null,7428]
[" ",7429," "," "," "," ",null,null,null,null,null,null,null,7429]
[" ",7430," "," "," "," ",null,null,null,null,null,null,null,7430]
[" ",7431," "," "," "," ",null,null,null,null,null,null,null,7431]
[" ",8010," "," "," "," ",null,null,null,null,null,null,null,8010]
[" ",8011," "," "," "," ",null,null,null,null,null,null,null,8011]
[" ",8012," "," "," "," ",null,null,null,null,null,null,null,8012]
[" ",8013," "," "," "," ",null,null,null,null,null,null,null,8013]
[" ",8014," "," "," "," ",null,null,null,null,null,null,null,8014]
[" ",6111," "," "," "," ",null,null,null,null,null,null,null,6111]
[" ",6112," "," "," "," ",null,null,null,null,null,null,null,6112]
[" ",6113," "," "," "," ",null,null,null,null,null,null,null,6113]
[" ",6114," "," "," "," ",null,null,null,null,null,null,null,6114]
[" ",6115," "," "," "," ",null,null,null,null,null,null,null,6115]
[" ",6116," "," "," "," ",null,null,null,null,null,null,null,6116]
[" ",6117," "," "," "," ",null,null,null,null,null,null,null,6117]
[" ",{"$f":"N835","v":6118}," "," "," "," ",null,null,null,null,null,null,null,6118]
[" ",6119," "," "," "," ",null,null,null,null,null,null,null,6119]
[" ",6120," "," "," "," ",null,null,null,null,null,null,null,6120]
[" ",6121," "," "," "," ",null,null,null,null,null,null,null,6121]
[" ",6122," "," "," "," ",null,null,null,null,null,null,null,6122]
[" ",6123," "," "," "," ",null,null,null,null,null,null,null,6123]
[" ",7111," "," "," "," ",null,null,null,null,null,null,null,7111]
[" ",7112," "," "," "," ",null,null,null,null,null,null,null,7112]
[" ",7113," "," "," "," ",null,null,null,null,null,null,null,7113]
[" ",7114," "," "," "," ",null,null,null,null,null,null,null,7114]
[" ",7115," "," "," "," ",null,null,null,null,null,null,null,7115]
[" ",7116," "," "," "," ",null,null,null,null,null,null,null,7116]
[" ",7117," "," "," "," ",null,null,null,null,null,null,null,7117]
[" ",7121," "," "," "," ",null,null,null,null,null,null,null,7121]
[" ",7122," "," "," "," ",null,null,null,null,null,null,null,7122]
[" ",7123," "," "," "," ",null,null,null,null,null,null,null,7123]
[" ",7124," "," "," "," ",null,null,null,null,null,null,null,7124]
[" ",7131," "," "," "," ",null,null,null,null,null,null,null,7131]
[" ",7132," "," "," "," ",null,null,null,null,null,null,null,7132]
[" ",7133," "," "," "," ",null,null,null,null,null,null,null,7133]
[" ",7141," "," "," "," ",null,null,null,null,null,null,null,7141]
[" ",7142," "," "," "," ",null,null,null,null,null,null,null,7142]
[" ",7151," "," "," "," ",null,null,null,null,null,null,null,7151]
[" ",7152," "," "," "," ",null,null,null,null,null,null,null,7152]
[" ",7153," "," "," "," ",null,null,null,null,null,null,null,7153]
[" ",7211," "," "," "," ",null,null,null,null,null,null,null,7211]
[" ",7212," "," "," "," ",null,null,null,null,null,null,null,7212]
[" ",7213," "," "," "," ",null,null,null,null,null,null,null,7213]
[" ",7214," "," "," "," ",null,null,null,null,null,null,null,7214]
[" ",7215," "," "," "," ",null,null,null,null,null,null,null,7215]
[" ",7216," "," "," "," ",null,null,null,null,null,null,null,7216]
[" ",7217," "," "," "," ",null,null,null,null,null,null,null,7217]
[" ",7218," "," "," "," ",null,null,null,null,null,null,null,7218]
[" ",7219," "," "," "," ",null,null,null,null,null,null,null,7219]
[" ",7220," "," "," "," ",null,null,null,null,null,null,null,7220]
[" ",7221," "," "," "," ",null,null,null,null,null,null,null,7221]
[" ",7222," "," "," "," ",null,null,null,null,null,null,null,7222]
[" ",7223," "," "," "," ",null,null,null,null,null,null,null,7223]
[" ",7224," "," "," "," ",null,null,null,null,null,null,null,7224]
[" ",7225," "," "," "," ",null,null,null,null,null,null,null,7225]
[" ",7231," "," "," "," ",null,null,null,null,null,null,null,7231]
[" ",7232," "," "," "," ",null,null,null,null,null,null,null,7232]
[" ",7233," "," "," "," ",null,null,null,null,null,null,null,7233]
[" ",7234," "," "," "," ",null,null,null,null,null,null,null,7234]
[" ",7235," "," "," "," ",null,null,null,null,null,null,null,7235]
[" ",7236," "," "," "," ",null,null,null,null,null,null,null,7236]
[" ",7237," "," "," "," ",null,null,null,null,null,null,null,7237]
[" ",7241," "," "," "," ",null,null,null,null,null,null,null,7241]
[" ",7242," "," "," "," ",null,null,null,null,null,null,null,7242]
[" ",7243," "," "," "," ",null,null,null,null,null,null,null,7243]
[" ",7244," "," "," "," ",null,null,null,null,null,null,null,7244]
[" ",7251," "," "," "," ",null,null,null,null,null,null,null,7251]
[" ",7252," "," "," "," ",null,null,null,null,null,null,null,7252]
[" ",7253," "," "," "," ",null,null,null,null,null,null,null,7253]
[" ",7254," "," "," "," ",null,null,null,null,null,null,null,7254]
[" ",7255," "," "," "," ",null,null,null,null,null,null,null,7255]
[" ",7256," "," "," "," ",null,null,null,null,null,null,null,7256]
[" ",7261," "," "," "," ",null,null,null,null,null,null,null,7261]
[" ",7262," "," "," "," ",null,null,null,null,null,null,null,7262]
[" ",7311," "," "," "," ",null,null,null,null,null,null,null,7311]
[" ",7312," "," "," "," ",null,null,null,null,null,null,null,7312]
[" ",7313," "," "," "," ",null,null,null,null,null,null,null,7313]
[" ",7314," "," "," "," ",null,null,null,null,null,null,null,7314]
[" ",7315," "," "," "," ",null,null,null,null,null,null,null,7315]
[" ",{"$f":"N899","v":7316}," "," "," "," ",null,null,null,null,null,null,null,7316]
[" ",7321," "," "," "," ",null,null,null,null,null,null,null,7321]
[" ",7322," "," "," "," ",null,null,null,null,null,null,null,7322]
[" ",7323," "," "," "," ",null,null,null,null,null,null,null,7323]
[" ",7324," "," "," "," ",null,null,null,null,null,null,null,7324]
[" ",7331," "," "," "," ",null,null,null,null,null,null,null,7331]
[" ",7332," "," "," "," ",null,null,null,null,null,null,null,7332]
[" ",7333," "," "," "," ",null,null,null,null,null,null,null,7333]
[" ",7334," "," "," "," ",null,null,null,null,null,null,null,7334]
[" ",7335," "," "," "," ",null,null,null,null,null,null,null,7335]
[" ",7336," "," "," "," ",null,null,null,null,null,null,null,7336]
[" ",7341," "," "," "," ",null,null,null,null,null,null,null,7341]
[" ",7342," "," "," "," ",null,null,null,null,null,null,null,7342]
[" ",7343," "," "," "," ",null,null,null,null,null,null,null,7343]
[" ",7351," "," "," "," ",null,null,null,null,null,null,null,7351]
[" ",7352," "," "," "," ",null,null,null,null,null,null,null,7352]
[" ",7353," "," "," "," ",null,null,null,null,null,null,null,7353]
[" ",7354," "," "," "," ",null,null,null,null,null,null,null,7354]
[" ",7361," "," "," "," ",null,null,null,null,null,null,null,7361]
[" ",7362," "," "," "," ",null,null,null,null,null,null,null,7362]
[" ",7410," "," "," "," ",null,null,null,null,null,null,null,7410]
[" ",7411," "," "," "," ",null,null,null,null,null,null,null,7411]
[" ",7412," "," "," "," ",null,null,null,null,null,null,null,7412]
[" ",7413," "," "," "," ",null,null,null,null,null,null,null,7413]
[" ",7414," "," "," "," ",null,null,null,null,null,null,null,7414]
[" ",7415," "," "," "," ",null,null,null,null,null,null,null,7415]
[" ",7416," "," "," "," ",null,null,null,null,null,null,null,7416]
[" ",7417," "," "," "," ",null,null,null,null,null,null,null,7417]
[" ",7418," "," "," "," ",null,null,null,null,null,null,null,7418]
[" ",7419," "," "," "," ",null,null,null,null,null,null,null,7419]
[" ",7420," "," "," "," ",null,null,null,null,null,null,null,7420]
[" ",7421," "," "," "," ",null,null,null,null,null,null,null,7421]
[" ",7422," "," "," "," ",null,null,null,null,null,null,null,7422]
[" ",7423," "," "," "," ",null,null,null,null,null,null,null,7423]
[" ",7424," "," "," "," ",null,null,null,null,null,null,null,7424]
[" ",7425," "," "," "," ",null,null,null,null,null,null,null,7425]
[" ",7426," "," "," "," ",null,null,null,null,null,null,null,7426]
[" ",7427," "," "," "," ",null,null,null,null,null,null,null,7427]
[" ",7428," "," "," "," ",null,null,null,null,null,null,null,7428]
[" ",7429," "," "," "," ",null,null,null,null,null,null,null,7429]
[" ",7430," "," "," "," ",null,null,null,null,null,null,null,7430]
[" ",7431," "," "," "," ",null,null,null,null,null,null,null,7431]
[" ",8010," "," "," "," ",null,null,null,null,null,null,null,8010]
[" ",8011," "," "," "," ",null,null,null,null,null,null,null,8011]
[" ",8012," "," "," "," ",null,null,null,null,null,null,null,8012]
[" ",8013," "," "," "," ",null,null,null,null,null,null,null,8013]
[" ",8014," "," "," "," ",null,null,null,null,null,null,null,8014]
[" ",6111," "," "," "," ",null,null,null,null,null,null,null,6111]
[" ",6112," "," "," "," ",null,null,null,null,null,null,null,6112]
[" ",6113," "," "," "," ",null,null,null,null,null,null,null,6113]
[" ",6114," "," "," "," ",null,null,null,null,null,null,null,6114]
[" ",6115," "," "," "," ",null,null,null,null,null,null,null,6115]
[" ",6116," "," "," "," ",null,null,null,null,null,null,null,6116]
[" ",6117," "," "," "," ",null,null,null,null,null,null,null,6117]
[" ",6118," "," "," "," ",null,null,null,null,null,null,null,6118]
[" ",6119," "," "," "," ",null,null,null,null,null,null,null,6119]
[" ",6120," "," "," "," ",null,null,null,null,null,null,null,6120]
[" ",6121," "," "," "," ",null,null,null,null,null,null,null,6121]
[" ",6122," "," "," "," ",null,null,null,null,null,null,null,6122]
[" ",6123," "," "," "," ",null,null,null,null,null,null,null,6123]
[" ",7111," "," "," "," ",null,null,null,null,null,null,null,7111]
[" ",7112," "," "," "," ",null,null,null,null,null,null,null,7112]
[" ",7113," "," "," "," ",null,null,null,null,null,null,null,7113]
[" ",7114," "," "," "," ",null,null,null,null,null,null,null,7114]
[" ",{"$f":"N963","v":7115}," "," "," "," ",null,null,null,null,null,null,null,7115]
[" ",7116," "," "," "," ",null,null,null,null,null,null,null,7116]
[" ",7117," "," "," "," ",null,null,null,null,null,null,null,7117]
[" ",7121," "," "," "," ",null,null,null,null,null,null,null,7121]
[" ",7122," "," "," "," ",null,null,null,null,null,null,null,7122]
[" ",7123," "," "," "," ",null,null,null,null,null,null,null,7123]
[" ",7124," "," "," "," ",null,null,null,null,null,null,null,7124]
[" ",7131," "," "," "," ",null,null,null,null,null,null,null,7131]
[" ",7132," "," "," "," ",null,null,null,null,null,null,null,7132]
[" ",7133," "," "," "," ",null,null,null,null,null,null,null,7133]
[" ",7141," "," "," "," ",null,null,null,null,null,null,null,7141]
[" ",7142," "," "," "," ",null,null,null,null,null,null,null,7142]
[" ",7151," "," "," "," ",null,null,null,null,null,null,null,7151]
[" ",7152," "," "," "," ",null,null,null,null,null,null,null,7152]
[" ",7153," "," "," "," ",null,null,null,null,null,null,null,7153]
[" ",7211," "," "," "," ",null,null,null,null,null,null,null,7211]
[" ",7212," "," "," "," ",null,null,null,null,null,null,null,7212]
[" ",7213," "," "," "," ",null,null,null,null,null,null,null,7213]
[" ",7214," "," "," "," ",null,null,null,null,null,null,null,7214]
[" ",7215," "," "," "," ",null,null,null,null,null,null,null,7215]
[" ",7216," "," "," "," ",null,null,null,null,null,null,null,7216]
[" ",7217," "," "," "," ",null,null,null,null,null,null,null,7217]
[" ",7218," "," "," "," ",null,null,null,null,null,null,null,7218]
[" ",7219," "," "," "," ",null,null,null,null,null,null,null,7219]
[" ",7220," "," "," "," ",null,null,null,null,null,null,null,7220]
[" ",7221," "," "," "," ",null,null,null,null,null,null,null,7221]
[" ",7222," "," "," "," ",null,null,null,null,null,null,null,7222]
[" ",7223," "," "," "," ",null,null,null,null,null,null,null,7223]
[" ",7224," "," "," "," ",null,null,null,null,null,null,null,7224]
[" ",7225," "," "," "," ",null,null,null,null,null,null,null,7225]
[" ",7231," "," "," "," ",null,null,null,null,null,null,null,7231]
[" ",7232," "," "," "," ",null,null,null,null,null,null,null,7232]
[" ",7233," "," "," "," ",null,null,null,null,null,null,null,7233]
[" ",7234," "," "," "," ",null,null,null,null,null,null,null,7234]
[" ",7235," "," "," "," ",null,null,null,null,null,null,null,7235]
[" ",7236," "," "," "," ",null,null,null,null,null,null,null,7236]
[" ",7237," "," "," "," ",null,null,null,null,null,null,null,7237]
[" ",7241," "," "," "," ",null,null,null,null,null,null,null,7241]
[" ",7242," "," "," "," ",null,null,null,null,null,null,null,7242]
[" ",7243," "," "," "," ",null,null,null,null,null,null,null,7243]
[" ",7244," "," "," "," ",null,null,null,null,null,null,null,7244]
[" ",7251," "," "," "," ",null,null,null,null,null,null,null,7251]
[" ",7252," "," "," "," ",null,null,null,null,null,null,null,7252]
[" ",7253," "," "," "," ",null,null,null,null,null,null,null,7253]
[" ",7254," "," "," "," ",null,null,null,null,null,null,null,7254]
[" ",7255," "," "," "," ",null,null,null,null,null,null,null,7255]
[" ",7256," "," "," "," ",null,null,null,null,null,null,null,7256]
[" ",7261," "," "," "," ",null,null,null,null,null,null,null,7261]
[" ",7262," "," "," "," ",null,null,null,null,null,null,null,7262]
[" ",7311," "," "," "," ",null,null,null,null,null,null,null,7311]
[" ",7312," "," "," "," ",null,null,null,null,null,null,null,7312]
[" ",7313," "," "," "," ",null,null,null,null,null,null,null,7313]
[" ",7314," "," "," "," ",null,null,null,null,null,null,null,7314]
[" ",7315," "," "," "," ",null,null,null,null,null,null,null,7315]
[" ",7316," "," "," "," ",null,null,null,null,null,null,null,7316]
[" ",7321," "," "," "," ",null,null,null,null,null,null,null,7321]
[" ",7322," "," "," "," ",null,null,null,null,null,null,null,7322]
[" ",7323," "," "," "," ",null,null,null,null,null,null,null,7323]
[" ",7324," "," "," "," ",null,null,null,null,null,null,null,7324]
[" ",7331," "," "," "," ",null,null,null,null,null,null,null,7331]
[" ",7332," "," "," "," ",null,null,null,null,null,null,null,7332]
[" ",7333," "," "," "," ",null,null,null,null,null,null,null,7333]
[" ",7334," "," "," "," ",null,null,null,null,null,null,null,7334]
[" ",7335," "," "," "," ",null,null,null,null,null,null,null,7335]
[" ",{"$f":"N1027","v":7336}," "," "," "," ",null,null,null,null,null,null,null,7336]
[" ",7341," "," "," "," ",null,null,null,null,null,null,null,7341]
[" ",7342," "," "," "," ",null,null,null,null,null,null,null,7342]
[" ",7343," "," "," "," ",null,null,null,null,null,null,null,7343]
[" ",7351," "," "," "," ",null,null,null,null,null,null,null,7351]
[" ",7352," "," "," "," ",null,null,null,null,null,null,null,7352]
[" ",7353," "," "," "," ",null,null,null,null,null,null,null,7353]
[" ",7354," "," "," "," ",null,null,null,null,null,null,null,7354]
[" ",7361," "," "," "," ",null,null,null,null,null,null,null,7361]
[" ",7362," "," "," "," ",null,null,null,null,null,null,null,7362]
[" ",7410," "," "," "," ",null,null,null,null,null,null,null,7410]
[" ",7411," "," "," "," ",null,null,null,null,null,null,null,7411]
[" ",7412," "," "," "," ",null,null,null,null,null,null,null,7412]
[" ",7413," "," "," "," ",null,null,null,null,null,null,null,7413]
[" ",7414," "," "," "," ",null,null,null,null,null,null,null,7414]
[" ",7415," "," "," "," ",null,null,null,null,null,null,null,7415]
[" ",7416," "," "," "," ",null,null,null,null,null,null,null,7416]
[" ",7417," "," "," "," ",null,null,null,null,null,null,null,7417]
[" ",7418," "," "," "," ",null,null,null,null,null,null,null,7418]
[" ",7419," "," "," "," ",null,null,null,null,null,null,null,7419]
[" ",7420," "," "," "," ",null,null,null,null,null,null,null,7420]
[" ",7421," "," "," "," ",null,null,null,null,null,null,null,7421]
[" ",7422," "," "," "," ",null,null,null,null,null,null,null,7422]
[" ",7423," "," "," "," ",null,null,null,null,null,null,null,7423]
[" ",7424," "," "," "," ",null,null,null,null,null,null,null,7424]
[" ",7425," "," "," "," ",null,null,null,null,null,null,null,7425]
[" ",7426," "," "," "," ",null,null,null,null,null,null,null,7426]
[" ",7427," "," "," "," ",null,null,null,null,null,null,null,7427]
[" ",7428," "," "," "," ",null,null,null,null,null,null,null,7428]
[" ",7429," "," "," "," ",null,null,null,null,null,null,null,7429]
[" ",7430," "," "," "," ",null,null,null,null,null,null,null,7430]
[" ",7431," "," "," "," ",null,null,null,null,null,null,null,7431]
[" ",8010," "," "," "," ",null,null,null,null,null,null,null,8010]
[" ",8011," "," "," "," ",null,null,null,null,null,null,null,8011]
[" ",8012," "," "," "," ",null,null,null,null,null,null,null,8012]
[" ",8013," "," "," "," ",null,null,null,null,null,null,null,8013]
[" ",8014," "," "," "," ",null,null,null,null,null,null,null,8014]
[" ",6111," "," "," "," ",null,null,null,null,null,null,null,6111]
[" ",6112," "," "," "," ",null,null,null,null,null,null,null,6112]
[" ",6113," "," "," "," ",null,null,null,null,null,null,null,6113]
[" ",6114," "," "," "," ",null,null,null,null,null,null,null,6114]
[" ",6115," "," "," "," ",null,null,null,null,null,null,null,6115]
[" ",6116," "," "," "," ",null,null,null,null,null,null,null,6116]
[" ",6117," "," "," "," ",null,null,null,null,null,null,null,6117]
[" ",6118," "," "," "," ",null,null,null,null,null,null,null,6118]
[" ",6119," "," "," "," ",null,null,null,null,null,null,null,6119]
[" ",6120," "," "," "," ",null,null,null,null,null,null,null,6120]
[" ",6121," "," "," "," ",null,null,null,null,null,null,null,6121]
[" ",6122," "," "," "," ",null,null,null,null,null,null,null,6122]
[" ",6123," "," "," "," ",null,null,null,null,null,null,null,6123]
[" ",7111," "," "," "," ",null,null,null,null,null,null,null,7111]
[" ",7112," "," "," "," ",null,null,null,null,null,null,null,7112]
[" ",7113," "," "," "," ",null,null,null,null,null,null,null,7113]
[" ",7114," "," "," "," ",null,null,null,null,null,null,null,7114]
[" ",7115," "," "," "," ",null,null,null,null,null,null,null,7115]
[" ",7116," "," "," "," ",null,null,null,null,null,null,null,7116]
[" ",7117," "," "," "," ",null,null,null,null,null,null,null,7117]
[" ",7121," "," "," "," ",null,null,null,null,null,null,null,7121]
[" ",7122," "," "," "," ",null,null,null,null,null,null,null,7122]
[" ",7123," "," "," "," ",null,null,null,null,null,null,null,7123]
[" ",7124," "," "," "," ",null,null,null,null,null,null,null,7124]
[" ",7131," "," "," "," ",null,null,null,null,null,null,null,7131]
[" ",7132," "," "," "," ",null,null,null,null,null,null,null,7132]
[" ",7133," "," "," "," ",null,null,null,null,null,null,null,7133]
[" ",{"$f":"N1091","v":7141}," "," "," "," ",null,null,null,null,null,null,null,7141]
[" ",7142," "," "," "," ",null,null,null,null,null,null,null,7142]
[" ",7151," "," "," "," ",null,null,null,null,null,null,null,7151]
[" ",7152," "," "," "," ",null,null,null,null,null,null,null,7152]
[" ",7153," "," "," "," ",null,null,null,null,null,null,null,7153]
[" ",7211," "," "," "," ",null,null,null,null,null,null,null,7211]
[" ",7212," "," "," "," ",null,null,null,null,null,null,null,7212]
[" ",7213," "," "," "," ",null,null,null,null,null,null,null,7213]
[" ",7214," "," "," "," ",null,null,null,null,null,null,null,7214]
[" ",7215," "," "," "," ",null,null,null,null,null,null,null,7215]
[" ",7216," "," "," "," ",null,null,null,null,null,null,null,7216]
[" ",7217," "," "," "," ",null,null,null,null,null,null,null,7217]
[" ",7218," "," "," "," ",null,null,null,null,null,null,null,7218]
[" ",7219," "," "," "," ",null,null,null,null,null,null,null,7219]
[" ",7220," "," "," "," ",null,null,null,null,null,null,null,7220]
[" ",7221," "," "," "," ",null,null,null,null,null,null,null,7221]
[" ",7222," "," "," "," ",null,null,null,null,null,null,null,7222]
[" ",7223," "," "," "," ",null,null,null,null,null,null,null,7223]
[" ",7224," "," "," "," ",null,null,null,null,null,null,null,7224]
[" ",7225," "," "," "," ",null,null,null,null,null,null,null,7225]
[" ",7231," "," "," "," ",null,null,null,null,null,null,null,7231]
[" ",7232," "," "," "," ",null,null,null,null,null,null,null,7232]
[" ",7233," "," "," "," ",null,null,null,null,null,null,null,7233]
[" ",7234," "," "," "," ",null,null,null,null,null,null,null,7234]
[" ",7235," "," "," "," ",null,null,null,null,null,null,null,7235]
[" ",7236," "," "," "," ",null,null,null,null,null,null,null,7236]
[" ",7237," "," "," "," ",null,null,null,null,null,null,null,7237]
[" ",7241," "," "," "," ",null,null,null,null,null,null,null,7241]
[" ",7242," "," "," "," ",null,null,null,null,null,null,null,7242]
[" ",7243," "," "," "," ",null,null,null,null,null,null,null,7243]
[" ",7244," "," "," "," ",null,null,null,null,null,null,null,7244]
[" ",7251," "," "," "," ",null,null,null,null,null,null,null,7251]
[" ",7252," "," "," "," ",null,null,null,null,null,null,null,7252]
[" ",7253," "," "," "," ",null,null,null,null,null,null,null,7253]
[" ",7254," "," "," "," ",null,null,null,null,null,null,null,7254]
[" ",7255," "," "," "," ",null,null,null,null,null,null,null,7255]
[" ",7256," "," "," "," ",null,null,null,null,null,null,null,7256]
[" ",7261," "," "," "," ",null,null,null,null,null,null,null,7261]
[" ",7262," "," "," "," ",null,null,null,null,null,null,null,7262]
[" ",7311," "," "," "," ",null,null,null,null,null,null,null,7311]
[" ",7312," "," "," "," ",null,null,null,null,null,null,null,7312]
[" ",7313," "," "," "," ",null,null,null,null,null,null,null,7313]
[" ",7314," "," "," "," ",null,null,null,null,null,null,null,7314]
[" ",7315," "," "," "," ",null,null,null,null,null,null,null,7315]
[" ",7316," "," "," "," ",null,null,null,null,null,null,null,7316]
[" ",7321," "," "," "," ",null,null,null,null,null,null,null,7321]
[" ",7322," "," "," "," ",null,null,null,null,null,null,null,7322]
[" ",7323," "," "," "," ",null,null,null,null,null,null,null,7323]
[" ",7324," "," "," "," ",null,null,null,null,null,null,null,7324]
[" ",7331," "," "," "," ",null,null,null,null,null,null,null,7331]
[" ",7332," "," "," "," ",null,null,null,null,null,null,null,7332]
[" ",7333," "," "," "," ",null,null,null,null,null,null,null,7333]
[" ",7334," "," "," "," ",null,null,null,null,null,null,null,7334]
[" ",7335," "," "," "," ",null,null,null,null,null,null,null,7335]
[" ",7336," "," "," "," ",null,null,null,null,null,null,null,7336]
[" ",7341," "," "," "," ",null,null,null,null,null,null,null,7341]
[" ",7342," "," "," "," ",null,null,null,null,null,null,null,7342]
[" ",7343," "," "," "," ",null,null,null,null,null,null,null,7343]
[" ",7351," "," "," "," ",null,null,null,null,null,null,null,7351]
[" ",7352," "," "," "," ",null,null,null,null,null,null,null,7352]
[" ",7353," "," "," "," ",null,null,null,null,null,null,null,7353]
[" ",7354," "," "," "," ",null,null,null,null,null,null,null,7354]
[" ",7361," "," "," "," ",null,null,null,null,null,null,null,7361]
[" ",7362," "," "," "," ",null,null,null,null,null,null,null,7362]
[" ",{"$f":"N1155","v":7410}," "," "," "," ",null,null,null,null,null,null,null,7410]
[" ",7411," "," "," "," ",null,null,null,null,null,null,null,7411]
[" ",7412," "," "," "," ",null,null,null,null,null,null,null,7412]
[" ",7413," "," "," "," ",null,null,null,null,null,null,null,7413]
[" ",7414," "," "," "," ",null,null,null,null,null,null,null,7414]
[" ",7415," "," "," "," ",null,null,null,null,null,null,null,7415]
[" ",7416," "," "," "," ",null,null,null,null,null,null,null,7416]
[" ",7417," "," "," "," ",null,null,null,null,null,null,null,7417]
[" ",7418," "," "," "," ",null,null,null,null,null,null,null,7418]
[" ",7419," "," "," "," ",null,null,null,null,null,null,null,7419]
[" ",7420," "," "," "," ",null,null,null,null,null,null,null,7420]
[" ",7421," "," "," "," ",null,null,null,null,null,null,null,7421]
[" ",7422," "," "," "," ",null,null,null,null,null,null,null,7422]
[" ",7423," "," "," "," ",null,null,null,null,null,null,null,7423]
[" ",7424," "," "," "," ",null,null,null,null,null,null,null,7424]
[" ",7425," "," "," "," ",null,null,null,null,null,null,null,7425]
[" ",7426," "," "," "," ",null,null,null,null,null,null,null,7426]
[" ",7427," "," "," "," ",null,null,null,null,null,null,null,7427]
[" ",7428," "," "," "," ",null,null,null,null,null,null,null,7428]
[" ",7429," "," "," "," ",null,null,null,null,null,null,null,7429]
[" ",7430," "," "," "," ",null,null,null,null,null,null,null,7430]
[" ",7431," "," "," "," ",null,null,null,null,null,null,null,7431]
[" ",8010," "," "," "," ",null,null,null,null,null,null,null,8010]
[" ",8011," "," "," "," ",null,null,null,null,null,null,null,8011]
[" ",8012," "," "," "," ",null,null,null,null,null,null,null,8012]
[" ",8013," "," "," "," ",null,null,null,null,null,null,null,8013]
[" ",8014," "," "," "," ",null,null,null,null,null,null,null,8014]
[" ",6111," "," "," "," ",null,null,null,null,null,null,null,6111]
[" ",6112," "," "," "," ",null,null,null,null,null,null,null,6112]
[" ",6113," "," "," "," ",null,null,null,null,null,null,null,6113]
[" ",6114," "," "," "," ",null,null,null,null,null,null,null,6114]
[" ",6115," "," "," "," ",null,null,null,null,null,null,null,6115]
[" ",6116," "," "," "," ",null,null,null,null,null,null,null,6116]
[" ",6117," "," "," "," ",null,null,null,null,null,null,null,6117]
[" ",6118," "," "," "," ",null,null,null,null,null,null,null,6118]
[" ",6119," "," "," "," ",null,null,null,null,null,null,null,6119]
[" ",6120," "," "," "," ",null,null,null,null,null,null,null,6120]
[" ",6121," "," "," "," ",null,null,null,null,null,null,null,6121]
[" ",6122," "," "," "," ",null,null,null,null,null,null,null,6122]
[" ",6123," "," "," "," ",null,null,null,null,null,null,null,6123]
[" ",7111," "," "," "," ",null,null,null,null,null,null,null,7111]
[" ",7112," "," "," "," ",null,null,null,null,null,null,null,7112]
[" ",7113," "," "," "," ",null,null,null,null,null,null,null,7113]
[" ",7114," "," "," "," ",null,null,null,null,null,null,null,7114]
[" ",7115," "," "," "," ",null,null,null,null,null,null,null,7115]
[" ",7116," "," "," "," ",null,null,null,null,null,null,null,7116]
[" ",7117," "," "," "," ",null,null,null,null,null,null,null,7117]
[" ",7121," "," "," "," ",null,null,null,null,null,null,null,7121]
[" ",7122," "," "," "," ",null,null,null,null,null,null,null,7122]
[" ",7123," "," "," "," ",null,null,null,null,null,null,null,7123]
[" ",7124," "," "," "," ",null,null,null,null,null,null,null,7124]
[" ",7131," "," "," "," ",null,null,null,null,null,null,null,7131]
[" ",7132," "," "," "," ",null,null,null,null,null,null,null,7132]
[" ",7133," "," "," "," ",null,null,null,null,null,null,null,7133]
[" ",7141," "," "," "," ",null,null,null,null,null,null,null,7141]
[" ",7142," "," "," "," ",null,null,null,null,null,null,null,7142]
[" ",7151," "," "," "," ",null,null,null,null,null,null,null,7151]
[" ",7152," "," "," "," ",null,null,null,null,null,null,null,7152]
[" ",7153," "," "," "," ",null,null,null,null,null,null,null,7153]
[" ",7211," "," "," "," ",null,null,null,null,null,null,null,7211]
[" ",7212," "," "," "," ",null,null,null,null,null,null,null,7212]
[" ",7213," "," "," "," ",null,null,null,null,null,null,null,7213]
[" ",7214," "," "," "," ",null,null,null,null,null,null,null,7214]
[" ",7215," "," "," "," ",null,null,null,null,null,null,null,7215]
[" ",{"$f":"N1219","v":7216}," "," "," "," ",null,null,null,null,null,null,null,7216]
[" ",7217," "," "," "," ",null,null,null,null,null,null,null,7217]
[" ",7218," "," "," "," ",null,null,null,null,null,null,null,7218]
[" ",7219," "," "," "," ",null,null,null,null,null,null,null,7219]
[" ",7220," "," "," "," ",null,null,null,null,null,null,null,7220]
[" ",7221," "," "," "," ",null,null,null,null,null,null,null,7221]
[" ",7222," "," "," "," ",null,null,null,null,null,null,null,7222]
[" ",7223," "," "," "," ",null,null,null,null,null,null,null,7223]
[" ",7224," "," "," "," ",null,null,null,null,null,null,null,7224]
[" ",7225," "," "," "," ",null,null,null,null,null,null,null,7225]
[" ",7231," "," "," "," ",null,null,null,null,null,null,null,7231]
[" ",7232," "," "," "," ",null,null,null,null,null,null,null,7232]
[" ",7233," "," "," "," ",null,null,null,null,null,null,null,7233]
[" ",7234," "," "," "," ",null,null,null,null,null,null,null,7234]
[" ",7235," "," "," "," ",null,null,null,null,null,null,null,7235]
[" ",7236," "," "," "," ",null,null,null,null,null,null,null,7236]
[" ",7237," "," "," "," ",null,null,null,null,null,null,null,7237]
[" ",7241," "," "," "," ",null,null,null,null,null,null,null,7241]
[" ",7242," "," "," "," ",null,null,null,null,null,null,null,7242]
[" ",7243," "," "," "," ",null,null,null,null,null,null,null,7243]
[" ",7244," "," "," "," ",null,null,null,null,null,null,null,7244]
[" ",7251," "," "," "," ",null,null,null,null,null,null,null,7251]
[" ",7252," "," "," "," ",null,null,null,null,null,null,null,7252]
[" ",7253," "," "," "," ",null,null,null,null,null,null,null,7253]
[" ",7254," "," "," "," ",null,null,null,null,null,null,null,7254]
[" ",7255," "," "," "," ",null,null,null,null,null,null,null,7255]
[" ",7256," "," "," "," ",null,null,null,null,null,null,null,7256]
[" ",7261," "," "," "," ",null,null,null,null,null,null,null,7261]
[" ",7262," "," "," "," ",null,null,null,null,null,null,null,7262]
[" ",7311," "," "," "," ",null,null,null,null,null,null,null,7311]
[" ",7312," "," "," "," ",null,null,null,null,null,null,null,7312]
[" ",7313," "," "," "," ",null,null,null,null,null,null,null,7313]
[" ",7314," "," "," "," ",null,null,null,null,null,null,null,7314]
[" ",7315," "," "," "," ",null,null,null,null,null,null,null,7315]
[" ",7316," "," "," "," ",null,null,null,null,null,null,null,7316]
[" ",7321," "," "," "," ",null,null,null,null,null,null,null,7321]
[" ",7322," "," "," "," ",null,null,null,null,null,null,null,7322]
[" ",7323," "," "," "," ",null,null,null,null,null,null,null,7323]
[" ",7324," "," "," "," ",null,null,null,null,null,null,null,7324]
[" ",7331," "," "," "," ",null,null,null,null,null,null,null,7331]
[" ",7332," "," "," "," ",null,null,null,null,null,null,null,7332]
[" ",7333," "," "," "," ",null,null,null,null,null,null,null,7333]
[" ",7334," "," "," "," ",null,null,null,null,null,null,null,7334]
[" ",7335," "," "," "," ",null,null,null,null,null,null,null,7335]
[" ",7336," "," "," "," ",null,null,null,null,null,null,null,7336]
[" ",7341," "," "," "," ",null,null,null,null,null,null,null,7341]
[" ",7342," "," "," "," ",null,null,null,null,null,null,null,7342]
[" ",7343," "," "," "," ",null,null,null,null,null,null,null,7343]
[" ",7351," "," "," "," ",null,null,null,null,null,null,null,7351]
[" ",7352," "," "," "," ",null,null,null,null,null,null,null,7352]
[" ",7353," "," "," "," ",null,null,null,null,null,null,null,7353]
[" ",7354," "," "," "," ",null,null,null,null,null,null,null,7354]
[" ",7361," "," "," "," ",null,null,null,null,null,null,null,7361]
[" ",7362," "," "," "," ",null,null,null,null,null,null,null,7362]
[" ",7410," "," "," "," ",null,null,null,null,null,null,null,7410]
[" ",7411," "," "," "," ",null,null,null,null,null,null,null,7411]
[" ",7412," "," "," "," ",null,null,null,null,null,null,null,7412]
[" ",7413," "," "," "," ",null,null,null,null,null,null,null,7413]
[" ",7414," "," "," "," ",null,null,null,null,null,null,null,7414]
[" ",7415," "," "," "," ",null,null,null,null,null,null,null,7415]
[" ",7416," "," "," "," ",null,null,null,null,null,null,null,7416]
[" ",7417," "," "," "," ",null,null,null,null,null,null,null,7417]
[" ",7418," "," "," "," ",null,null,null,null,null,null,null,7418]
[" ",7419," "," "," "," ",null,null,null,null,null,null,null,7419]
[" ",{"$f":"N1283","v":7420}," "," "," "," ",null,null,null,null,null,null,null,7420]
[" ",7421," "," "," "," ",null,null,null,null,null,null,null,7421]
[" ",7422," "," "," "," ",null,null,null,null,null,null,null,7422]
[" ",7423," "," "," "," ",null,null,null,null,null,null,null,7423]
[" ",7424," "," "," "," ",null,null,null,null,null,null,null,7424]
[" ",7425," "," "," "," ",null,null,null,null,null,null,null,7425]
[" ",7426," "," "," "," ",null,null,null,null,null,null,null,7426]
[" ",7427," "," "," "," ",null,null,null,null,null,null,null,7427]
[" ",7428," "," "," "," ",null,null,null,null,null,null,null,7428]
[" ",7429," "," "," "," ",null,null,null,null,null,null,null,7429]
[" ",7430," "," "," "," ",null,null,null,null,null,null,null,7430]
[" ",7431," "," "," "," ",null,null,null,null,null,null,null,7431]
[" ",8010," "," "," "," ",null,null,null,null,null,null,null,8010]
[" ",8011," "," "," "," ",null,null,null,null,null,null,null,8011]
[" ",8012," "," "," "," ",null,null,null,null,null,null,null,8012]
[" ",8013," "," "," "," ",null,null,null,null,null,null,null,8013]
[" ",8014," "," "," "," ",null,null,null,null,null,null,null,8014]
[" ",6111," "," "," "," ",null,null,null,null,null,null,null,6111]
[" ",6112," "," "," "," ",null,null,null,null,null,null,null,6112]
[" ",6113," "," "," "," ",null,null,null,null,null,null,null,6113]
[" ",6114," "," "," "," ",null,null,null,null,null,null,null,6114]
[" ",6115," "," "," "," ",null,null,null,null,null,null,null,6115]
[" ",6116," "," "," "," ",null,null,null,null,null,null,null,6116]
[" ",6117," "," "," "," ",null,null,null,null,null,null,null,6117]
[" ",6118," "," "," "," ",null,null,null,null,null,null,null,6118]
[" ",6119," "," "," "," ",null,null,null,null,null,null,null,6119]
[" ",6120," "," "," "," ",null,null,null,null,null,null,null,6120]
[" ",6121," "," "," "," ",null,null,null,null,null,null,null,6121]
[" ",6122," "," "," "," ",null,null,null,null,null,null,null,6122]
[" ",6123," "," "," "," ",null,null,null,null,null,null,null,6123]
[" ",7111," "," "," "," ",null,null,null,null,null,null,null,7111]
[" ",7112," "," "," "," ",null,null,null,null,null,null,null,7112]
[" ",7113," "," "," "," ",null,null,null,null,null,null,null,7113]
[" ",7114," "," "," "," ",null,null,null,null,null,null,null,7114]
[" ",7115," "," "," "," ",null,null,null,null,null,null,null,7115]
[" ",7116," "," "," "," ",null,null,null,null,null,null,null,7116]
[" ",7117," "," "," "," ",null,null,null,null,null,null,null,7117]
[" ",7121," "," "," "," ",null,null,null,null,null,null,null,7121]
[" ",7122," "," "," "," ",null,null,null,null,null,null,null,7122]
[" ",7123," "," "," "," ",null,null,null,null,null,null,null,7123]
[" ",7124," "," "," "," ",null,null,null,null,null,null,null,7124]
[" ",7131," "," "," "," ",null,null,null,null,null,null,null,7131]
[" ",7132," "," "," "," ",null,null,null,null,null,null,null,7132]
[" ",7133," "," "," "," ",null,null,null,null,null,null,null,7133]
[" ",7141," "," "," "," ",null,null,null,null,null,null,null,7141]
[" ",7142," "," "," "," ",null,null,null,null,null,null,null,7142]
[" ",7151," "," "," "," ",null,null,null,null,null,null,null,7151]
[" ",7152," "," "," "," ",null,null,null,null,null,null,null,7152]
[" ",7153," "," "," "," ",null,null,null,null,null,null,null,7153]
[" ",7211," "," "," "," ",null,null,null,null,null,null,null,7211]
[" ",7212," "," "," "," ",null,null,null,null,null,null,null,7212]
[" ",7213," "," "," "," ",null,null,null,null,null,null,null,7213]
[" ",7214," "," "," "," ",null,null,null,null,null,null,null,7214]
[" ",7215," "," "," "," ",null,null,null,null,null,null,null,7215]
[" ",7216," "," "," "," ",null,null,null,null,null,null,null,7216]
[" ",7217," "," "," "," ",null,null,null,null,null,null,null,7217]
[" ",7218," "," "," "," ",null,null,null,null,null,null,null,7218]
[" ",7219," "," "," "," ",null,null,null,null,null,null,null,7219]
[" ",7220," "," "," "," ",null,null,null,null,null,null,null,7220]
[" ",7221," "," "," "," ",null,null,null,null,null,null,null,7221]
[" ",7222," "," "," "," ",null,null,null,null,null,null,null,7222]
[" ",7223," "," "," "," ",null,null,null,null,null,null,null,7223]
[" ",7224," "," "," "," ",null,null,null,null,null,null,null,7224]
[" ",7225," "," "," "," ",null,null,null,null,null,null,null,7225]
[" ",{"$f":"N1347","v":7231}," "," "," "," ",null,null,null,null,null,null,null,7231]
[" ",7232," "," "," "," ",null,null,null,null,null,null,null,7232]
[" ",7233," "," "," "," ",null,null,null,null,null,null,null,7233]
[" ",7234," "," "," "," ",null,null,null,null,null,null,null,7234]
[" ",7235," "," "," "," ",null,null,null,null,null,null,null,7235]
[" ",7236," "," "," "," ",null,null,null,null,null,null,null,7236]
[" ",7237," "," "," "," ",null,null,null,null,null,null,null,7237]
[" ",7241," "," "," "," ",null,null,null,null,null,null,null,7241]
[" ",7242," "," "," "," ",null,null,null,null,null,null,null,7242]
[" ",7243," "," "," "," ",null,null,null,null,null,null,null,7243]
[" ",7244," "," "," "," ",null,null,null,null,null,null,null,7244]
[" ",7251," "," "," "," ",null,null,null,null,null,null,null,7251]
[" ",7252," "," "," "," ",null,null,null,null,null,null,null,7252]
[" ",7253," "," "," "," ",null,null,null,null,null,null,null,7253]
[" ",7254," "," "," "," ",null,null,null,null,null,null,null,7254]
[" ",7255," "," "," "," ",null,null,null,null,null,null,null,7255]
[" ",7256," "," "," "," ",null,null,null,null,null,null,null,7256]
[" ",7261," "," "," "," ",null,null,null,null,null,null,null,7261]
[" ",7262," "," "," "," ",null,null,null,null,null,null,null,7262]
[" ",7311," "," "," "," ",null,null,null,null,null,null,null,7311]
[" ",7312," "," "," "," ",null,null,null,null,null,null,null,7312]
[" ",7313," "," "," "," ",null,null,null,null,null,null,null,7313]
[" ",7314," "," "," "," ",null,null,null,null,null,null,null,7314]
[" ",7315," "," "," "," ",null,null,null,null,null,null,null,7315]
[" ",7316," "," "," "," ",null,null,null,null,null,null,null,7316]
[" ",7321," "," "," "," ",null,null,null,null,null,null,null,7321]
[" ",7322," "," "," "," ",null,null,null,null,null,null,null,7322]
[" ",7323," "," "," "," ",null,null,null,null,null,null,null,7323]
[" ",7324," "," "," "," ",null,null,null,null,null,null,null,7324]
[" ",7331," "," "," "," ",null,null,null,null,null,null,null,7331]
[" ",7332," "," "," "," ",null,null,null,null,null,null,null,7332]
[" ",7333," "," "," "," ",null,null,null,null,null,null,null,7333]
[" ",7334," "," "," "," ",null,null,null,null,null,null,null,7334]
[" ",7335," "," "," "," ",null,null,null,null,null,null,null,7335]
[" ",7336," "," "," "," ",null,null,null,null,null,null,null,7336]
[" ",7341," "," "," "," ",null,null,null,null,null,null,null,7341]
[" ",7342," "," "," "," ",null,null,null,null,null,null,null,7342]
[" ",7343," "," "," "," ",null,null,null,null,null,null,null,7343]
[" ",7351," "," "," "," ",null,null,null,null,null,null,null,7351]
[" ",7352," "," "," "," ",null,null,null,null,null,null,null,7352]
[" ",7353," "," "," "," ",null,null,null,null,null,null,null,7353]
[" ",7354," "," "," "," ",null,null,null,null,null,null,null,7354]
[" ",7361," "," "," "," ",null,null,null,null,null,null,null,7361]
[" ",7362," "," "," "," ",null,null,null,null,null,null,null,7362]
[" ",7410," "," "," "," ",null,null,null,null,null,null,null,7410]
[" ",7411," "," "," "," ",null,null,null,null,null,null,null,7411]
[" ",7412," "," "," "," ",null,null,null,null,null,null,null,7412]
[" ",7413," "," "," "," ",null,null,null,null,null,null,null,7413]
[" ",7414," "," "," "," ",null,null,null,null,null,null,null,7414]
[" ",7415," "," "," "," ",null,null,null,null,null,null,null,7415]
[" ",7416," "," "," "," ",null,null,null,null,null,null,null,7416]
[" ",7417," "," "," "," ",null,null,null,null,null,null,null,7417]
[" ",7418," "," "," "," ",null,null,null,null,null,null,null,7418]
[" ",7419," "," "," "," ",null,null,null,null,null,null,null,7419]
[" ",7420," "," "," "," ",null,null,null,null,null,null,null,7420]
[" ",7421," "," "," "," ",null,null,null,null,null,null,null,7421]
[" ",7422," "," "," "," ",null,null,null,null,null,null,null,7422]
[" ",7423," "," "," "," ",null,null,null,null,null,null,null,7423]
[" ",7424," "," "," "," ",null,null,null,null,null,null,null,7424]
[" ",7425," "," "," "," ",null,null,null,null,null,null,null,7425]
[" ",{"$f":"N1407","v":7426}," "," "," "," ",null,null,null,null,null,null,null,7426]
[" ",{"$f":"N1408","v":7427}," "," "," "," ",null,null,null,null,null,null,null,7427]
[" ",7428," "," "," "," ",null,null,null,null,null,null,null,7428]
[" ",7429," "," "," "," ",null,null,null,null,null,null,null,7429]
[" ",7430," "," "," "," ",null,null,null,null,null,null,null,7430]
[" ",7431," "," "," "," ",null,null,null,null,null,null,null,7431]
[" ",8010," "," "," "," ",null,null,null,null,null,null,null,8010]
[" ",8011," "," "," "," ",null,null,null,null,null,null,null,8011]
[" ",8012," "," "," "," ",null,null,null,null,null,null,null,8012]
[" ",8013," "," "," "," ",null,null,null,null,null,null,null,8013]
[" ",8014," "," "," "," ",null,null,null,null,null,null,null,8014]

{"sheet":"DATOS_DEALER","index":9,"n_rows":1370,"n_cols":18,"rows_kept":1370,"cut":false,"hidden":true,"merged":[]}
["ID_DEALER_CODE","ID_ACCOUNT","ID_INFO_DEALER","PUESTO_QUE_LO_SUPLE","NOMBRE_(S)","APELLIDO PATERNO","APELLIDO MATERNO","TELÉFONO CONMUTADOR","EXTENSIÓN ","TELÉFONO DIRECTO","CELULAR","NÚMERO NEXTEL","ID NEXTEL","CORREO ELECTRÓNICO (TOYOTA)"]
[57040,"DIR_01","EJECUTIVO RESPONSABLE",null,null,null,null,null,null,null,null,null,null,null,null,null,null,"DIR_01"]
[57040,"DIR_02","DIRECTOR DE MARCA",null,null,null,null,null,null,null,null,null,null,null,null,null,null,"DIR_02"]
[57040,"DIR_03","GERENTE GENERAL",null,null,null,null,null,null,null,null,null,null,null,null,null,null,"DIR_03"]
[57040,"RH_01","TRAINER",null,null,null,null,null,null,null,null,null,null,null,null,null,null,"RH_01"]
[57040,"RH_02","ENCARGADO DE CAPACITACIÓN",null,null,null,null,null,null,null,null,null,null,null,null,null,null,"RH_02"]
[57040,"FIN_01","GERENTE ADMINISTRATIVO",null,null,null,null,null,null,null,null,null,null,null,null,null,null,"FIN_01"]
[57040,"FIN_02","CONTADOR",null,null,null,null,null,null,null,null,null,null,null,null,null,null,"FIN_02"]
[57040,"FIN_03","ENCARGADO DE FACTURACIÓN",null,null,null,null,null,null,null,null,null,null,null,null,null,null,"FIN_03"]
[57040,"FIN_04","ENGARGADO DE CUENTAS POR COBRAR",null,null,null,null,null,null,null,null,null,null,null,null,null,null,"FIN_04"]
[57040,"FIN_05","ENCARGADO DE CUENTAS POR PAGAR",null,null,null,null,null,null,null,null,null,null,null,null,null,null,"FIN_05"]
[57040,"FIN_06","ENCARGADO DE AUDITORÍAS",null,null,null,null,null,null,null,null,null,null,null,null,null,null,"FIN_06"]
[57040,"VTA_01","GERENTE DE VENTAS NUEVOS",null,null,null,null,null,null,null,null,null,null,null,null,null,null,"VTA_01"]
[57040,"VTA_02","COORDINADOR DE VENTAS NUEVOS",null,null,null,null,null,null,null,null,null,null,null,null,null,null,"VTA_02"]
[57040,"VTA_03","GERENTE COMONUEVOS",null,null,null,null,null,null,null,null,null,null,null,null,null,null,"VTA_03"]
[57040,"VTA_04","GERENTE SEMINUEVOS",null,null,null,null,null,null,null,null,null,null,null,null,null,null,"VTA_04"]
[57040,"VTA_05","ADMINISTRADOR DE VENTAS NUEVOS",null,null,null,null,null,null,null,null,null,null,null,null,null,null,"VTA_05"]
[57040,"VTA_06","ADMINISTRADOR DE VENTAS COMONUEVOS",null,null,null,null,null,null,null,null,null,null,null,null,null,null,"VTA_06"]
[57040,"VTA_07","ADMINISTRADOR DE DEALER DAILY",null,null,null,null,null,null,null,null,null,null,null,null,null,null,"VTA_07"]
[57040,"VTA_08","ENCARGADO DE INTERCAMBIOS",null,null,null,null,null,null,null,null,null,null,null,null,null,null,"VTA_08"]
[57040,"VTA_09","FINANCIAMIENTO Y SEGUROS (F&I)",null,null,null,null,null,null,null,null,null,null,null,null,null,null,"VTA_09"]
[57040,"MKT_01","GERENTE / REPRESENTANTE DE MERCADOTECNIA",null,null,null,null,null,null,null,null,null,null,null,null,null,null,"MKT_01"]
[57040,"SER_01","GERENTE DE SERVICIO","COORDINADOR DE SERVICIO",null,null,null,null,null,null,null,null,null,null,null,null,null,"SER_01"]
[57040,"SER_02","GERENTE / ENCARGADO DE REFACCIONES","COORDINADOR DE REFACCIONES",null,null,null,null,null,null,null,null,null,null,null,null,null,"SER_02"]
[57040,"SER_03","GERENTE / ENCARGADO DE ATENCIÓN A CLIENTES",null,null,null,null,null,null,null,null,null,null,null,null,null,null,"SER_03"]
[57040,"SER_04","GERENTE / ENCARGADO DE H&P","COORDINADOR DE  H & P",null,null,null,null,null,null,null,null,null,null,null,null,null,"SER_04"]
[57040,"SER_05","PROMOTOR KAIZEN",null,null,null,null,null,null,null,null,null,null,null,null,null,null,"SER_05"]
[57040,"SER_06","ADMINISTRADOR DE GARANTÍAS",null,null,null,null,null,null,null,null,null,null,null,null,null,null,"SER_06"]
[57040,"SER_07","MDT / TÉCNICO MAS CALIFICADO Y CON MAYOR ANTIGÜEDAD",null,null,null,null,null,null,null,null,null,null,null,null,null,null,"SER_07"]
[57040,"SER_08","JEFE DE TALLER","COORDINADOR DE TALLER",null,null,null,null,null,null,null,null,null,null,null,null,null,"SER_08"]
[57040,"SIS_01","ENCARGADO DE SISTEMAS",null,null,null,null,null,null,null,null,null,null,null,null,null,null,"SIS_01"]
[57040,"SER_09_01","ASESOR DE SERVICIO 1",null,null,null,null,null,null,null,null,null,null,null,null,null,null,"SER_09_01"]
[57040,"SER_09_02","ASESOR DE SERVICIO 2",null,null,null,null,null,null,null,null,null,null,null,null,null,null,"SER_09_02"]
[57040,"SER_09_03","ASESOR DE SERVICIO 3",null,null,null,null,null,null,null,null,null,null,null,null,null,null,"SER_09_03"]
[57040,"SER_09_04","ASESOR DE SERVICIO 4",null,null,null,null,null,null,null,null,null,null,null,null,null,null,"SER_09_04"]
[57040,"SER_09_05","ASESOR DE SERVICIO 5",null,null,null,null,null,null,null,null,null,null,null,null,null,null,"SER_09_05"]
[57040,"SER_09_06","ASESOR DE SERVICIO 6",null,null,null,null,null,null,null,null,null,null,null,null,null,null,"SER_09_06"]
[57040,"SER_09_07","ASESOR DE SERVICIO 7",null,null,null,null,null,null,null,null,null,null,null,null,null,null,"SER_09_07"]
[57040,"SER_09_08","ASESOR DE SERVICIO 8",null,null,null,null,null,null,null,null,null,null,null,null,null,null,"SER_09_08"]
[57040,"SER_09_09","ASESOR DE SERVICIO 9",null,null,null,null,null,null,null,null,null,null,null,null,null,null,"SER_09_09"]
[57040,"SER_09_10","ASESOR DE SERVICIO 10",null,null,null,null,null,null,null,null,null,null,null,null,null,null,"SER_09_10"]
[57040,"VTA_10_01","ASESOR DE VENTAS 1",null,null,null,null,null,null,null,null,null,null,null,null,null,null,"VTA_10_01"]
[57040,"VTA_10_02","ASESOR DE VENTAS 2",null,null,null,null,null,null,null,null,null,null,null,null,null,null,"VTA_10_02"]
[57040,"VTA_10_03","ASESOR DE VENTAS 3",null,null,null,null,null,null,null,null,null,null,null,null,null,null,"VTA_10_03"]
[57040,"VTA_10_04","ASESOR DE VENTAS 4",null,null,null,null,null,null,null,null,null,null,null,null,null,null,"VTA_10_04"]
[57040,"VTA_10_05","ASESOR DE VENTAS 5",null,null,null,null,null,null,null,null,null,null,null,null,null,null,"VTA_10_05"]
[57040,"VTA_10_06","ASESOR DE VENTAS 6",null,null,null,null,null,null,null,null,null,null,null,null,null,null,"VTA_10_06"]
[57040,"VTA_10_07","ASESOR DE VENTAS 7",null,null,null,null,null,null,null,null,null,null,null,null,null,null,"VTA_10_07"]
[57040,"VTA_10_08","ASESOR DE VENTAS 8",null,null,null,null,null,null,null,null,null,null,null,null,null,null,"VTA_10_08"]
[57040,"VTA_10_09","ASESOR DE VENTAS 9",null,null,null,null,null,null,null,null,null,null,null,null,null,null,"VTA_10_09"]
[57040,"VTA_10_10","ASESOR DE VENTAS 10",null,null,null,null,null,null,null,null,null,null,null,null,null,null,"VTA_10_10"]
[57040,"VTA_10_11","ASESOR DE VENTAS 11",null,null,null,null,null,null,null,null,null,null,null,null,null,null,"VTA_10_11"]
[57040,"VTA_10_12","ASESOR DE VENTAS 12",null,null,null,null,null,null,null,null,null,null,null,null,null,null,"VTA_10_12"]
[57040,"VTA_10_13","ASESOR DE VENTAS 13",null,null,null,null,null,null,null,null,null,null,null,null,null,null,"VTA_10_13"]
[57040,"VTA_10_14","ASESOR DE VENTAS 14",null,null,null,null,null,null,null,null,null,null,null,null,null,null,"VTA_10_14"]
[57040,"VTA_10_15","ASESOR DE VENTAS 15",null,null,null,null,null,null,null,null,null,null,null,null,null,null,"VTA_10_15"]
[57040,"VTA_10_16","ASESOR DE VENTAS 16",null,null,null,null,null,null,null,null,null,null,null,null,null,null,"VTA_10_16"]
[57040,"VTA_10_17","ASESOR DE VENTAS 17",null,null,null,null,null,null,null,null,null,null,null,null,null,null,"VTA_10_17"]
[57040,"VTA_10_18","ASESOR DE VENTAS 18",null,null,null,null,null,null,null,null,null,null,null,null,null,null,"VTA_10_18"]
[57040,"VTA_10_19","ASESOR DE VENTAS 19",null,null,null,null,null,null,null,null,null,null,null,null,null,null,"VTA_10_19"]
[57040,"VTA_10_20","ASESOR DE VENTAS 20",null,null,null,null,null,null,null,null,null,null,null,null,null,null,"VTA_10_20"]
[57040,"VTA_10_21","ASESOR DE VENTAS 21",null,null,null,null,null,null,null,null,null,null,null,null,null,null,"VTA_10_21"]
[57040,"VTA_10_22","ASESOR DE VENTAS 22",null,null,null,null,null,null,null,null,null,null,null,null,null,null,"VTA_10_22"]
[57040,"VTA_10_23","ASESOR DE VENTAS 23",null,null,null,null,null,null,null,null,null,null,null,null,null,null,"VTA_10_23"]
[57040,"VTA_10_24","ASESOR DE VENTAS 24",null,null,null,null,null,null,null,null,null,null,null,null,null,null,"VTA_10_24"]
[57040,"VTA_10_25","ASESOR DE VENTAS 25",null,null,null,null,null,null,null,null,null,null,null,null,null,null,"VTA_10_25"]
[57040,"VTA_10_26","ASESOR DE VENTAS 26",null,null,null,null,null,null,null,null,null,null,null,null,null,null,"VTA_10_26"]
[57040,"VTA_10_27","ASESOR DE VENTAS 27",null,null,null,null,null,null,null,null,null,null,null,null,null,null,"VTA_10_27"]
[57040,"VTA_10_28","ASESOR DE VENTAS 28",null,null,null,null,null,null,null,null,null,null,null,null,null,null,"VTA_10_28"]
[57040,"VTA_10_29","ASESOR DE VENTAS 29",null,null,null,null,null,null,null,null,null,null,null,null,null,null,"VTA_10_29"]
[57040,"VTA_10_30","ASESOR DE VENTAS 30",null,null,null,null,null,null,null,null,null,null,null,null,null,null,"VTA_10_30"]
[57040,"VTA_10_31","ASESOR DE VENTAS 31",null,null,null,null,null,null,null,null,null,null,null,null,null,null,"VTA_10_31"]
[57040,"VTA_10_32","ASESOR DE VENTAS 32",null,null,null,null,null,null,null,null,null,null,null,null,null,null,"VTA_10_32"]
[57040,"VTA_10_33","ASESOR DE VENTAS 33",null,null,null,null,null,null,null,null,null,null,null,null,null,null,"VTA_10_33"]
[57040,"VTA_10_34","ASESOR DE VENTAS 34",null,null,null,null,null,null,null,null,null,null,null,null,null,null,"VTA_10_34"]
[57040,"VTA_10_35","ASESOR DE VENTAS 35",null,null,null,null,null,null,null,null,null,null,null,null,null,null,"VTA_10_35"]
[57040,"VTA_10_36","ASESOR DE VENTAS 36",null,null,null,null,null,null,null,null,null,null,null,null,null,null,"VTA_10_36"]
[57040,"VTA_10_37","ASESOR DE VENTAS 37",null,null,null,null,null,null,null,null,null,null,null,null,null,null,"VTA_10_37"]
[57040,"VTA_10_38","ASESOR DE VENTAS 38",null,null,null,null,null,null,null,null,null,null,null,null,null,null,"VTA_10_38"]
[57040,"VTA_10_39","ASESOR DE VENTAS 39",null,null,null,null,null,null,null,null,null,null,null,null,null,null,"VTA_10_39"]
[57040,"VTA_10_40","ASESOR DE VENTAS 40",null,null,null,null,null,null,null,null,null,null,null,null,null,null,"VTA_10_40"]
[57040,"VTA_11_01","ASESOR DE VENTAS COMO/SEMI 1",null,null,null,null,null,null,null,null,null,null,null,null,null,null,"VTA_11_01"]
[57040,"VTA_11_02","ASESOR DE VENTAS COMO/SEMI 2",null,null,null,null,null,null,null,null,null,null,null,null,null,null,"VTA_11_02"]
[57040,"VTA_11_03","ASESOR DE VENTAS COMO/SEMI 3",null,null,null,null,null,null,null,null,null,null,null,null,null,null,"VTA_11_03"]
[57040,"VTA_11_04","ASESOR DE VENTAS COMO/SEMI 4",null,null,null,null,null,null,null,null,null,null,null,null,null,null,"VTA_11_04"]
[57040,"VTA_11_05","ASESOR DE VENTAS COMO/SEMI 5",null,null,null,null,null,null,null,null,null,null,null,null,null,null,"VTA_11_05"]
[57040,"VTA_11_06","ASESOR DE VENTAS COMO/SEMI 6",null,null,null,null,null,null,null,null,null,null,null,null,null,null,"VTA_11_06"]
[57040,"VTA_11_07","ASESOR DE VENTAS COMO/SEMI 7",null,null,null,null,null,null,null,null,null,null,null,null,null,null,"VTA_11_07"]
[57040,"VTA_11_08","ASESOR DE VENTAS COMO/SEMI 8",null,null,null,null,null,null,null,null,null,null,null,null,null,null,"VTA_11_08"]
[57040,"VTA_11_09","ASESOR DE VENTAS COMO/SEMI 9",null,null,null,null,null,null,null,null,null,null,null,null,null,null,"VTA_11_09"]
[57040,"VTA_11_10","ASESOR DE VENTAS COMO/SEMI 10",null,null,null,null,null,null,null,null,null,null,null,null,null,null,"VTA_11_10"]
[]
[]
[]
[]
[]
[]
[]
[]
[]
[]
[]
[]
[]
[]
[]
[]
[]
[]
[]
[]
[]
[]
[]
[]
[]
[]
[]
[]
[]
[]
[]
[]
[]
[]
[]
[]
[]
[]
[]
[]
[]
[]
[]
[]
[]
[]
[]
[]
[]
[]
[]
[]
[]
[]
[]
[]
[]
[]
[]
[]
[]
[]
[]
[]
[]
[]
[]
[]
[]
[]
[]
[]
[]
[]
[]
[]
[]
[]
[]
[]
[]
[]
[]
[]
[]
[]
[]
[]
[]
[]
[]
[]
[]
[]
[]
[]
[]
[]
[]
[]
[]
[]
[]
[]
[]
[]
[]
[]
[]
[]
[]
[]
[]
[]
[]
[]
[]
[]
[]
[]
[]
[]
[]
[]
[]
[]
[]
[]
[]
[]
[]
[]
[]
[]
[]
[]
[]
[]
[]
[]
[]
[]
[]
[]
[]
[]
[]
[]
[]
[]
[]
[]
[]
[]
[]
[]
[]
[]
[]
[]
[]
[]
[]
[]
[]
[]
[]
[]
[]
[]
[]
[]
[]
[]
[]
[]
[]
[]
[]
[]
[]
[]
[]
[]
[]
[]
[]
[]
[]
[]
[]
[]
[]
[]
[]
[]
[]
[]
[]
[]
[]
[]
[]
[]
[]
[]
[]
[]
[]
[]
[]
[]
[]
[]
[]
[]
[]
[]
[]
[]
[]
[]
[]
[]
[]
[]
[]
[]
[]
[]
[]
[]
[]
[]
[]
[]
[]
[]
[]
[]
[]
[]
[]
[]
[]
[]
[]
[]
[]
[]
[]
[]
[]
[]
[]
[]
[]
[]
[]
[]
[]
[]
[]
[]
[]
[]
[]
[]
[]
[]
[]
[]
[]
[]
[]
[]
[]
[]
[]
[]
[]
[]
[]
[]
[]
[]
[]
[]
[]
[]
[]
[]
[]
[]
[]
[]
[]
[]
[]
[]
[]
[]
[]
[]
[]
[]
[]
[null,null,null,null," "]
[null,null,null,null," "]
[null,null,null,null," "]
[null,null,null,null," "]
[null,null,null,null," "]
[null,null,null,null," "]
[null,null,null,null," "]
[null,null,null,null," "]
[null,null,null,null," "]
[null,null,null,null," "]
[null,null,null,null," "]
[null,null,null,null," "]
[null,null,null,null," "]
[null,null,null,null," "]
[null,null,null,null," "]
[null,null,null,null," "]
[null,null,null,null," "]
[null,null,null,null," "]
[null,null,null,null," "]
[null,null,null,null," "]
[null,null,null,null," "]
[null,null,null,null," "]
[null,null,null,null," "]
[null,null,null,null," "]
[null,null,null,null," "]
[null,null,null,null," "]
[null,null,null,null," "]
[null,null,null,null," "]
[null,null,null,null," "]
[null,null,null,null," "]
[null,null,null,null," "]
[null,null,null,null," "]
[null,null,null,null," "]
[null,null,null,null," "]
[null,null,null,null," "]
[null,null,null,null," "]
[null,null,null,null," "]
[null,null,null,null," "]
[null,null,null,null," "]
[null,null,null,null," "]
[null,null,null,null," "]
[null,null,null,null," "]
[null,null,null,null," "]
[null,null,null,null," "]
[null,null,null,null," "]
[null,null,null,null," "]
[null,null,null,null," "]
[null,null,null,null," "]
[null,null,null,null," "]
[null,null,null,null," "]
[null,null,null,null," "]
[null,null,null,null," "]
[null,null,null,null," "]
[null,null,null,null," "]
[null,null,null,null," "]
[null,null,null,null," "]
[null,null,null,null," "]
[null,null,null,null," "]
[null,null,null,null," "]
[null,null,null,null," "]
[null,null,null,null," "]
[null,null,null,null," "]
[null,null,null,null," "]
[null,null,null,null," "]
[null,null,null,null," "]
[null,null,null,null," "]
[null,null,null,null," "]
[null,null,null,null," "]
[null,null,null,null," "]
[null,null,null,null," "]
[null,null,null,null," "]
[null,null,null,null," "]
[null,null,null,null," "]
[null,null,null,null," "]
[null,null,null,null," "]
[null,null,null,null," "]
[null,null,null,null," "]
[null,null,null,null," "]
[null,null,null,null," "]
[null,null,null,null," "]
[null,null,null,null," "]
[null,null,null,null," "]
[null,null,null,null," "]
[null,null,null,null," "]
[null,null,null,null," "]
[null,null,null,null," "]
[null,null,null,null," "]
[null,null,null,null," "]
[null,null,null,null," "]
[null,null,null,null," "]
[null,null,null,null," "]
[null,null,null,null," "]
[null,null,null,null," "]
[null,null,null,null," "]
[null,null,null,null," "]
[null,null,null,null," "]
[null,null,null,null," "]
[null,null,null,null," "]
[null,null,null,null," "]
[null,null,null,null," "]
[null,null,null,null," "]
[null,null,null,null," "]
[null,null,null,null," "]
[null,null,null,null," "]
[null,null,null,null," "]
[null,null,null,null," "]
[null,null,null,null," "]
[null,null,null,null," "]
[null,null,null,null," "]
[null,null,null,null," "]
[null,null,null,null," "]
[null,null,null,null," "]
[null,null,null,null," "]
[null,null,null,null," "]
[null,null,null,null," "]
[null,null,null,null," "]
[null,null,null,null," "]
[null,null,null,null," "]
[null,null,null,null," "]
[null,null,null,null," "]
[null,null,null,null," "]
[null,null,null,null," "]
[null,null,null,null," "]
[null,null,null,null," "]
[null,null,null,null," "]
[null,null,null,null," "]
[null,null,null,null," "]
[null,null,null,null," "]
[null,null,null,null," "]
[null,null,null,null," "]
[null,null,null,null," "]
[null,null,null,null," "]
[null,null,null,null," "]
[null,null,null,null," "]
[null,null,null,null," "]
[null,null,null,null," "]
[null,null,null,null," "]
[null,null,null,null," "]
[null,null,null,null," "]
[null,null,null,null," "]
[null,null,null,null," "]
[null,null,null,null," "]
[null,null,null,null," "]
[null,null,null,null," "]
[null,null,null,null," "]
[null,null,null,null," "]
[null,null,null,null," "]
[null,null,null,null," "]
[null,null,null,null," "]
[null,null,null,null," "]
[null,null,null,null," "]
[null,null,null,null," "]
[null,null,null,null," "]
[null,null,null,null," "]
[null,null,null,null," "]
[null,null,null,null," "]
[null,null,null,null," "]
[null,null,null,null," "]
[null,null,null,null," "]
[null,null,null,null," "]
[null,null,null,null," "]
[null,null,null,null," "]
[null,null,null,null," "]
[null,null,null,null," "]
[null,null,null,null," "]
[null,null,null,null," "]
[null,null,null,null," "]
[null,null,null,null," "]
[null,null,null,null," "]
[null,null,null,null," "]
[null,null,null,null," "]
[null,null,null,null," "]
[null,null,null,null," "]
[null,null,null,null," "]
[null,null,null,null," "]
[null,null,null,null," "]
[null,null,null,null," "]
[null,null,null,null," "]
[null,null,null,null," "]
[null,null,null,null," "]
[null,null,null,null," "]
[null,null,null,null," "]
[null,null,null,null," "]
[null,null,null,null," "]
[null,null,null,null," "]
[null,null,null,null," "]
[null,null,null,null," "]
[null,null,null,null," "]
[null,null,null,null," "]
[null,null,null,null," "]
[null,null,null,null," "]
[null,null,null,null," "]
[null,null,null,null," "]
[null,null,null,null," "]
[null,null,null,null," "]
[null,null,null,null," "]
[null,null,null,null," "]
[null,null,null,null," "]
[null,null,null,null," "]
[null,null,null,null," "]
[null,null,null,null," "]
[null,null,null,null," "]
[null,null,null,null," "]
[null,null,null,null," "]
[null,null,null,null," "]
[null,null,null,null," "]
[null,null,null,null," "]
[null,null,null,null," "]
[null,null,null,null," "]
[null,null,null,null," "]
[null,null,null,null," "]
[null,null,null,null," "]
[null,null,null,null," "]
[null,null,null,null," "]
[null,null,null,null," "]
[null,null,null,null," "]
[null,null,null,null," "]
[null,null,null,null," "]
[null,null,null,null," "]
[null,null,null,null," "]
[null,null,null,null," "]
[null,null,null,null," "]
[null,null,null,null," "]
[null,null,null,null," "]
[null,null,null,null," "]
[null,null,null,null," "]
[null,null,null,null," "]
[null,null,null,null," "]
[null,null,null,null," "]
[null,null,null,null," "]
[null,null,null,null," "]
[null,null,null,null," "]
[null,null,null,null," "]
[null,null,null,null," "]
[null,null,null,null," "]
[null,null,null,null," "]
[null,null,null,null," "]
[null,null,null,null," "]
[null,null,null,null," "]
[null,null,null,null," "]
[null,null,null,null," "]
[null,null,null,null," "]
[null,null,null,null," "]
[null,null,null,null," "]
[null,null,null,null," "]
[null,null,null,null," "]
[null,null,null,null," "]
[null,null,null,null," "]
[null,null,null,null," "]
[null,null,null,null," "]
[null,null,null,null," "]
[null,null,null,null," "]
[null,null,null,null," "]
[null,null,null,null," "]
[null,null,null,null," "]
[null,null,null,null," "]
[null,null,null,null," "]
[null,null,null,null," "]
[null,null,null,null," "]
[null,null,null,null," "]
[null,null,null,null," "]
[null,null,null,null," "]
[null,null,null,null," "]
[null,null,null,null," "]
[null,null,null,null," "]
[null,null,null,null," "]
[null,null,null,null," "]
[null,null,null,null," "]
[null,null,null,null," "]
[null,null,null,null," "]
[null,null,null,null," "]
[null,null,null,null," "]
[null,null,null,null," "]
[null,null,null,null," "]
[null,null,null,null," "]
[null,null,null,null," "]
[null,null,null,null," "]
[null,null,null,null," "]
[null,null,null,null," "]
[null,null,null,null," "]
[null,null,null,null," "]
[null,null,null,null," "]
[null,null,null,null," "]
[null,null,null,null," "]
[null,null,null,null," "]
[null,null,null,null," "]
[null,null,null,null," "]
[null,null,null,null," "]
[null,null,null,null," "]
[null,null,null,null," "]
[null,null,null,null," "]
[null,null,null,null," "]
[null,null,null,null," "]
[null,null,null,null," "]
[null,null,null,null," "]
[null,null,null,null," "]
[null,null,null,null," "]
[null,null,null,null," "]
[null,null,null,null," "]
[null,null,null,null," "]
[null,null,null,null," "]
[null,null,null,null," "]
[null,null,null,null," "]
[null,null,null,null," "]
[null,null,null,null," "]
[null,null,null,null," "]
[null,null,null,null," "]
[null,null,null,null," "]
[null,null,null,null," "]
[null,null,null,null," "]
[null,null,null,null," "]
[null,null,null,null," "]
[null,null,null,null," "]
[null,null,null,null," "]
[null,null,null,null," "]
[null,null,null,null," "]
[null,null,null,null," "]
[null,null,null,null," "]
[null,null,null,null," "]
[null,null,null,null," "]
[null,null,null,null," "]
[null,null,null,null," "]
[null,null,null,null," "]
[null,null,null,null," "]
[null,null,null,null," "]
[null,null,null,null," "]
[null,null,null,null," "]
[null,null,null,null," "]
[null,null,null,null," "]
[null,null,null,null," "]
[null,null,null,null," "]
[null,null,null,null," "]
[null,null,null,null," "]
[null,null,null,null," "]
[null,null,null,null," "]
[null,null,null,null," "]
[null,null,null,null," "]
[null,null,null,null," "]
[null,null,null,null," "]
[null,null,null,null," "]
[null,null,null,null," "]
[null,null,null,null," "]
[null,null,null,null," "]
[null,null,null,null," "]
[null,null,null,null," "]
[null,null,null,null," "]
[null,null,null,null," "]
[null,null,null,null," "]
[null,null,null,null," "]
[null,null,null,null," "]
[null,null,null,null," "]
[null,null,null,null," "]
[null,null,null,null," "]
[null,null,null,null," "]
[null,null,null,null," "]
[null,null,null,null," "]
[null,null,null,null," "]
[null,null,null,null," "]
[null,null,null,null," "]
[null,null,null,null," "]
[null,null,null,null," "]
[null,null,null,null," "]
[null,null,null,null," "]
[null,null,null,null," "]
[null,null,null,null," "]
[null,null,null,null," "]
[null,null,null,null," "]
[null,null,null,null," "]
[null,null,null,null," "]
[null,null,null,null," "]
[null,null,null,null," "]
[null,null,null,null," "]
[null,null,null,null," "]
[null,null,null,null," "]
[null,null,null,null," "]
[null,null,null,null," "]
[null,null,null,null," "]
[null,null,null,null," "]
[null,null,null,null," "]
[null,null,null,null," "]
[null,null,null,null," "]
[null,null,null,null," "]
[null,null,null,null," "]
[null,null,null,null," "]
[null,null,null,null," "]
[null,null,null,null," "]
[null,null,null,null," "]
[null,null,null,null," "]
[null,null,null,null," "]
[null,null,null,null," "]
[null,null,null,null," "]
[null,null,null,null," "]
[null,null,null,null," "]
[null,null,null,null," "]
[null,null,null,null," "]
[null,null,null,null," "]
[null,null,null,null," "]
[null,null,null,null," "]
[null,null,null,null," "]
[null,null,null,null," "]
[null,null,null,null," "]
[null,null,null,null," "]
[null,null,null,null," "]
[null,null,null,null," "]
[null,null,null,null," "]
[null,null,null,null," "]
[null,null,null,null," "]
[null,null,null,null," "]
[null,null,null,null," "]
[null,null,null,null," "]
[null,null,null,null," "]
[null,null,null,null," "]
[null,null,null,null," "]
[null,null,null,null," "]
[null,null,null,null," "]
[null,null,null,null," "]
[null,null,null,null," "]
[null,null,null,null," "]
[null,null,null,null," "]
[null,null,null,null," "]
[null,null,null,null," "]
[null,null,null,null," "]
[null,null,null,null," "]
[null,null,null,null," "]
[null,null,null,null," "]
[null,null,null,null," "]
[null,null,null,null," "]
[null,null,null,null," "]
[null,null,null,null," "]
[null,null,null,null," "]
[null,null,null,null," "]
[null,null,null,null," "]
[null,null,null,null," "]
[null,null,null,null," "]
[null,null,null,null," "]
[null,null,null,null," "]
[null,null,null,null," "]
[null,null,null,null," "]
[null,null,null,null," "]
[null,null,null,null," "]
[null,null,null,null," "]
[null,null,null,null," "]
[null,null,null,null," "]
[null,null,null,null," "]
[null,null,null,null," "]
[null,null,null,null," "]
[null,null,null,null," "]
[null,null,null,null," "]
[null,null,null,null," "]
[null,null,null,null," "]
[null,null,null,null," "]
[null,null,null,null," "]
[null,null,null,null," "]
[null,null,null,null," "]
[null,null,null,null," "]
[null,null,null,null," "]
[null,null,null,null," "]
[null,null,null,null," "]
[null,null,null,null," "]
[null,null,null,null," "]
[null,null,null,null," "]
[null,null,null,null," "]
[null,null,null,null," "]
[null,null,null,null," "]
[null,null,null,null," "]
[null,null,null,null," "]
[null,null,null,null," "]
[null,null,null,null," "]
[null,null,null,null," "]
[null,null,null,null," "]
[null,null,null,null," "]
[null,null,null,null," "]
[null,null,null,null," "]
[null,null,null,null," "]
[null,null,null,null," "]
[null,null,null,null," "]
[null,null,null,null," "]
[null,null,null,null," "]
[null,null,null,null," "]
[null,null,null,null," "]
[null,null,null,null," "]
[null,null,null,null," "]
[null,null,null,null," "]
[null,null,null,null," "]
[null,null,null,null," "]
[null,null,null,null," "]
[null,null,null,null," "]
[null,null,null,null," "]
[null,null,null,null," "]
[null,null,null,null," "]
[null,null,null,null," "]
[null,null,null,null," "]
[null,null,null,null," "]
[null,null,null,null," "]
[null,null,null,null," "]
[null,null,null,null," "]
[null,null,null,null," "]
[null,null,null,null," "]
[null,null,null,null," "]
[null,null,null,null," "]
[null,null,null,null," "]
[null,null,null,null," "]
[null,null,null,null," "]
[null,null,null,null," "]
[null,null,null,null," "]
[null,null,null,null," "]
[null,null,null,null," "]
[null,null,null,null," "]
[null,null,null,null," "]
[null,null,null,null," "]
[null,null,null,null," "]
[null,null,null,null," "]
[null,null,null,null," "]
[null,null,null,null," "]
[null,null,null,null," "]
[null,null,null,null," "]
[null,null,null,null," "]
[null,null,null,null," "]
[null,null,null,null," "]
[null,null,null,null," "]
[null,null,null,null," "]
[null,null,null,null," "]
[null,null,null,null," "]
[null,null,null,null," "]
[null,null,null,null," "]
[null,null,null,null," "]
[null,null,null,null," "]
[null,null,null,null," "]
[null,null,null,null," "]
[null,null,null,null," "]
[null,null,null,null," "]
[null,null,null,null," "]
[null,null,null,null," "]
[null,null,null,null," "]
[null,null,null,null," "]
[null,null,null,null," "]
[null,null,null,null," "]
[null,null,null,null," "]
[null,null,null,null," "]
[null,null,null,null," "]
[null,null,null,null," "]
[null,null,null,null," "]
[null,null,null,null," "]
[null,null,null,null," "]
[null,null,null,null," "]
[null,null,null,null," "]
[null,null,null,null," "]
[null,null,null,null," "]
[null,null,null,null," "]
[null,null,null,null," "]
[null,null,null,null," "]
[null,null,null,null," "]
[null,null,null,null," "]
[null,null,null,null," "]
[null,null,null,null," "]
[null,null,null,null," "]
[null,null,null,null," "]
[null,null,null,null," "]
[null,null,null,null," "]
[null,null,null,null," "]
[null,null,null,null," "]
[null,null,null,null," "]
[null,null,null,null," "]
[null,null,null,null," "]
[null,null,null,null," "]
[null,null,null,null," "]
[null,null,null,null," "]
[null,null,null,null," "]
[null,null,null,null," "]
[null,null,null,null," "]
[null,null,null,null," "]
[null,null,null,null," "]
[null,null,null,null," "]
[null,null,null,null," "]
[null,null,null,null," "]
[null,null,null,null," "]
[null,null,null,null," "]
[null,null,null,null," "]
[null,null,null,null," "]
[null,null,null,null," "]
[null,null,null,null," "]
[null,null,null,null," "]
[null,null,null,null," "]
[null,null,null,null," "]
[null,null,null,null," "]
[null,null,null,null," "]
[null,null,null,null," "]
[null,null,null,null," "]
[null,null,null,null," "]
[null,null,null,null," "]
[null,null,null,null," "]
[null,null,null,null," "]
[null,null,null,null," "]
[null,null,null,null," "]
[null,null,null,null," "]
[null,null,null,null," "]
[null,null,null,null," "]
[null,null,null,null," "]
[null,null,null,null," "]
[null,null,null,null," "]
[null,null,null,null," "]
[null,null,null,null," "]
[null,null,null,null," "]
[null,null,null,null," "]
[null,null,null,null," "]
[null,null,null,null," "]
[null,null,null,null," "]
[null,null,null,null," "]
[null,null,null,null," "]
[null,null,null,null," "]
[null,null,null,null," "]
[null,null,null,null," "]
[null,null,null,null," "]
[null,null,null,null," "]
[null,null,null,null," "]
[null,null,null,null," "]
[null,null,null,null," "]
[null,null,null,null," "]
[null,null,null,null," "]
[null,null,null,null," "]
[null,null,null,null," "]
[null,null,null,null," "]
[null,null,null,null," "]
[null,null,null,null," "]
[null,null,null,null," "]
[null,null,null,null," "]
[null,null,null,null," "]
[null,null,null,null," "]
[null,null,null,null," "]
[null,null,null,null," "]
[null,null,null,null," "]
[null,null,null,null," "]
[null,null,null,null," "]
[null,null,null,null," "]
[null,null,null,null," "]
[null,null,null,null," "]
[null,null,null,null," "]
[null,null,null,null," "]
[null,null,null,null," "]
[null,null,null,null," "]
[null,null,null,null," "]
[null,null,null,null," "]
[null,null,null,null," "]
[null,null,null,null," "]
[null,null,null,null," "]
[null,null,null,null," "]
[null,null,null,null," "]
[null,null,null,null," "]
[null,null,null,null," "]
[null,null,null,null," "]
[null,null,null,null," "]
[null,null,null,null," "]
[null,null,null,null," "]
[null,null,null,null," "]
[null,null,null,null," "]
[null,null,null,null," "]
[null,null,null,null," "]
[null,null,null,null," "]
[null,null,null,null," "]
[null,null,null,null," "]
[null,null,null,null," "]
[null,null,null,null," "]
[null,null,null,null," "]
[null,null,null,null," "]
[null,null,null,null," "]
[null,null,null,null," "]
[null,null,null,null," "]
[null,null,null,null," "]
[null,null,null,null," "]
[null,null,null,null," "]
[null,null,null,null," "]
[null,null,null,null," "]
[null,null,null,null," "]
[null,null,null,null," "]
[null,null,null,null," "]
[null,null,null,null," "]
[null,null,null,null," "]
[null,null,null,null," "]
[null,null,null,null," "]
[null,null,null,null," "]
[null,null,null,null," "]
[null,null,null,null," "]
[null,null,null,null," "]
[null,null,null,null," "]
[null,null,null,null," "]
[null,null,null,null," "]
[null,null,null,null," "]
[null,null,null,null," "]
[null,null,null,null," "]
[null,null,null,null," "]
[null,null,null,null," "]
[null,null,null,null," "]
[null,null,null,null," "]
[null,null,null,null," "]
[null,null,null,null," "]
[null,null,null,null," "]
[null,null,null,null," "]
[null,null,null,null," "]
[null,null,null,null," "]
[null,null,null,null," "]
[null,null,null,null," "]
[null,null,null,null," "]
[null,null,null,null," "]
[null,null,null,null," "]
[null,null,null,null," "]
[null,null,null,null," "]
[null,null,null,null," "]
[null,null,null,null," "]
[null,null,null,null," "]
[null,null,null,null," "]
[null,null,null,null," "]
[null,null,null,null," "]
[null,null,null,null," "]
[null,null,null,null," "]
[null,null,null,null," "]
[null,null,null,null," "]
[null,null,null,null," "]
[null,null,null,null," "]
[null,null,null,null," "]
[null,null,null,null," "]
[null,null,null,null," "]
[null,null,null,null," "]
[null,null,null,null," "]
[null,null,null,null," "]
[null,null,null,null," "]
[null,null,null,null," "]
[null,null,null,null," "]
[null,null,null,null," "]
[null,null,null,null," "]
[null,null,null,null," "]
[null,null,null,null," "]
[null,null,null,null," "]
[null,null,null,null," "]
[null,null,null,null," "]
[null,null,null,null," "]
[null,null,null,null," "]
[null,null,null,null," "]
[null,null,null,null," "]
[null,null,null,null," "]
[null,null,null,null," "]
[null,null,null,null," "]
[null,null,null,null," "]
[null,null,null,null," "]
[null,null,null,null," "]
[null,null,null,null," "]
[null,null,null,null," "]
[null,null,null,null," "]
[null,null,null,null," "]
[null,null,null,null," "]
[null,null,null,null," "]
[null,null,null,null," "]
[null,null,null,null," "]
[null,null,null,null," "]
[null,null,null,null," "]
[null,null,null,null," "]
[null,null,null,null," "]
[null,null,null,null," "]
[null,null,null,null," "]
[null,null,null,null," "]
[null,null,null,null," "]
[null,null,null,null," "]
[null,null,null,null," "]
[null,null,null,null," "]
[null,null,null,null," "]
[null,null,null,null," "]
[null,null,null,null," "]
[null,null,null,null," "]
[null,null,null,null," "]
[null,null,null,null," "]
[null,null,null,null," "]
[null,null,null,null," "]
[null,null,null,null," "]
[null,null,null,null," "]
[null,null,null,null," "]
[null,null,null,null," "]
[null,null,null,null," "]
[null,null,null,null," "]
[null,null,null,null," "]
[null,null,null,null," "]
[null,null,null,null," "]
[null,null,null,null," "]
[null,null,null,null," "]
[null,null,null,null," "]
[null,null,null,null," "]
[null,null,null,null," "]
[null,null,null,null," "]
[null,null,null,null," "]
[null,null,null,null," "]
[null,null,null,null," "]
[null,null,null,null," "]
[null,null,null,null," "]
[null,null,null,null," "]
[null,null,null,null," "]
[null,null,null,null," "]
[null,null,null,null," "]
[null,null,null,null," "]
[null,null,null,null," "]
[null,null,null,null," "]
[null,null,null,null," "]
[null,null,null,null," "]
[null,null,null,null," "]
[null,null,null,null," "]
[null,null,null,null," "]
[null,null,null,null," "]
[null,null,null,null," "]
[null,null,null,null," "]
[null,null,null,null," "]
[null,null,null,null," "]
[null,null,null,null," "]
[null,null,null,null," "]
[null,null,null,null," "]
[null,null,null,null," "]
[null,null,null,null," "]
[null,null,null,null," "]
[null,null,null,null," "]
[null,null,null,null," "]
[null,null,null,null," "]
[null,null,null,null," "]
[null,null,null,null," "]
[null,null,null,null," "]
[null,null,null,null," "]
[null,null,null,null," "]
[null,null,null,null," "]
[null,null,null,null," "]
[null,null,null,null," "]
[null,null,null,null," "]
[null,null,null,null," "]
[null,null,null,null," "]
[null,null,null,null," "]
[null,null,null,null," "]
[null,null,null,null," "]
[null,null,null,null," "]
[null,null,null,null," "]
[null,null,null,null," "]
[null,null,null,null," "]
[null,null,null,null," "]
[null,null,null,null," "]
[null,null,null,null," "]
[null,null,null,null," "]
[null,null,null,null," "]
[null,null,null,null," "]
[null,null,null,null," "]
[null,null,null,null," "]
[null,null,null,null," "]
[null,null,null,null," "]
[null,null,null,null," "]
[null,null,null,null," "]
[null,null,null,null," "]
[null,null,null,null," "]
[null,null,null,null," "]
[null,null,null,null," "]
[null,null,null,null," "]
[null,null,null,null," "]
[null,null,null,null," "]
[null,null,null,null," "]
[null,null,null,null," "]
[null,null,null,null," "]
[null,null,null,null," "]
[null,null,null,null," "]
[null,null,null,null," "]
[null,null,null,null," "]
[null,null,null,null," "]
[null,null,null,null," "]
[null,null,null,null," "]
[null,null,null,null," "]
[null,null,null,null," "]
[null,null,null,null," "]
[null,null,null,null," "]
[null,null,null,null," "]
[null,null,null,null," "]
[null,null,null,null," "]
[null,null,null,null," "]
[null,null,null,null," "]
[null,null,null,null," "]
[null,null,null,null," "]
[null,null,null,null," "]
[null,null,null,null," "]
[null,null,null,null," "]
[null,null,null,null," "]
[null,null,null,null," "]
[null,null,null,null," "]
[null,null,null,null," "]
[null,null,null,null," "]
[null,null,null,null," "]
[null,null,null,null," "]
[null,null,null,null," "]
[null,null,null,null," "]
[null,null,null,null," "]
[null,null,null,null," "]
[null,null,null,null," "]
[null,null,null,null," "]
[null,null,null,null," "]
[null,null,null,null," "]
[null,null,null,null," "]
[null,null,null,null," "]
[null,null,null,null," "]
[null,null,null,null," "]
[null,null,null,null," "]
[null,null,null,null," "]
[null,null,null,null," "]
[null,null,null,null," "]
[null,null,null,null," "]
[null,null,null,null," "]
[null,null,null,null," "]
[null,null,null,null," "]
[null,null,null,null," "]
[null,null,null,null," "]
[null,null,null,null," "]
[null,null,null,null," "]
[null,null,null,null," "]
[null,null,null,null," "]
[null,null,null,null," "]
[null,null,null,null," "]
[null,null,null,null," "]
[null,null,null,null," "]
[null,null,null,null," "]
[null,null,null,null," "]
[null,null,null,null," "]
[null,null,null,null," "]
[null,null,null,null," "]
[null,null,null,null," "]
[null,null,null,null," "]
[null,null,null,null," "]
[null,null,null,null," "]
[null,null,null,null," "]
[null,null,null,null," "]
[null,null,null,null," "]
[null,null,null,null," "]
[null,null,null,null," "]
[null,null,null,null," "]
[null,null,null,null," "]
[null,null,null,null," "]
[null,null,null,null," "]
[null,null,null,null," "]
[null,null,null,null," "]
[null,null,null,null," "]
[null,null,null,null," "]
[null,null,null,null," "]
[null,null,null,null," "]
[null,null,null,null," "]
[null,null,null,null," "]
[null,null,null,null," "]
[null,null,null,null," "]
[null,null,null,null," "]
[null,null,null,null," "]
[null,null,null,null," "]
[null,null,null,null," "]
[null,null,null,null," "]
[null,null,null,null," "]
[null,null,null,null," "]
[null,null,null,null," "]
[null,null,null,null," "]
[null,null,null,null," "]
[null,null,null,null," "]
[null,null,null,null," "]
[null,null,null,null," "]
[null,null,null,null," "]
[null,null,null,null," "]
[null,null,null,null," "]
[null,null,null,null," "]
[null,null,null,null," "]
[null,null,null,null," "]
[null,null,null,null," "]
[null,null,null,null," "]
[null,null,null,null," "]
[null,null,null,null," "]
[null,null,null,null," "]
[null,null,null,null," "]
[null,null,null,null," "]
[null,null,null,null," "]
[null,null,null,null," "]
[null,null,null,null," "]

{"sheet":"INSTRUCCIONES","index":10,"n_rows":86,"n_cols":10,"rows_kept":86,"cut":false,"hidden":false,"merged":[[55,6,57,12]]}
[]
[]
[null,null,null,null,null,null,null,null,null,"INSTRUCCIONES"]
[]
[]
[null,null,"GENERALES."]
[]
[null,null,"1)","Llenar cada una de las hojas en el órden en que se encuentran."]
[null,null,"2)","Llenar únicamente las celdas en blanco. "]
[null,null,"3)","La información que se requiera ingresar en números negativos, deberá ser ingresada sin ningún signo, el formato establecido en la celda "]
[null,null,null,"contempla el color rojo para estas cantidades, así como los cálculos en que son incluidos aplican el efecto negativo de dichos importes."]
[null,null,null,"(Ej. Depreciaciones  pestaña Balance)."]
[null,null,"4)","Ingresar información exclusivamente del periodo de que se trate."]
[null,null,"5)","El reporte debe ser entregado al área de Desarrollo de Mercados a más tardar los días 10 con  la información del mes anterior, en caso de que el día "]
[null,null,null,"de entrega coincida con uno no laboral la fecha de entrega será el día hábil inmediato posterior."]
[null,null,"6)","Los dealers de recién apertura tendrán un periodo de gracia de 90 días o 3 meses para la entrega de su primer reporte el cual deberá "]
[null,null,null,"contener la información desde su apertura hasta el periodo que reportan."]
[]
[null,null,"HOJA DE DATOS."]
[]
[null,null,"1)","Se ingresan datos generales del Dealer, inventario inicial del año en curso y el número de unidades nuevas adquiridas vía compra."]
[null,null,"2)","En el apartado Número de Empleados se ingresa, por periodo, el número de personal total y de acuerdo a su clasificación."]
[null,null,null,"si son personal de nómina o externos."]
[null,null,"3)","En la celda de intercambios recibidos se refiere a unidades recibidas de otros distribuidores Toyota y NO de Toyota de México."]
[]
[null,null,"HOJA DE AUTOS NUEVOS."]
[]
[null,null,"1)","Ingresar en el campo correspondiente la información relativa, al número de unidades nuevas vendidas, por modelo, importe de la venta"]
[null,null,null,"e importe del costo respectivo."]
[null,null,"2)","Ingresar en el campo correspondiente la información relativa, al número de unidades de COMONUEVOS y usadas vendidas, por modelo, "]
[null,null,null,"importe de la venta e importe del costo respectivo."]
[]
[null,null,"HOJA DE SERVICIO."]
[]
[null,null,"1)","Ingresar la información relativa a número de órdenes y sus importes de ingresos en los conceptos de servicio, hojalatería y pintura, y refacciones."]
[null,null,"2)","Ingresar la información relativa a horas utilizadas de mano de obra por servicio."]
[null,null,"3)","Ingresar la información relativa al número de espacios productivos para servicio."]
[null,null,"4)","Ingresar la información relativa al número de Técnicos y Técnicos certificados para servicio."]
[]
[null,null,"HOJA DE ESTADO DE RESULTADOS."]
[]
[null,null,"1)","Ingresar la información relativa a los resultados del periodo exclusivamente en las celdas blancas, referentes a utilidades brutas y gastos "]
[null,null,null,"(venta, operación, indirectos y administrativos) así como otros ingresos."]
[null,null,"2)","En el renglón de Gastos Corporativos se deben incluir todos los gastos extemporáneos y/o que no correspondan a la operación real "]
[null,null,null,"como por ejemplo, gastos por estrategia fiscal, etc."]
[]
[null,null,"HOJA DE BALANCE."]
[]
[null,null,"1)","Ingresar la información relativa al Estado de Posición Financiera (BALANCE GENERAL) del periodo, cuidando que las cifras cuadren al final del "]
[null,null,null,"reporte, para ello, los últimos dos renglones del reporte generan una diferencia de forma automática entre el Activo Total y el Pasivo y Capital,"]
[null,null,null,"mostrando en todo momento la posible diferencia y validando (\"OK\") o mostrando \"ERROR\" en su caso."]
[null,null,"2)","Ingresar en el encabezado del reporte, el nombre de la persona que preparo dicho reporte."]
[]
[]
[]
[null,null,null,null,null,null,"NOTAS IMPORTANTES"]
[]
[]
[]
[]
[null,null,"1)","No cambiar el orden de las hojas ni sus nombres para garantizar la veracidad de la información."]
[null,null,"2)","No modificar información de periodos anteriores al mes de que se trata, ya que dicha información a sido validada como definitiva."]
[null,null,"3)","La información contenida en este reporte es para uso exclusivo del personal de TMEX, y es completamente confidencial. "]
[null,null,"4)","Solo ingresar información en las celdas en color blanco."]
[null,null,"5)","No ingresar información y/o modificar las celdas en color ya que se  encuentran formuladas."]
[null,null,"6)","En las hoja de \"REPORTE\" no se deberá ingresar ningún tipo de información, esta hoja concentra de forma automática"]
[null,null,null,"datos relevantes y calcula índices,  a fin de contar con un reporte actualizado de la "]
[null,null,null,"información relevante del periodo y acumulada del año. Dicho reporte puede ser consultado (sin modificar) por el Distribuidor."]
[null,null,"7)","Se sugiere que la entrega del DFS se prevea a fin de evitar que esta se haga en la fecha límite, con el propósito de evitar premuras y posibles"]
[null,null,null,"errores en la información."]
[null,null,"8)","Ingresar solo valores en las celdas, cuidar no hacer referencias de datos en equipos locales ya que se origina un error en el reporte."]
[null,null,"9)","Cualquier consulta relativa al DFS se puede dirigir al Departamento de Desarrollo de Mercados:"]
[null,null,null,"Sergio Ramírez Ramírez",null,null,null,null,"Andrea González Hanson"]
[null,null,null,"Tel. Directo: 91-77-35-93",null,null,null,null,"Tel. Directo: 91-77-35-41"]
[null,null,null,"E-mail: ","sergio_ramirez@toyota.com",null,null,null,"E-mail: ","andrea_gonzalez@toyota.com"]
[]
[]
[]
[null,null,null,null,null,null,null,null,null,"GLOSARIO"]
[]
[]
[]
[]
[null,null,"DFS:",null,null,"Dealer Financial Statement (Situación Financiera del Distribuidor)"]
[null,null,"CPUS:",null,null,"Unidades atendidas pagadas por el cliente"]
[null,null,"TUS: ",null,null,"Total de Unidades atendidas"]

{"sheet":"DATOS1","index":11,"n_rows":61,"n_cols":24,"rows_kept":61,"cut":false,"hidden":false,"merged":[[116,6,116,7],[116,8,116,9],[117,6,117,7],[117,8,117,9],[118,6,118,7],[118,8,118,9],[113,6,113,7],[113,8,113,9],[114,6,114,7],[114,8,114,9],[115,6,115,7],[115,8,115,9],[26,17,26,19],[1,6,3,12],[1,14,3,19],[8,2,8,3],[8,16,8,19],[9,2,9,7],[9,16,9,19],[10,2,10,7],[11,2,11,7],[13,1,14,16],[23,6,24,12],[26,14,26,16]]}
[]
[null,null,null,null,null,null,"DATOS GENERALES",null,null,null,null,null,null,null,"DFS 2015 V1",null,null,null,null,null,null,"Buttons for use by Toyota Mexico only:"]
[]
[null,null,null,null,null,null,null,null,null,null,null,null,null,null,null,null,null,null,null,null,null,null,null,"Send the contents of this"]
[null,null,null,null,null,null,null,null,null,null,null,null,null,null,null,null,null,null,null,null,null,null,null,"workbook to Essbase"]
[]
[]
[null,null,null,null,null,null,null,null,null,null,null,null,null,null,null,null,null,null,null,null,null,null,null,"Run the Calc Script on Essbase"]
[null,"Código De Dealer",57040,null,null,null,null,null,null,null,null,"Hoja Acumulada al mes de:",null,null,null,null,"ENERO"]
[null,"Nombre","TOYOTA CELAYA",null,null,null,null,null,null,null,null,"Año:",null,null,null,null,2015,null,null,null,null,null,null,"Password Required for Access"]
[null,"Ciudad","CELAYA"]
[null,"Estado","QUERETARO"]
[]
[null,"INVENTARIOS (unidades nuevas)"]
[]
[]
[null,null,null,null,"Ene","Feb","Mar","Abr","May","Jun","Jul","Ago","Sep","Oct","Nov","Dec"]
[null,null,null,null,{"$f":"$Q$10","v":2015},{"$f":"$Q$10","v":2015},2015,2015,2015,2015,2015,2015,2015,2015,2015,2015]
["IN001","Inventario Inicial (Unidades)",null,null,139,{"$f":"E22","v":137},137,137,137,137,137,137,137,137,137,137]
["IN002","Compras (Unidades)",null,null,58,0,0,0,0,0,0,0,0,0,0,0]
["IN003","Intercambios Recibidos",null,null,33,0,0,0,0,0,0,0,0,0,0,0]
["IN004","Inventario Final",null,null,{"$f":"(E19+E20)-'AUTOS NUEVOS1'!C31+E21-'AUTOS NUEVOS1'!C30","v":137},{"$f":"(F19+F20)-'AUTOS NUEVOS1'!F31+F21-'AUTOS NUEVOS1'!F30","v":137},{"$f":"(G19+G20)-'AUTOS NUEVOS1'!I31+G21-'AUTOS NUEVOS1'!I30","v":137},{"$f":"(H19+H20)-'AUTOS NUEVOS1'!L31+H21-'AUTOS NUEVOS1'!L30","v":137},{"$f":"(I19+I20)-'AUTOS NUEVOS1'!O31+I21-'AUTOS NUEVOS1'!O30","v":137},{"$f":"(J19+J20)-'AUTOS NUEVOS1'!R31+J21-'AUTOS NUEVOS1'!R30","v":137},{"$f":"(K19+K20)-'AUTOS NUEVOS1'!C62+K21-'AUTOS NUEVOS1'!C61","v":137},{"$f":"(L19+L20)-'AUTOS NUEVOS1'!F62+L21-'AUTOS NUEVOS1'!F61","v":137},{"$f":"(M19+M20)-'AUTOS NUEVOS1'!I62+M21-'AUTOS NUEVOS1'!I61","v":137},{"$f":"(N19+N20)-'AUTOS NUEVOS1'!L62+N21-'AUTOS NUEVOS1'!L61","v":137},{"$f":"(O19+O20)-'AUTOS NUEVOS1'!O62+O21-'AUTOS NUEVOS1'!O61","v":137},{"$f":"(P19+P20)-'AUTOS NUEVOS1'!R62+P21-'AUTOS NUEVOS1'!R61","v":137}]
[]
[null,null,null,null,null,null,"NÚMERO DE EMPLEADOS"]
[]
[]
[null,"CONCEPTO","Ene","Feb","Mar","Abr","May","Jun","Jul","Ago","Sep","Oct","Nov","Dic","EN NOMINA",null,null,"EXTERNOS"]
[]
[1,"VENTAS"]
["RHV01","Gerente",1,0,0,0,0,0,0,0,0,0,0,0,null,null,null,null,1]
["RHV02","Administrativos de Ventas",3,0,0,0,0,0,0,0,0,0,0,0,null,null,null,null,3]
["RHV03","Asesores de Ventas",15,0,0,0,0,0,0,0,0,0,0,0,null,null,null,null,15]
["RHV04","Otros",1,0,0,0,0,0,0,0,0,0,0,0,null,null,null,null,1]
[null,"Total",{"$f":"SUM(C30:C33)","v":20},{"$f":"SUM(D30:D33)","v":0},{"$f":"SUM(E30:E33)","v":0},0,0,0,{"$f":"SUM(I30:I33)","v":0},{"$f":"SUM(J30:J33)","v":0},0,0,{"$f":"SUM(M30:M33)","v":0},0]
[null,"ADMINISTRATIVOS"]
["RHA01","Gerente",1,0,0,0,0,0,0,0,0,0,0,0,null,null,null,null,1]
["RHA02","Contador",1,0,0,0,0,0,0,0,0,0,0,0,null,null,null,null,1]
["RHA03","Asistente",1,0,0,0,0,0,0,0,0,0,0,0,null,null,null,null,1]
["RHA04","Otros",1,0,0,0,0,0,0,0,0,0,0,0,null,null,null,null,1]
[null,"Total",{"$f":"SUM(C36:C39)","v":4},{"$f":"SUM(D36:D39)","v":0},{"$f":"SUM(E36:E39)","v":0},0,0,0,{"$f":"SUM(I36:I39)","v":0},{"$f":"SUM(J36:J39)","v":0},0,0,{"$f":"SUM(M36:M39)","v":0},0]
[null,"COMONUEVOS"]
["RHC01","Gerente ",1,0,0,0,0,0,0,0,0,0,0,0,null,null,null,null,1]
["RHC02","Vendedores",2,0,0,0,0,0,0,0,0,0,0,0,null,null,null,null,2]
["RHC03","Otros",0,0,0,0,0,0,0,0,0,0,0,0,null,null,null,null,0]
[null,"Total",{"$f":"SUM(C42:C44)","v":3},{"$f":"SUM(D42:D44)","v":0},{"$f":"SUM(E42:E44)","v":0},0,0,0,{"$f":"SUM(I42:I44)","v":0},{"$f":"SUM(J42:J44)","v":0},0,0,{"$f":"SUM(M42:M44)","v":0},0]
[null,"POST-VENTA"]
["RHP01","Gerente de Post-Venta",1,0,0,0,0,0,0,0,0,0,0,0,null,null,null,null,1]
["RHP02","Gerente de Refacciones",1,0,0,0,0,0,0,0,0,0,0,0,null,null,null,null,1]
["RHP03","Refacciones: Almacenistas",1,0,0,0,0,0,0,0,0,0,0,0,null,null,null,null,1]
["RHP04","Ref.: Most. y Ventanilla Taller",1,0,0,0,0,0,0,0,0,0,0,0,null,null,null,null,1]
["RHP05","Gerente de Servicio",0,0,0,0,0,0,0,0,0,0,0,0,null,null,null,null,0]
["RHP06","Asesores de Servicio",2,0,0,0,0,0,0,0,0,0,0,0,null,null,null,null,2]
["RHP07","Técnicos ",5,0,0,0,0,0,0,0,0,0,0,0,null,null,null,null,5]
["RHP08","Ayudantes de Técnicos",0,0,0,0,0,0,0,0,0,0,0,0,null,null,null,null,0]
["RHP09","Previadores",2,0,0,0,0,0,0,0,0,0,0,0,null,null,null,null,2]
["RHP10","Lavadores",2,0,0,0,0,0,0,0,0,0,0,0,null,null,null,null,2]
["RHP11","Choferes",3,0,0,0,0,0,0,0,0,0,0,0,null,null,null,null,3]
["RHP12","Otros",2,0,0,0,0,0,0,0,0,0,0,0,null,null,null,null,2]
[null,"Total",{"$f":"SUM(C47:C58)","v":20},{"$f":"SUM(D47:D58)","v":0},0,0,0,0,0,0,0,0,0,0]
[null,"Total Agencia",{"$f":"C59+C45+C40+C34","v":47},{"$f":"D59+D45+D40+D34","v":0},0,0,0,0,0,0,0,0,0,0]
[null,null,31,28,31,30,31,30,31,31,30,31,30,31]

{"sheet":"AUTOS NUEVOS1","index":12,"n_rows":62,"n_cols":23,"rows_kept":62,"cut":false,"hidden":false,"merged":[[33,20,34,22],[34,2,34,4],[34,5,34,7],[34,8,34,10],[34,11,34,13],[34,14,34,16],[34,17,34,19],[33,2,33,4],[33,5,33,7],[33,8,33,10],[33,11,33,13],[33,14,33,16],[33,17,33,19],[4,17,4,19],[5,2,5,4],[5,5,5,7],[5,8,5,10],[5,11,5,13],[5,14,5,16],[5,17,5,19],[1,2,2,12],[1,14,1,15],[4,2,4,4],[4,5,4,7],[4,8,4,10],[4,11,4,13],[4,14,4,16]]}
[]
[null,null,"VENTA DE AUTOS POR MODELO",null,null,null,null,null,null,null,null,null,null,null,"# De Dealer",null,{"$f":"DATOS1!C9","v":57040}]
[]
[]
["ID_CUENTA","MODELO","Ene",null,null,"Feb",null,null,"Mar",null,null,"Abr",null,null,"May",null,null,"Jun"]
[null,null,{"$f":"DATOS1!$Q$10","v":2015},null,null,{"$f":"DATOS1!$Q$10","v":2015},null,null,{"$f":"DATOS1!$Q$10","v":2015},null,null,{"$f":"DATOS1!$Q$10","v":2015},null,null,{"$f":"DATOS1!$Q$10","v":2015},null,null,{"$f":"DATOS1!$Q$10","v":2015}]
[null,null,"#","$ Venta","$ Costo","#","$ Venta","$ Costo","#","$ Venta","$ Costo","#","$ Venta","$ Costo","#","$ Venta","$ Costo","#","$ Venta","$ Costo"]
["CAMRY","Camry",5,1583530,1361377,0,0,0,0,0,0,0,0,0,0,0,0,0,0,0]
["COROLLA","Corolla",7,1645856,1469456,0,0,0,0,0,0,0,0,0,0,0,0,0,0,0]
["MATRIX","Matrix",0,0,0,0,0,0,0,0,0,0,0,0,0,0,0,0,0,0]
["PRIUS","Prius",1,283747,264997,0,0,0,0,0,0,0,0,0,0,0,0,0,0,0]
["SIENNA","Sienna",2,815005,731789,0,0,0,0,0,0,0,0,0,0,0,0,0,0,0]
["LAND CRUISER","Land Cruiser",0,0,0,0,0,0,0,0,0,0,0,0,0,0,0,0,0,0]
["RAV4","Rav 4",7,2050941,1845911,0,0,0,0,0,0,0,0,0,0,0,0,0,0,0]
["YARIS","Yaris",12,2066256,1908561,0,0,0,0,0,0,0,0,0,0,0,0,0,0,0]
["HILUX-IMV","Hilux",3,687448,675910,0,0,0,0,0,0,0,0,0,0,0,0,0,0,0]
["HIACE","Hiace",1,285629,261561,0,0,0,0,0,0,0,0,0,0,0,0,0,0,0]
["TACOMA","Tacoma",4,1348768,1210704,0,0,0,0,0,0,0,0,0,0,0,0,0,0,0]
["AVANZA","Avanza",7,1214138,1123919,0,0,0,0,0,0,0,0,0,0,0,0,0,0,0]
["TUNDRA","Tundra",0,0,0,0,0,0,0,0,0,0,0,0,0,0,0,0,0,0]
["HIGHLANDER","Highlander",3,1318837,1166262,0,0,0,0,0,0,0,0,0,0,0,0,0,0,0]
["FJ CRUISER","FJ Cruiser",0,0,0,0,0,0,0,0,0,0,0,0,0,0,0,0,0,0]
["SEQUOIA","Sequoia",0,0,0,0,0,0,0,0,0,0,0,0,0,0,0,0,0,0]
[null,"Yaris (Modelo Azteca)",0,0,0,0,0,0,0,0,0,0,0,0,0,0,0,0,0,0]
[null,"NUEVOS MOD",0,0,0,0,0,0,0,0,0,0,0,0,0,0,0,0,0,0]
[null,"NUEVOS MOD",0,0,0,0,0,0,0,0,0,0,0,0,0,0,0,0,0,0]
["COMONUEVOS","COMONUEVOS",5,{"$f":"1060276+111628.26","v":1171904.26},{"$f":"972114+66948.95","v":1039062.95},0,0,0,0,0,0,0,0,0,0,0,0,0,0,0]
["USADOS TOYOTA","USADOS Toyota",0,0,0,0,0,0,0,0,0,0,0,0,0,0,0,0,0,0]
["USADOS OTROS","USADOS Otros",4,485655,401829,0,0,0,0,0,0,0,0,0,0,0,0,0,0,0]
["INTERCAMBIOS ","INTERCAMBIOS",41,9725362.3200000003,9723913.75,0,0,0,0,0,0,0,0,0,0,0,0,0,0,0]
[null,"TOTAL",{"$f":"SUM(C8:C30)-C27-C28-C29-C30","v":52},13300154.999999996,12020447,0,0,0,0,0,0,0,0,0,0,0,0,0,0,0]
[]
[]
[null,"MODELO","Jul",null,null,"Ago",null,null,"Sep",null,null,"Oct",null,null,"Nov",null,null,"Dic",null,null,"ACUMULADO"]
[null,null,{"$f":"DATOS1!$Q$10","v":2015},null,null,{"$f":"DATOS1!$Q$10","v":2015},null,null,{"$f":"DATOS1!$Q$10","v":2015},null,null,{"$f":"DATOS1!$Q$10","v":2015},null,null,{"$f":"DATOS1!$Q$10","v":2015},null,null,{"$f":"DATOS1!$Q$10","v":2015}]
[null,null,"#","$ Venta","$ Costo","#","$ Venta","$ Costo","#","$ Venta","$ Costo","#","$ Venta","$ Costo","#","$ Venta","$ Costo","#","$ Venta","$ Costo","#","$ Venta","$ Costo"]
[null,"Camry",0,0,0,0,0,0,0,0,0,0,0,0,0,0,0,0,0,0,{"$f":"+R37+O37+L37+I37+F37+C37+C8+F8+I8+L8+O8+R8","v":5},{"$f":"+S37+P37+M37+J37+G37+D37+D8+G8+J8+M8+P8+S8","v":1583530},1361377]
[null,"Corolla",0,0,0,0,0,0,0,0,0,0,0,0,0,0,0,0,0,0,7,1645856,{"$f":"+T38+Q38+N38+K38+H38+E38+E9+H9+K9+N9+Q9+T9","v":1469456}]
[null,"Matrix",0,0,0,0,0,0,0,0,0,0,0,0,0,0,0,0,0,0,{"$f":"+R39+O39+L39+I39+F39+C39+C10+F10+I10+L10+O10+R10","v":0},{"$f":"+S39+P39+M39+J39+G39+D39+D10+G10+J10+M10+P10+S10","v":0},{"$f":"+T39+Q39+N39+K39+H39+E39+E10+H10+K10+N10+Q10+T10","v":0}]
[null,null,0,0,0,0,0,0,0,0,0,0,0,0,0,0,0,0,0,0]
[null,null,0,0,0,0,0,0,0,0,0,0,0,0,0,0,0,0,0,0]
[null,"Prius",0,0,0,0,0,0,0,0,0,0,0,0,0,0,0,0,0,0,{"$f":"+R42+O42+L42+I42+F42+C42+C11+F11+I11+L11+O11+R11","v":1},283747,{"$f":"+T42+Q42+N42+K42+H42+E42+E11+H11+K11+N11+Q11+T11","v":264997}]
[null,"Sienna",0,0,0,0,0,0,0,0,0,0,0,0,0,0,0,0,0,0,2,815005,731789]
[null,"Land Cruiser",0,0,0,0,0,0,0,0,0,0,0,0,0,0,0,0,0,0,0,0,0]
[null,"Rav 4",0,0,0,0,0,0,0,0,0,0,0,0,0,0,0,0,0,0,7,2050941,1845911]
[null,"Yaris",0,0,0,0,0,0,0,0,0,0,0,0,0,0,0,0,0,0,12,2066256,1908561]
[null,"Hilux",0,0,0,0,0,0,0,0,0,0,0,0,0,0,0,0,0,0,3,687448,675910]
[null,"Hiace",0,0,0,0,0,0,0,0,0,0,0,0,0,0,0,0,0,0,1,285629,261561]
[null,"Tacoma",0,0,0,0,0,0,0,0,0,0,0,0,0,0,0,0,0,0,4,1348768,1210704]
[null,"Avanza",0,0,0,0,0,0,0,0,0,0,0,0,0,0,0,0,0,0,7,1214138,1123919]
[null,"Tundra",0,0,0,0,0,0,0,0,0,0,0,0,0,0,0,0,0,0,0,0,0]
[null,"Highlander",0,0,0,0,0,0,0,0,0,0,0,0,0,0,0,0,0,0,3,1318837,1166262]
[null,"FJ Cruiser",0,0,0,0,0,0,0,0,0,0,0,0,0,0,0,0,0,0,0,0,0]
[null,"Sequoia",0,0,0,0,0,0,0,0,0,0,0,0,0,0,0,0,0,0,0,0,0]
[null,"NUEVOS MOD",0,0,0,0,0,0,0,0,0,0,0,0,0,0,0,0,0,0,0,0,0]
[null,"NUEVOS MOD",0,0,0,0,0,0,0,0,0,0,0,0,0,0,0,0,0,0,0,0,0]
[null,"NUEVOS MOD",0,0,0,0,0,0,0,0,0,0,0,0,0,0,0,0,0,0,0,0,0]
[null,"COMONUEVOS Toyota",0,0,0,0,0,0,0,0,0,0,0,0,0,0,0,0,0,0,5,1171904.26,1039062.95]
[null,"USADOS Toyota",0,0,0,0,0,0,0,0,0,0,0,0,0,0,0,0,0,0,0,0,0]
[null,"USADOS Otros",0,0,0,0,0,0,0,0,0,0,0,0,0,0,0,0,0,0,4,485655,401829]
[null,"INTERCAMBIOS",0,0,0,0,0,0,0,0,0,0,0,0,0,0,0,0,0,0,41,9725362.3200000003,9723913.75]
[null,"TOTAL",{"$f":"SUM(C37:C61)-C61-C60-C59-C58","v":0},0,0,0,0,0,0,0,0,0,0,0,0,0,0,0,0,0,{"$f":"R62+O62+L62+I62+F62+C62+C31+F31+I31+L31+O31+R31","v":52},{"$f":"S62+P62+M62+J62+G62+D62+D31+G31+J31+M31+P31+S31","v":13300154.999999996},{"$f":"T62+Q62+N62+K62+H62+E62+E31+H31+K31+N31+Q31+T31","v":12020447}]

{"sheet":"SERVICIO1","index":13,"n_rows":92,"n_cols":28,"rows_kept":92,"cut":false,"hidden":false,"merged":[[87,16,87,17],[87,18,87,19],[87,20,87,21],[87,22,87,23],[87,24,87,25],[87,26,87,27],[85,22,86,23],[85,24,86,25],[85,26,86,27],[85,16,86,17],[85,18,86,19],[85,20,86,21],[87,2,87,3],[87,4,87,5],[87,6,87,7],[87,8,87,9],[87,10,87,11],[87,12,87,13],[87,14,87,15],[85,10,86,11],[85,12,86,13],[85,14,86,15],[83,18,84,19],[83,20,84,21],[83,22,84,23],[83,24,84,25],[83,26,84,27],[85,1,86,1],[85,2,86,3],[85,4,86,5],[85,6,86,7],[85,8,86,9],[83,1,84,1],[83,2,84,3],[83,4,84,5],[83,6,84,7],[83,8,84,9],[83,10,84,11],[83,12,84,13],[83,14,84,15],[83,16,84,17],[79,24,79,25],[79,26,79,27],[82,2,82,3],[82,4,82,5],[82,6,82,7],[82,8,82,9],[82,10,82,11],[82,12,82,13],[82,26,82,27],[82,14,82,15],[82,16,82,17],[82,18,82,19],[82,20,82,21],[82,22,82,23],[82,24,82,25],[78,26,78,27],[79,2,79,3],[79,4,79,5],[79,6,79,7],[79,8,79,9],[79,10,79,11],[79,12,79,13],[79,14,79,15],[79,16,79,17],[79,18,79,19],[78,14,78,15],[78,16,78,17],[78,18,78,19],[78,20,78,21],[78,22,78,23],[78,24,78,25],[78,2,78,3],[78,4,78,5],[78,6,78,7],[78,8,78,9],[78,10,78,11],[78,12,78,13],[79,20,79,21],[79,22,79,23],[76,14,76,15],[76,16,76,17],[76,18,76,19],[76,20,76,21],[76,22,76,23],[76,24,76,25],[73,20,73,21],[73,22,73,23],[73,24,73,25],[73,26,73,27],[76,2,76,3],[76,4,76,5],[76,6,76,7],[76,8,76,9],[76,10,76,11],[76,12,76,13],[72,26,72,27],[73,2,73,3],[73,4,73,5],[73,6,73,7],[73,8,73,9],[73,10,73,11],[73,12,73,13],[73,14,73,15],[73,16,73,17],[73,18,73,19],[72,14,72,15],[72,16,72,17],[72,18,72,19],[72,20,72,21],[72,22,72,23],[72,24,72,25],[72,2,72,3],[72,4,72,5],[72,6,72,7],[72,8,72,9],[72,10,72,11],[72,12,72,13],[71,16,71,17],[71,18,71,19],[71,20,71,21],[71,22,71,23],[71,24,71,25],[71,26,71,27],[67,24,67,25],[67,26,67,27],[69,8,69,9],[71,2,71,3],[71,4,71,5],[71,6,71,7],[71,8,71,9],[71,10,71,11],[71,12,71,13],[71,14,71,15],[67,12,67,13],[67,14,67,15],[67,16,67,17],[67,18,67,19],[67,20,67,21],[67,22,67,23],[66,18,66,19],[66,20,66,21],[66,22,66,23],[66,24,66,25],[66,26,66,27],[67,2,67,3],[67,4,67,5],[67,6,67,7],[67,8,67,9],[67,10,67,11],[66,2,66,3],[66,4,66,5],[66,6,66,7],[66,8,66,9],[66,10,66,11],[66,12,66,13],[66,14,66,15],[66,16,66,17],[65,12,65,13],[65,14,65,15],[65,16,65,17],[64,18,64,19],[64,20,64,21],[64,22,64,23],[64,24,64,25],[64,26,64,27],[65,2,65,3],[65,4,65,5],[65,6,65,7],[65,8,65,9],[65,10,65,11],[65,24,65,25],[65,26,65,27],[65,18,65,19],[65,20,65,21],[65,22,65,23],[64,2,64,3],[64,4,64,5],[64,6,64,7],[64,8,64,9],[64,10,64,11],[64,12,64,13],[64,14,64,15],[64,16,64,17],[63,12,63,13],[63,14,63,15],[63,16,63,17],[62,18,62,19],[62,20,62,21],[62,22,62,23],[62,24,62,25],[62,26,62,27],[63,2,63,3],[63,4,63,5],[63,6,63,7],[63,8,63,9],[63,10,63,11],[63,24,63,25],[63,26,63,27],[63,18,63,19],[63,20,63,21],[63,22,63,23],[62,2,62,3],[62,4,62,5],[62,6,62,7],[62,8,62,9],[62,10,62,11],[62,12,62,13],[62,14,62,15],[62,16,62,17],[61,12,61,13],[61,14,61,15],[61,16,61,17],[60,18,60,19],[60,20,60,21],[60,22,60,23],[60,24,60,25],[60,26,60,27],[61,2,61,3],[61,4,61,5],[61,6,61,7],[61,8,61,9],[61,10,61,11],[61,24,61,25],[61,26,61,27],[61,18,61,19],[61,20,61,21],[61,22,61,23],[60,2,60,3],[60,4,60,5],[60,6,60,7],[60,8,60,9],[60,10,60,11],[60,12,60,13],[60,14,60,15],[60,16,60,17],[59,12,59,13],[59,14,59,15],[59,16,59,17],[58,18,58,19],[58,20,58,21],[58,22,58,23],[58,24,58,25],[58,26,58,27],[59,2,59,3],[59,4,59,5],[59,6,59,7],[59,8,59,9],[59,10,59,11],[59,24,59,25],[59,26,59,27],[59,18,59,19],[59,20,59,21],[59,22,59,23],[58,2,58,3],[58,4,58,5],[58,6,58,7],[58,8,58,9],[58,10,58,11],[58,12,58,13],[58,14,58,15],[58,16,58,17],[57,12,57,13],[57,14,57,15],[57,16,57,17],[56,18,56,19],[56,20,56,21],[56,22,56,23],[56,24,56,25],[56,26,56,27],[57,2,57,3],[57,4,57,5],[57,6,57,7],[57,8,57,9],[57,10,57,11],[57,24,57,25],[57,26,57,27],[57,18,57,19],[57,20,57,21],[57,22,57,23],[56,2,56,3],[56,4,56,5],[56,6,56,7],[56,8,56,9],[56,10,56,11],[56,12,56,13],[56,14,56,15],[56,16,56,17],[55,12,55,13],[55,14,55,15],[55,16,55,17],[54,18,54,19],[54,20,54,21],[54,22,54,23],[54,24,54,25],[54,26,54,27],[55,2,55,3],[55,4,55,5],[55,6,55,7],[55,8,55,9],[55,10,55,11],[55,24,55,25],[55,26,55,27],[55,18,55,19],[55,20,55,21],[55,22,55,23],[54,2,54,3],[54,4,54,5],[54,6,54,7],[54,8,54,9],[54,10,54,11],[54,12,54,13],[54,14,54,15],[54,16,54,17],[53,12,53,13],[53,14,53,15],[53,16,53,17],[51,18,51,19],[51,20,51,21],[51,22,51,23],[51,24,51,25],[51,26,51,27],[53,2,53,3],[53,4,53,5],[53,6,53,7],[53,8,53,9],[53,10,53,11],[53,24,53,25],[53,26,53,27],[53,18,53,19],[53,20,53,21],[53,22,53,23],[51,2,51,3],[51,4,51,5],[51,6,51,7],[51,8,51,9],[51,10,51,11],[51,12,51,13],[51,14,51,15],[51,16,51,17],[50,12,50,13],[50,14,50,15],[50,16,50,17],[46,18,46,19],[46,20,46,21],[46,22,46,23],[46,24,46,25],[48,12,48,13],[48,14,48,15],[48,16,48,17],[48,18,48,19],[48,20,48,21],[48,22,48,23],[48,24,48,25],[46,26,46,27],[50,2,50,3],[50,4,50,5],[50,6,50,7],[50,8,50,9],[50,10,50,11],[50,24,50,25],[50,26,50,27],[50,18,50,19],[50,20,50,21],[50,22,50,23],[46,2,46,3],[46,4,46,5],[46,6,46,7],[46,8,46,9],[46,10,46,11],[46,12,46,13],[46,14,46,15],[46,16,46,17],[48,2,48,3],[48,4,48,5],[48,6,48,7],[48,8,48,9],[48,10,48,11],[44,12,44,13],[44,14,44,15],[44,16,44,17],[43,18,43,19],[43,20,43,21],[43,22,43,23],[43,24,43,25],[43,26,43,27],[44,2,44,3],[44,4,44,5],[44,6,44,7],[44,8,44,9],[44,10,44,11],[44,24,44,25],[44,26,44,27],[44,18,44,19],[44,20,44,21],[44,22,44,23],[43,2,43,3],[43,4,43,5],[43,6,43,7],[43,8,43,9],[43,10,43,11],[43,12,43,13],[43,14,43,15],[43,16,43,17],[42,12,42,13],[42,14,42,15],[42,16,42,17],[41,18,41,19],[41,20,41,21],[41,22,41,23],[41,24,41,25],[41,26,41,27],[42,2,42,3],[42,4,42,5],[42,6,42,7],[42,8,42,9],[42,10,42,11],[42,24,42,25],[42,26,42,27],[42,18,42,19],[42,20,42,21],[42,22,42,23],[41,2,41,3],[41,4,41,5],[41,6,41,7],[41,8,41,9],[41,10,41,11],[41,12,41,13],[41,14,41,15],[41,16,41,17],[40,12,40,13],[40,14,40,15],[40,16,40,17],[39,18,39,19],[39,20,39,21],[39,22,39,23],[39,24,39,25],[39,26,39,27],[40,2,40,3],[40,4,40,5],[40,6,40,7],[40,8,40,9],[40,10,40,11],[40,24,40,25],[40,26,40,27],[40,18,40,19],[40,20,40,21],[40,22,40,23],[36,24,36,25],[36,26,36,27],[38,1,39,1],[38,2,38,3],[38,4,38,5],[38,6,38,7],[38,8,38,9],[38,10,38,11],[38,24,38,25],[38,26,38,27],[39,2,39,3],[39,4,39,5],[39,6,39,7],[39,8,39,9],[39,10,39,11],[39,12,39,13],[39,14,39,15],[39,16,39,17],[38,12,38,13],[38,14,38,15],[38,16,38,17],[38,18,38,19],[38,20,38,21],[38,22,38,23],[35,2,35,3],[35,4,35,5],[35,6,35,7],[35,8,35,9],[35,10,35,11],[35,12,35,13],[35,26,35,27],[36,2,36,3],[36,4,36,5],[36,6,36,7],[36,8,36,9],[36,10,36,11],[36,12,36,13],[36,14,36,15],[36,16,36,17],[36,18,36,19],[35,14,35,15],[35,16,35,17],[35,18,35,19],[35,20,35,21],[35,22,35,23],[35,24,35,25],[36,20,36,21],[36,22,36,23],[33,26,33,27],[34,2,34,3],[34,4,34,5],[34,6,34,7],[34,8,34,9],[34,10,34,11],[34,12,34,13],[34,14,34,15],[34,16,34,17],[34,18,34,19],[33,14,33,15],[33,16,33,17],[33,18,33,19],[33,20,33,21],[33,22,33,23],[33,24,33,25],[34,20,34,21],[34,22,34,23],[34,24,34,25],[34,26,34,27],[33,2,33,3],[33,4,33,5],[33,6,33,7],[33,8,33,9],[33,10,33,11],[33,12,33,13],[31,10,31,11],[31,12,31,13],[31,14,31,15],[29,18,29,19],[29,20,29,21],[29,22,29,23],[29,24,29,25],[29,26,29,27],[31,1,32,1],[31,2,31,3],[31,4,31,5],[31,6,31,7],[31,8,31,9],[31,22,31,23],[31,24,31,25],[31,26,31,27],[32,2,32,3],[31,16,31,17],[31,18,31,19],[31,20,31,21],[29,2,29,3],[29,4,29,5],[29,6,29,7],[29,8,29,9],[29,10,29,11],[29,12,29,13],[29,14,29,15],[29,16,29,17],[22,12,22,13],[22,14,22,15],[22,16,22,17],[8,24,8,25],[8,26,8,27],[8,36,8,38],[22,2,22,3],[22,4,22,5],[22,6,22,7],[22,8,22,9],[22,10,22,11],[22,24,22,25],[22,26,22,27],[22,18,22,19],[22,20,22,21],[22,22,22,23],[1,5,1,6],[7,2,7,3],[7,4,7,5],[7,6,7,7],[7,8,7,9],[7,10,7,11],[7,24,7,25],[8,2,8,3],[8,4,8,5],[8,6,8,7],[8,8,8,9],[8,10,8,11],[8,12,8,13],[8,14,8,15],[8,16,8,17],[8,18,8,19],[7,12,7,13],[7,14,7,15],[7,16,7,17],[7,18,7,19],[7,20,7,21],[7,22,7,23],[8,20,8,21],[8,22,8,23],[48,26,48,27],[49,2,49,3],[49,4,49,5],[49,6,49,7],[49,8,49,9],[49,10,49,11],[49,12,49,13],[49,14,49,15],[49,16,49,17],[49,18,49,19],[49,20,49,21],[49,22,49,23],[49,24,49,25],[49,26,49,27],[52,20,52,21],[52,22,52,23],[52,24,52,25],[52,26,52,27],[52,2,52,3],[52,4,52,5],[52,6,52,7],[52,8,52,9],[52,10,52,11],[52,12,52,13],[52,14,52,15],[52,16,52,17],[52,18,52,19]]}
[]
[null,"SERVICIO",null,"# De Dealer",null,{"$f":"DATOS1!C9","v":57040}]
[null,"HOJALATERIA"]
[null,"PINTURA"]
[null,"REFACCIONES"]
[]
[]
[null,null,"Ene",null,"Feb",null,"Mar",null,"Abr",null,"May",null,"Jun",null,"Jul",null,"Ago",null,"Sep",null,"Oct",null,"Nov",null,"Dic"]
[null,null,{"$f":"DATOS1!$Q$10","v":2015},null,{"$f":"DATOS1!$Q$10","v":2015},null,{"$f":"DATOS1!$Q$10","v":2015},null,{"$f":"DATOS1!$Q$10","v":2015},null,{"$f":"DATOS1!$Q$10","v":2015},null,{"$f":"DATOS1!$Q$10","v":2015},null,{"$f":"DATOS1!$Q$10","v":2015},null,{"$f":"DATOS1!$Q$10","v":2015},null,{"$f":"DATOS1!$Q$10","v":2015},null,{"$f":"DATOS1!$Q$10","v":2015},null,{"$f":"DATOS1!$Q$10","v":2015},null,{"$f":"DATOS1!$Q$10","v":2015},null,"ACUMULADO"]
[null,null,"# de Ordenes","Monto","# de Ordenes","Monto","# de Ordenes","Monto","# de Ordenes","Monto","# de Ordenes","Monto","# de Ordenes","Monto","# de Ordenes","Monto","# de Ordenes","Monto","# de Ordenes","Monto","# de Ordenes","Monto","# de Ordenes","Monto","# de Ordenes","Monto","# de Ordenes","Monto"]
[null,"SERVICIO"]
["SER101","Mano de Obra - Cliente",523,{"$f":"488857.5+3579.72+2416.75","v":494853.97},0,0,0,0,0,0,0,0,0,0,0,0,0,0,0,0,0,0,0,0,0,0,{"$f":"+Y12+W12+U12+S12+Q12+O12+M12+K12+I12+G12+E12+C12","v":523},{"$f":"+Z12+X12+V12+T12+R12+P12+N12+L12+J12+H12+D12+F12","v":494853.97}]
["SER102","Mano de Obra - Garantía Toyota",59,17810,0,0,0,0,0,0,0,0,0,0,0,0,0,0,0,0,0,0,0,0,0,0,{"$f":"+Y13+W13+U13+S13+Q13+O13+M13+K13+I13+G13+E13+C13","v":59},{"$f":"+Z13+X13+V13+T13+R13+P13+N13+L13+J13+H13+D13+F13","v":17810}]
["SER103","Mano de Obra - Interna ",39,6627.5,0,0,0,0,0,0,0,0,0,0,0,0,0,0,0,0,0,0,0,0,0,0,{"$f":"+Y14+W14+U14+S14+Q14+O14+M14+K14+I14+G14+E14+C14","v":39},{"$f":"+Z14+X14+V14+T14+R14+P14+N14+L14+J14+H14+D14+F14","v":6627.5}]
["SER104","Mano de Obra - Previa Preparación de Autos Nuevos",91,5505.5,0,0,0,0,0,0,0,0,0,0,0,0,0,0,0,0,0,0,0,0,0,0,{"$f":"+Y15+W15+U15+S15+Q15+O15+M15+K15+I15+G15+E15+C15","v":91},{"$f":"+Z15+X15+V15+T15+R15+P15+N15+L15+J15+H15+D15+F15","v":5505.5}]
["SER105","Mano de Obra - Trabajo en Otros Talleres",8,{"$f":"690.69+226.3","v":916.99},0,0,0,0,0,0,0,0,0,0,0,0,0,0,0,0,0,0,0,0,0,0,{"$f":"+Y16+W16+U16+S16+Q16+O16+M16+K16+I16+G16+E16+C16","v":8},{"$f":"+Z16+X16+V16+T16+R16+P16+N16+L16+J16+H16+D16+F16","v":916.99}]
[null,"CPUS: Unidades atendidas pagadas por el cliente",{"$f":"C12","v":523},494853.97,0,0,0,0,0,0,0,0,0,0,0,0,0,0,0,0,0,0,0,0,0,0,523,494853.97]
[null,"TUS: Total de Unidades atendidas",{"$f":"SUM(C12:C15)","v":712},{"$f":"SUM(D12:D16)","v":525713.96},{"$f":"SUM(E12:E15)","v":0},{"$f":"SUM(F12:F16)","v":0},{"$f":"SUM(G12:G15)","v":0},{"$f":"SUM(H12:H16)","v":0},{"$f":"SUM(I12:I15)","v":0},{"$f":"SUM(J12:J16)","v":0},{"$f":"SUM(K12:K15)","v":0},{"$f":"SUM(L12:L16)","v":0},{"$f":"SUM(M12:M15)","v":0},{"$f":"SUM(N12:N16)","v":0},{"$f":"SUM(O12:O15)","v":0},{"$f":"SUM(P12:P16)","v":0},{"$f":"SUM(Q12:Q15)","v":0},{"$f":"SUM(R12:R16)","v":0},{"$f":"SUM(S12:S15)","v":0},{"$f":"SUM(T12:T16)","v":0},{"$f":"SUM(U12:U15)","v":0},{"$f":"SUM(V12:V16)","v":0},{"$f":"SUM(W12:W15)","v":0},{"$f":"SUM(X12:X16)","v":0},{"$f":"SUM(Y12:Y15)","v":0},{"$f":"SUM(Z12:Z16)","v":0},{"$f":"SUM(AA12:AA15)","v":712},{"$f":"SUM(AB12:AB16)","v":525713.96}]
[null,"TOTAL SERVICIO",{"$f":"SUM(C12:C15)","v":712},{"$f":"SUM(D12:D16)","v":525713.96},{"$f":"SUM(E12:E15)","v":0},{"$f":"SUM(F12:F16)","v":0},{"$f":"SUM(G12:G15)","v":0},{"$f":"SUM(H12:H16)","v":0},{"$f":"SUM(I12:I15)","v":0},{"$f":"SUM(J12:J16)","v":0},{"$f":"SUM(K12:K15)","v":0},{"$f":"SUM(L12:L16)","v":0},{"$f":"SUM(M12:M15)","v":0},{"$f":"SUM(N12:N16)","v":0},{"$f":"SUM(O12:O15)","v":0},{"$f":"SUM(P12:P16)","v":0},{"$f":"SUM(Q12:Q15)","v":0},{"$f":"SUM(R12:R16)","v":0},{"$f":"SUM(S12:S15)","v":0},{"$f":"SUM(T12:T16)","v":0},{"$f":"SUM(U12:U15)","v":0},{"$f":"SUM(V12:V16)","v":0},{"$f":"SUM(W12:W15)","v":0},{"$f":"SUM(X12:X16)","v":0},{"$f":"SUM(Y12:Y15)","v":0},{"$f":"SUM(Z12:Z16)","v":0},{"$f":"SUM(AA12:AA15)","v":712},{"$f":"SUM(AB12:AB16)","v":525713.96}]
[null,"HOJALATERIA Y PINTURA"]
["HYP101","Mano de Obra -  Hojalatería y Pintura - Cliente",24,87418.11,0,0,0,0,0,0,0,0,0,0,0,0,0,0,0,0,0,0,0,0,0,0,{"$f":"SUM(C21+E21+G21+I21+K21+M21+O21+Q21+S21+U21+W21+Y21)","v":24},{"$f":"SUM(D21+F21+H21+J21+L21+N21+P21+R21+T21+V21+X21+Z21)","v":87418.11}]
[null,"TOTAL HOJALATERIA Y PINTURA",{"$f":"C21","v":24},{"$f":"D21","v":87418.11},0,0,0,0,0,0,0,{"$f":"L21","v":0},0,0,0,0,0,0,0,0,0,{"$f":"V21","v":0},0,0,0,0,24,87418.11]
[null,"REFACCIONES"]
["REF101","Refacciones - Taller",594,{"$f":"413177.19+2031.37","v":415208.56},0,0,0,0,0,0,0,0,0,0,0,0,0,0,0,0,0,0,0,0,0,0,{"$f":"Y24+W24+U24+S24+Q24+O24+M24+K24+I24+G24+E24+C24","v":594},415208.56]
["REF102","Refacciones - Garantía ",9,160582.82999999999,0,0,0,0,0,0,0,0,0,0,0,0,0,0,0,0,0,0,0,0,0,0,9,160582.82999999999]
["REF103","Refacciones - Mostrador ",214,258730.49,0,0,0,0,0,0,0,0,0,0,0,0,0,0,0,0,0,0,0,0,0,0,214,258730.49]
["REF104","Refacciones - Accesorios",28,81347.13,0,0,0,0,0,0,0,0,0,0,0,0,0,0,0,0,0,0,0,0,0,0,28,81347.13]
["REF105","Refacciones - Hojalatería y Pintura ",22,422969.28,0,0,0,0,0,0,0,0,0,0,0,0,0,0,0,0,0,0,0,0,0,0,22,422969.28]
[null,"TOTAL REFACCIONES",{"$f":"SUM(C24:C28)","v":867},{"$f":"SUM(D24:D28)","v":1338838.29},0,0,0,0,0,0,0,{"$f":"SUM(L24:L28)","v":0},{"$f":"SUM(M24:M28)","v":0},{"$f":"SUM(N24:N28)","v":0},0,0,0,0,0,0,0,{"$f":"SUM(V24:V28)","v":0},0,0,0,0,867,1338838.29]
[null,"DÍAS DE INVENTARIO",{"$f":"IF(ISERROR((BALANCE!E47+BALANCE!E48+BALANCE!E49+BALANCE!E50)/(('ESTADO DE RESULTADOS1'!D23-'ESTADO DE RESULTADOS1'!D24)/25)),0,(BALANCE!E47+BALANCE!E48+BALANCE!E49+BALANCE!E50)/(('ESTADO DE RESULTADOS1'!D23-'ESTADO DE RESULTADOS1'!D24)/25))","v":3.5397052543516971},null,{"$f":"IF(ISERROR((BALANCE!F47+BALANCE!F48+BALANCE!F49+BALANCE!F50)/(('ESTADO DE RESULTADOS1'!E23-'ESTADO DE RESULTADOS1'!E24)/25)),0,(BALANCE!F47+BALANCE!F48+BALANCE!F49+BALANCE!F50)/(('ESTADO DE RESULTADOS1'!E23-'ESTADO DE RESULTADOS1'!E24)/25))","v":0},null,{"$f":"IF(ISERROR((BALANCE!G47+BALANCE!G48+BALANCE!G49+BALANCE!G50)/(('ESTADO DE RESULTADOS1'!F23-'ESTADO DE RESULTADOS1'!F24)/25)),0,(BALANCE!G47+BALANCE!G48+BALANCE!G49+BALANCE!G50)/(('ESTADO DE RESULTADOS1'!F23-'ESTADO DE RESULTADOS1'!F24)/25))","v":0},null,{"$f":"IF(ISERROR((BALANCE!H47+BALANCE!H48+BALANCE!H49+BALANCE!H50)/(('ESTADO DE RESULTADOS1'!G23-'ESTADO DE RESULTADOS1'!G24)/25)),0,(BALANCE!H47+BALANCE!H48+BALANCE!H49+BALANCE!H50)/(('ESTADO DE RESULTADOS1'!G23-'ESTADO DE RESULTADOS1'!G24)/25))","v":0},null,{"$f":"IF(ISERROR((BALANCE!I47+BALANCE!I48+BALANCE!I49+BALANCE!I50)/(('ESTADO DE RESULTADOS1'!H23-'ESTADO DE RESULTADOS1'!H24)/25)),0,(BALANCE!I47+BALANCE!I48+BALANCE!I49+BALANCE!I50)/(('ESTADO DE RESULTADOS1'!H23-'ESTADO DE RESULTADOS1'!H24)/25))","v":0},null,{"$f":"IF(ISERROR((BALANCE!J47+BALANCE!J48+BALANCE!J49+BALANCE!J50)/(('ESTADO DE RESULTADOS1'!I23-'ESTADO DE RESULTADOS1'!I24)/25)),0,(BALANCE!J47+BALANCE!J48+BALANCE!J49+BALANCE!J50)/(('ESTADO DE RESULTADOS1'!I23-'ESTADO DE RESULTADOS1'!I24)/25))","v":0},null,{"$f":"IF(ISERROR((BALANCE!K47+BALANCE!K48+BALANCE!K49+BALANCE!K50)/(('ESTADO DE RESULTADOS1'!J23-'ESTADO DE RESULTADOS1'!J24)/25)),0,(BALANCE!K47+BALANCE!K48+BALANCE!K49+BALANCE!K50)/(('ESTADO DE RESULTADOS1'!J23-'ESTADO DE RESULTADOS1'!J24)/25))","v":0},null,{"$f":"IF(ISERROR((BALANCE!L47+BALANCE!L48+BALANCE!L49+BALANCE!L50)/(('ESTADO DE RESULTADOS1'!K23-'ESTADO DE RESULTADOS1'!K24)/25)),0,(BALANCE!L47+BALANCE!L48+BALANCE!L49+BALANCE!L50)/(('ESTADO DE RESULTADOS1'!K23-'ESTADO DE RESULTADOS1'!K24)/25))","v":0},null,{"$f":"IF(ISERROR((BALANCE!M47+BALANCE!M48+BALANCE!M49+BALANCE!M50)/(('ESTADO DE RESULTADOS1'!L23-'ESTADO DE RESULTADOS1'!L24)/25)),0,(BALANCE!M47+BALANCE!M48+BALANCE!M49+BALANCE!M50)/(('ESTADO DE RESULTADOS1'!L23-'ESTADO DE RESULTADOS1'!L24)/25))","v":0},null,{"$f":"IF(ISERROR((BALANCE!N47+BALANCE!N48+BALANCE!N49+BALANCE!N50)/(('ESTADO DE RESULTADOS1'!M23-'ESTADO DE RESULTADOS1'!M24)/25)),0,(BALANCE!N47+BALANCE!N48+BALANCE!N49+BALANCE!N50)/(('ESTADO DE RESULTADOS1'!M23-'ESTADO DE RESULTADOS1'!M24)/25))","v":0},null,{"$f":"IF(ISERROR((BALANCE!O47+BALANCE!O48+BALANCE!O49+BALANCE!O50)/(('ESTADO DE RESULTADOS1'!N23-'ESTADO DE RESULTADOS1'!N24)/25)),0,(BALANCE!O47+BALANCE!O48+BALANCE!O49+BALANCE!O50)/(('ESTADO DE RESULTADOS1'!N23-'ESTADO DE RESULTADOS1'!N24)/25))","v":0},null,{"$f":"IF(ISERROR((BALANCE!P47+BALANCE!P48+BALANCE!P49+BALANCE!P50)/(('ESTADO DE RESULTADOS1'!O23-'ESTADO DE RESULTADOS1'!O24)/25)),0,(BALANCE!P47+BALANCE!P48+BALANCE!P49+BALANCE!P50)/(('ESTADO DE RESULTADOS1'!O23-'ESTADO DE RESULTADOS1'!O24)/25))","v":0},null,{"$f":"IF(ISERROR((SUM(BALANCE!E47:P47)+SUM(BALANCE!E48:P48)+SUM(BALANCE!E49:P49)+SUM(BALANCE!E50:P50))/(('ESTADO DE RESULTADOS1'!P23-'ESTADO DE RESULTADOS1'!P24)/25)),0,(SUM(BALANCE!E47:P47)+SUM(BALANCE!E48:P48)+SUM(BALANCE!E49:P49)+SUM(BALANCE!E50:P50))/(('ESTADO DE RESULTADOS1'!P23-'ESTADO DE RESULTADOS1'!P24)/25))","v":3.5397052543516971}]
[]
[null,"SERVICIO - HORAS","Horas",null,"Horas",null,"Horas",null,"Horas",null,"Horas",null,"Horas",null,"Horas",null,"Horas",null,"Horas",null,"Horas",null,"Horas",null,"Horas",null,"Total   Horas"]
[]
["SHR101","Horas de Mano de Obra - Servicios Kilometrados",502.43,null,0,null,0,null,0,null,0,null,0,null,0,null,0,null,0,null,0,null,0,null,0,null,{"$f":"SUM(C34:Z34)","v":502.43}]
["SHR102","Horas de Mano de Obra - Reparaciones en General",370.28,null,0,null,0,null,0,null,0,null,0,null,0,null,0,null,0,null,0,null,0,null,0,null,{"$f":"SUM(C35:Z35)","v":370.28}]
["SHR103","Horas de Mano de Obra - Diagnóstico",0,null,0,null,0,null,0,null,0,null,0,null,0,null,0,null,0,null,0,null,0,null,0,null,{"$f":"SUM(C36:Z36)","v":0}]
[null,"TOTAL HORAS DE SERVICIO",{"$f":"SUM(C34:D36)","v":872.71},null,{"$f":"SUM(E34:F36)","v":0},null,{"$f":"SUM(G34:H36)","v":0},null,{"$f":"SUM(I34:J36)","v":0},null,{"$f":"SUM(K34:L36)","v":0},null,{"$f":"SUM(M34:N36)","v":0},null,{"$f":"SUM(O34:P36)","v":0},null,{"$f":"SUM(Q34:R36)","v":0},null,{"$f":"SUM(S34:T36)","v":0},null,{"$f":"SUM(U34:V36)","v":0},null,{"$f":"SUM(W34:X36)","v":0},null,{"$f":"SUM(Y34:Z36)","v":0},null,{"$f":"SUM(AA34:AB36)","v":872.71}]
[]
[null,"SERVICIO - ESPACIOS PRODUCTIVOS","Unidades",null,"Unidades",null,"Unidades",null,"Unidades",null,"Unidades",null,"Unidades",null,"Unidades",null,"Unidades",null,"Unidades",null,"Unidades",null,"Unidades",null,"Unidades",null,"Unidades"]
[]
["SEP101","Bahías sin rampa",0,null,0,null,0,null,0,null,0,null,0,null,0,null,0,null,0,null,0,null,0,null,0,null,{"$f":"Y41","v":0}]
["SEP102","Bahías con rampa",6,null,0,null,0,null,0,null,0,null,0,null,0,null,0,null,0,null,0,null,0,null,0,null,{"$f":"Y42","v":0}]
["SEP103","Bahías con rampa fuera del taller",0,null,0,null,0,null,0,null,0,null,0,null,0,null,0,null,0,null,0,null,0,null,0,null,{"$f":"Y43","v":0}]
["SEP104","Bahias sin rampa fuera del taller",0,null,0,null,0,null,0,null,0,null,0,null,0,null,0,null,0,null,0,null,0,null,0,null,{"$f":"Y44","v":0}]
[null,"TOTAL DE ESPACIOS PRODUCTIVOS",{"$f":"SUM(C41:D44)","v":6},null,{"$f":"SUM(E41:F44)","v":0},null,{"$f":"SUM(G41:H44)","v":0},null,{"$f":"SUM(I41:J44)","v":0},null,{"$f":"SUM(K41:L44)","v":0},null,{"$f":"SUM(M41:N44)","v":0},null,{"$f":"SUM(O41:P44)","v":0},null,{"$f":"SUM(Q41:R44)","v":0},null,{"$f":"SUM(S41:T44)","v":0},null,{"$f":"SUM(U41:V44)","v":0},null,{"$f":"SUM(W41:X44)","v":0},null,{"$f":"SUM(Y41:Z44)","v":0},null,{"$f":"Y45","v":0}]
[]
[null,"Personal de Servicio","No. de Personas",null,"No. de Personas",null,"No. de Personas",null,"No. de Personas",null,"No. de Personas",null,"No. de Personas",null,"No. de Personas",null,"No. de Personas",null,"No. de Personas",null,"No. de Personas",null,"No. de Personas",null,"No. de Personas",null,"Total  Número de Personas"]
[null,"SERVICIO - JEFES DE TALLER"]
["SJF101","Jefes de Taller",1,null,null,null,null,null,null,null,null,null,null,null,null,null,null,null,null,null,null,null,null,null,null,null,{"$f":"Y49","v":0}]
[null,"TOTAL DE JEFES DE TALLER",{"$f":"SUM(C49)","v":1},null,{"$f":"SUM(E49)","v":0},null,{"$f":"SUM(G49)","v":0},null,{"$f":"SUM(I49)","v":0},null,{"$f":"SUM(K49)","v":0},null,{"$f":"SUM(M49)","v":0},null,{"$f":"SUM(O49)","v":0},null,{"$f":"SUM(Q49)","v":0},null,{"$f":"SUM(S49)","v":0},null,{"$f":"SUM(U49)","v":0},null,{"$f":"SUM(W49)","v":0},null,{"$f":"SUM(Y49)","v":0},null,{"$f":"Y50","v":0}]
[null,"SERVICIO - TÉCNICOS"]
["STT101","Técnicos",5,null,0,null,0,null,0,null,0,null,0,null,0,null,0,null,0,null,0,null,0,null,0,null,{"$f":"Y52","v":0}]
["STT105","Asesores Técnicos",2,null,0,null,0,null,0,null,0,null,0,null,0,null,0,null,0,null,0,null,0,null,0,null,{"$f":"Y53","v":0}]
["STT102","Ayudantes",1,null,0,null,0,null,0,null,0,null,0,null,0,null,0,null,0,null,0,null,0,null,0,null,{"$f":"Y54","v":0}]
["STT103","Previadores",1,null,0,null,0,null,0,null,0,null,0,null,0,null,0,null,0,null,0,null,0,null,0,null,{"$f":"Y55","v":0}]
["STT104","# Número de técnicos reemplazados",0,null,0,null,0,null,0,null,0,null,0,null,0,null,0,null,0,null,0,null,0,null,0,null,{"$f":"Y56","v":0}]
[null,"Rotación de Técnicos (Sujetos de Capacitación Técnica)",{"$f":"IF(ISERROR(C$56/C$52),0,C$56/C$52)","v":0},null,{"$f":"IF(ISERROR(E$56/E$52),0,E$56/E$52)","v":0},null,{"$f":"IF(ISERROR(G$56/G$52),0,G$56/G$52)","v":0},null,{"$f":"IF(ISERROR(I$56/I$52),0,I$56/I$52)","v":0},null,{"$f":"IF(ISERROR(K$56/K$52),0,K$56/K$52)","v":0},null,{"$f":"IF(ISERROR(M$56/M$52),0,M$56/M$52)","v":0},null,{"$f":"IF(ISERROR(O$56/O$52),0,O$56/O$52)","v":0},null,{"$f":"IF(ISERROR(Q$56/Q$52),0,Q$56/Q$52)","v":0},null,{"$f":"IF(ISERROR(S$56/S$52),0,S$56/S$52)","v":0},null,{"$f":"IF(ISERROR(U$56/U$52),0,U$56/U$52)","v":0},null,{"$f":"IF(ISERROR(W$56/W$52),0,W$56/W$52)","v":0},null,{"$f":"IF(ISERROR(Y$56/Y$52),0,Y$56/Y$52)","v":0},null,{"$f":"AVERAGE(C57:Z57)","v":0}]
[null,"TOTAL DE TÉCNICOS",{"$f":"SUM(C52:D55)","v":9},null,{"$f":"SUM(E52:F55)","v":0},null,{"$f":"SUM(G52:H55)","v":0},null,{"$f":"SUM(I52:J55)","v":0},null,{"$f":"SUM(K52:L55)","v":0},null,{"$f":"SUM(M52:N55)","v":0},null,{"$f":"SUM(O52:P55)","v":0},null,{"$f":"SUM(Q52:R55)","v":0},null,{"$f":"SUM(S52:T55)","v":0},null,{"$f":"SUM(U52:V55)","v":0},null,{"$f":"SUM(W52:X55)","v":0},null,{"$f":"SUM(Y52:Z55)","v":0},null,{"$f":"SUM(AA52:AB55)","v":0}]
[null,"SERVICIO - TÉCNICOS CERTIFICADOS"]
["STC101","Nivel Mantenimiento",3,null,0,null,0,null,0,null,0,null,0,null,0,null,0,null,0,null,0,null,0,null,0,null,{"$f":"Y60","v":0}]
["STC102","Nivel Reparación",1,null,0,null,0,null,0,null,0,null,0,null,0,null,0,null,0,null,0,null,0,null,0,null,{"$f":"Y61","v":0}]
["STC103","Nivel Diagnóstico",1,null,0,null,0,null,0,null,0,null,0,null,0,null,0,null,0,null,0,null,0,null,0,null,{"$f":"Y62","v":0}]
["STC104","Nivel Diagnóstico Maestro",1,null,0,null,0,null,0,null,0,null,0,null,0,null,0,null,0,null,0,null,0,null,0,null,{"$f":"Y63","v":0}]
[null,"TOTAL DE TÉCNICOS CERTIFICADOS",{"$f":"SUM(C60:D63)","v":6},null,{"$f":"SUM(E60:F63)","v":0},null,{"$f":"SUM(G60:H63)","v":0},null,{"$f":"SUM(I60:J63)","v":0},null,{"$f":"SUM(K60:L63)","v":0},null,{"$f":"SUM(M60:N63)","v":0},null,{"$f":"SUM(O60:P63)","v":0},null,{"$f":"SUM(Q60:R63)","v":0},null,{"$f":"SUM(S60:T63)","v":0},null,{"$f":"SUM(U60:V63)","v":0},null,{"$f":"SUM(W60:X63)","v":0},null,{"$f":"SUM(Y60:Z63)","v":0},null,{"$f":"SUM(AA60:AB63)","v":0}]
[null,"SERVICIO - ASESORES DE SERVICIO"]
["SAS101","No certificados en TSA21",0,null,0,null,0,null,0,null,0,null,0,null,0,null,0,null,0,null,0,null,0,null,0,null,{"$f":"Y66","v":0}]
["SAS102","Certificados en TSA21",2,null,0,null,0,null,0,null,0,null,0,null,0,null,0,null,0,null,0,null,0,null,0,null,{"$f":"Y67","v":0}]
[null,"TOTAL DE ASESORES DE SERVICIO",{"$f":"SUM(C66:D67)","v":2},null,{"$f":"SUM(E66:F67)","v":0},null,{"$f":"SUM(G66:H67)","v":0},null,{"$f":"SUM(I66:J67)","v":0},null,{"$f":"SUM(K66:L67)","v":0},null,{"$f":"SUM(M66:N67)","v":0},null,{"$f":"SUM(O66:P67)","v":0},null,{"$f":"SUM(Q66:R67)","v":0},null,{"$f":"SUM(S66:T67)","v":0},null,{"$f":"SUM(U66:V67)","v":0},null,{"$f":"SUM(W66:X67)","v":0},null,{"$f":"SUM(Y66:Z67)","v":0},null,{"$f":"SUM(AA66:AB67)","v":0}]
[]
[null,"Medición TUS"]
[]
["EFI101","TUS/ Espacio Productivo (Promedio Por Dia)",{"$f":"IF(ISERROR((C$18/C$45)/25),0,(C$18/C$45)/25)","v":4.746666666666667},null,{"$f":"IF(ISERROR((E$18/E$45)/25),0,(E$18/E$45)/25)","v":0},null,{"$f":"IF(ISERROR((G$18/G$45)/25),0,(G$18/G$45)/25)","v":0},null,{"$f":"IF(ISERROR((I$18/I$45)/25),0,(I$18/I$45)/25)","v":0},null,{"$f":"IF(ISERROR((K$18/K$45)/25),0,(K$18/K$45)/25)","v":0},null,{"$f":"IF(ISERROR((M$18/M$45)/25),0,(M$18/M$45)/25)","v":0},null,{"$f":"IF(ISERROR((O$18/O$45)/25),0,(O$18/O$45)/25)","v":0},null,{"$f":"IF(ISERROR((Q$18/Q$45)/25),0,(Q$18/Q$45)/25)","v":0},null,{"$f":"IF(ISERROR((S$18/S$45)/25),0,(S$18/S$45)/25)","v":0},null,{"$f":"IF(ISERROR((U$18/U$45)/25),0,(U$18/U$45)/25)","v":0},null,{"$f":"IF(ISERROR((W$18/W$45)/25),0,(W$18/W$45)/25)","v":0},null,{"$f":"IF(ISERROR((Y$18/Y$45)/25),0,(Y$18/Y$45)/25)","v":0},null,{"$f":"IF(ISERROR((AA$18/AA$45)/25),0,(AA$18/AA$45)/25)","v":0}]
["EFI102","TUS/ Técnico (Promedio Por Dia)",{"$f":"IF(ISERROR((C$18/C$58)/25),0,(C$18/C$58)/25)","v":3.1644444444444444},null,{"$f":"IF(ISERROR((E$18/E$58)/25),0,(E$18/E$58)/25)","v":0},null,{"$f":"IF(ISERROR((G$18/G$58)/25),0,(G$18/G$58)/25)","v":0},null,{"$f":"IF(ISERROR((I$18/I$58)/25),0,(I$18/I$58)/25)","v":0},null,{"$f":"IF(ISERROR((K$18/K$58)/25),0,(K$18/K$58)/25)","v":0},null,{"$f":"IF(ISERROR((M$18/M$58)/25),0,(M$18/M$58)/25)","v":0},null,{"$f":"IF(ISERROR((O$18/O$58)/25),0,(O$18/O$58)/25)","v":0},null,{"$f":"IF(ISERROR((Q$18/Q$58)/25),0,(Q$18/Q$58)/25)","v":0},null,{"$f":"IF(ISERROR((S$18/S$58)/25),0,(S$18/S$58)/25)","v":0},null,{"$f":"IF(ISERROR((U$18/U$58)/25),0,(U$18/U$58)/25)","v":0},null,{"$f":"IF(ISERROR((W$18/W$58)/25),0,(W$18/W$58)/25)","v":0},null,{"$f":"IF(ISERROR((Y$18/Y$58)/25),0,(Y$18/Y$58)/25)","v":0},null,{"$f":"IF(ISERROR((AA$18/AA$58)/25),0,(AA$18/AA$58)/25)","v":0}]
["EFI103","TUS/ Asesor de Servicio (Promedio Por Dia)",{"$f":"IF(ISERROR((C18/C68)/25),0,(C18/C68)/25)","v":14.24},null,{"$f":"IF(ISERROR((E18/E68)/25),0,(E18/E68)/25)","v":0},null,{"$f":"IF(ISERROR((G18/G68)/25),0,(G18/G68)/25)","v":0},null,{"$f":"IF(ISERROR((I18/I68)/25),0,(I18/I68)/25)","v":0},null,{"$f":"IF(ISERROR((K18/K68)/25),0,(K18/K68)/25)","v":0},null,{"$f":"IF(ISERROR((M18/M68)/25),0,(M18/M68)/25)","v":0},null,{"$f":"IF(ISERROR((O18/O68)/25),0,(O18/O68)/25)","v":0},null,{"$f":"IF(ISERROR((Q18/Q68)/25),0,(Q18/Q68)/25)","v":0},null,{"$f":"IF(ISERROR((S18/S68)/25),0,(S18/S68)/25)","v":0},null,{"$f":"IF(ISERROR((U18/U68)/25),0,(U18/U68)/25)","v":0},null,{"$f":"IF(ISERROR((W18/W68)/25),0,(W18/W68)/25)","v":0},null,{"$f":"IF(ISERROR((Y18/Y68)/25),0,(Y18/Y68)/25)","v":0},null,{"$f":"IF(ISERROR((AA18/AA68)/25),0,(AA18/AA68)/25)","v":0}]
[]
[]
[null,"Tasas de Servicio Refacciones","%",null,"%",null,"%",null,"%",null,"%",null,"%",null,"%",null,"%",null,"%",null,"%",null,"%",null,"%"]
[]
["TSR101","Tasa de Servicio",1,null,null,null,null,null,null,null,null,null,null,null,null,null,null,null,null,null,null,null,null,null,null,null,{"$f":"IF(ISERROR(AVERAGE(C79:Z79)),0,AVERAGE(C79:Z79))","v":1}]
["TSR102","Tasa de Llenado de Orden",1,null,null,null,null,null,null,null,null,null,null,null,null,null,null,null,null,null,null,null,null,null,null,null,{"$f":"IF(ISERROR(AVERAGE(C80:Z80)),0,AVERAGE(C80:Z80))","v":1}]
[]
[]
[null,"SERVICIO - RETENCIÓN DE CLIENTES"]
[null,"Número de VINs VENDIDOS POR LA AGENCIA, \ncon al menos un servicio kilometrado en los últimos 12 meses.*",1622,null,null,null,null,null,null,null,null,null,null,null,null,null,null,null,null,null,null,null,null,null,null,null,{"$f":"Y84","v":0}]
["RET101"]
[null,"Número de VINs VENDIDOS POR OTRA AGENCIA,\ncon al menos un servicio kilometrado en los últimos 12 meses.**",3124,null,null,null,null,null,null,null,null,null,null,null,null,null,null,null,null,null,null,null,null,null,null,null,{"$f":"Y86","v":0}]
["RET102"]
[null,"TOTAL DE VINS CON AL MENOS 1 SERVICIO \nEN LOS ÚLTIMOS 12 MESES",{"$f":"SUM(C84:D87)","v":4746},null,{"$f":"SUM(E84:F87)","v":0},null,{"$f":"SUM(G84:H87)","v":0},null,{"$f":"SUM(I84:J87)","v":0},null,{"$f":"SUM(K84:L87)","v":0},null,{"$f":"SUM(M84:N87)","v":0},null,{"$f":"SUM(O84:P87)","v":0},null,{"$f":"SUM(Q84:R87)","v":0},null,{"$f":"SUM(S84:T87)","v":0},null,{"$f":"SUM(U84:V87)","v":0},null,{"$f":"SUM(W84:X87)","v":0},null,{"$f":"SUM(Y84:Z87)","v":0},null,{"$f":"SUM(AA84:AB87)","v":0}]
[]
[null,"* De los vehículos que tienen registrada al menos una visita a SERVICIO DE MANTENIMIENTO (no aplica reparaciones ni diagnóstico) en los últimos 12 meses, ¿cuántos fueron vendidos por la agencia?"]
[null,"** De los vehículos que tienen registrada al menos una visita a SERVICIO DE MANTENIMIENTO (no aplica reparaciones ni diagnóstico) en los últimos 12 meses, ¿cuántos fueron vendidos por otra agencia?"]
[null,"NOTA: Los vehículos con más de una visita a servicio, en los últimos 12 meses, sólo se cuentan una vez. Las unidades a reportar son VEHÍCULOS y NO ÓRDENES."]

{"sheet":"ESTADO DE RESULTADOS1","index":14,"n_rows":165,"n_cols":16,"rows_kept":165,"cut":false,"hidden":false,"merged":[[164,1,164,2],[150,1,150,2],[151,1,151,2],[152,1,152,2],[153,1,153,2],[154,1,154,2],[155,1,155,2],[158,1,158,2],[159,1,159,2],[160,1,160,2],[161,1,161,2],[162,1,162,2],[148,1,148,2],[63,1,63,2],[64,1,64,2],[93,1,93,2],[94,1,94,2],[99,1,99,2],[100,1,100,2],[104,1,104,2],[106,1,106,2],[127,1,127,2],[128,1,128,2],[145,1,145,2],[62,1,62,2],[26,1,26,2],[32,1,32,2],[34,1,34,2],[39,1,39,2],[45,1,45,2],[47,1,47,2],[48,1,48,2],[56,1,56,2],[57,1,57,2],[58,1,58,2],[60,1,60,2],[23,1,23,2],[3,1,3,2],[4,1,4,2],[9,0,11,0],[12,1,12,2],[14,1,14,2],[16,1,16,2],[18,1,18,2],[19,1,19,2],[20,1,20,2],[21,1,21,2],[22,1,22,2]]}
[]
[]
[]
[null,"ESTADO ",null,null,"# De Dealer",null,{"$f":"DATOS1!C9","v":57040}]
[null,"DE RESULTADOS"]
[]
[null,null,null,1,2,3,4,5,6,7,8,9,10,11,12]
[null,null,null,"ELABORO","ELABORO","ELABORO","ELABORO","ELABORO","ELABORO","ELABORO","ELABORO","ELABORO","ELABORO","ELABORO","ELABORO"]
[null,null,null,{"$f":"+BALANCE!E12","v":"LUDIVINA"},{"$f":"+BALANCE!F12","v":0},{"$f":"+BALANCE!G12","v":0},{"$f":"+BALANCE!H12","v":0},{"$f":"+BALANCE!I12","v":0},{"$f":"+BALANCE!J12","v":0},{"$f":"+BALANCE!K12","v":0},{"$f":"+BALANCE!L12","v":0},{"$f":"+BALANCE!M12","v":0},{"$f":"+BALANCE!N12","v":0},{"$f":"+BALANCE!O12","v":0},{"$f":"+BALANCE!P12","v":0}]
[null,null,null,"FECHA","FECHA","FECHA","FECHA","FECHA","FECHA","FECHA","FECHA","FECHA","FECHA","FECHA","FECHA","ACUMULADO"]
[null,null,null,"Ene","Feb","Mar","Abr","May","Jun","Jul","Ago","Sep","Oct","Nov","Dic"]
[null,"INGRESOS",null,{"$f":"DATOS1!$Q$10","v":2015},{"$f":"DATOS1!$Q$10","v":2015},{"$f":"DATOS1!$Q$10","v":2015},{"$f":"DATOS1!$Q$10","v":2015},{"$f":"DATOS1!$Q$10","v":2015},{"$f":"DATOS1!$Q$10","v":2015},{"$f":"DATOS1!$Q$10","v":2015},{"$f":"DATOS1!$Q$10","v":2015},{"$f":"DATOS1!$Q$10","v":2015},{"$f":"DATOS1!$Q$10","v":2015},{"$f":"DATOS1!$Q$10","v":2015},{"$f":"DATOS1!$Q$10","v":2015},{"$f":"DATOS1!$Q$10","v":2015}]
[6111,"Ventas de Vehículos Nuevos",null,{"$f":"'AUTOS NUEVOS1'!D31","v":13300154.999999996},{"$f":"'AUTOS NUEVOS1'!G31","v":0},{"$f":"'AUTOS NUEVOS1'!J31","v":0},{"$f":"'AUTOS NUEVOS1'!M31","v":0},{"$f":"'AUTOS NUEVOS1'!P31","v":0},{"$f":"'AUTOS NUEVOS1'!S31","v":0},{"$f":"'AUTOS NUEVOS1'!D62","v":0},{"$f":"'AUTOS NUEVOS1'!G62","v":0},{"$f":"'AUTOS NUEVOS1'!J62","v":0},{"$f":"'AUTOS NUEVOS1'!M62","v":0},{"$f":"'AUTOS NUEVOS1'!P62","v":0},{"$f":"'AUTOS NUEVOS1'!S62","v":0},{"$f":"SUM(D13:O13)","v":13300154.999999996}]
[6112,"   Utilidad Bruta Autos Nuevos",null,{"$f":"'AUTOS NUEVOS1'!D31-'AUTOS NUEVOS1'!E31","v":1279707.9999999963},{"$f":"'AUTOS NUEVOS1'!G31-'AUTOS NUEVOS1'!H31","v":0},{"$f":"'AUTOS NUEVOS1'!J31-'AUTOS NUEVOS1'!K31","v":0},{"$f":"'AUTOS NUEVOS1'!M31-'AUTOS NUEVOS1'!N31","v":0},{"$f":"'AUTOS NUEVOS1'!P31-'AUTOS NUEVOS1'!Q31","v":0},{"$f":"'AUTOS NUEVOS1'!S31-'AUTOS NUEVOS1'!T31","v":0},{"$f":"'AUTOS NUEVOS1'!D62-'AUTOS NUEVOS1'!E62","v":0},{"$f":"+'AUTOS NUEVOS1'!G62-'AUTOS NUEVOS1'!H62","v":0},{"$f":"'AUTOS NUEVOS1'!J62-'AUTOS NUEVOS1'!K62","v":0},{"$f":"'AUTOS NUEVOS1'!M62-'AUTOS NUEVOS1'!N62","v":0},{"$f":"'AUTOS NUEVOS1'!P62-'AUTOS NUEVOS1'!Q62","v":0},{"$f":"'AUTOS NUEVOS1'!S62-'AUTOS NUEVOS1'!T62","v":0},1279707.9999999963]
[6113,"Ventas de COMONUEVOS",null,{"$f":"'AUTOS NUEVOS1'!D27","v":1171904.26},{"$f":"'AUTOS NUEVOS1'!G27","v":0},{"$f":"'AUTOS NUEVOS1'!J27","v":0},{"$f":"'AUTOS NUEVOS1'!M27","v":0},{"$f":"'AUTOS NUEVOS1'!P27","v":0},{"$f":"'AUTOS NUEVOS1'!S27","v":0},{"$f":"'AUTOS NUEVOS1'!D58","v":0},{"$f":"'AUTOS NUEVOS1'!G58","v":0},{"$f":"'AUTOS NUEVOS1'!J58","v":0},{"$f":"'AUTOS NUEVOS1'!M58","v":0},{"$f":"'AUTOS NUEVOS1'!P58","v":0},{"$f":"'AUTOS NUEVOS1'!S58","v":0},{"$f":"SUM(D15:O15)","v":1171904.26}]
[6114,"   Utilidad Bruta COMONUEVOS",null,{"$f":"'AUTOS NUEVOS1'!D27-'AUTOS NUEVOS1'!E27","v":132841.31000000006},{"$f":"'AUTOS NUEVOS1'!G27-'AUTOS NUEVOS1'!H27","v":0},{"$f":"'AUTOS NUEVOS1'!J27-'AUTOS NUEVOS1'!K27","v":0},{"$f":"'AUTOS NUEVOS1'!M27-'AUTOS NUEVOS1'!N27","v":0},{"$f":"'AUTOS NUEVOS1'!P27-'AUTOS NUEVOS1'!Q27","v":0},{"$f":"'AUTOS NUEVOS1'!S27-'AUTOS NUEVOS1'!T27","v":0},{"$f":"+'AUTOS NUEVOS1'!D58-'AUTOS NUEVOS1'!E58","v":0},{"$f":"+'AUTOS NUEVOS1'!G58-'AUTOS NUEVOS1'!H58","v":0},{"$f":"+'AUTOS NUEVOS1'!J58-'AUTOS NUEVOS1'!K58","v":0},{"$f":"+'AUTOS NUEVOS1'!M58-'AUTOS NUEVOS1'!N58","v":0},{"$f":"+'AUTOS NUEVOS1'!P58-'AUTOS NUEVOS1'!Q58","v":0},{"$f":"+'AUTOS NUEVOS1'!S58-'AUTOS NUEVOS1'!T58","v":0},{"$f":"SUM(D16:O16)","v":132841.31000000006}]
[6115,"Ventas de Vehículos Usados",null,{"$f":"'AUTOS NUEVOS1'!D28+'AUTOS NUEVOS1'!D29","v":485655},{"$f":"'AUTOS NUEVOS1'!G28+'AUTOS NUEVOS1'!G29","v":0},{"$f":"'AUTOS NUEVOS1'!J28+'AUTOS NUEVOS1'!J29","v":0},{"$f":"'AUTOS NUEVOS1'!M28+'AUTOS NUEVOS1'!M29","v":0},{"$f":"'AUTOS NUEVOS1'!P28+'AUTOS NUEVOS1'!P29","v":0},{"$f":"'AUTOS NUEVOS1'!S28+'AUTOS NUEVOS1'!S29","v":0},{"$f":"'AUTOS NUEVOS1'!D59+'AUTOS NUEVOS1'!D60","v":0},{"$f":"'AUTOS NUEVOS1'!G59+'AUTOS NUEVOS1'!G60","v":0},{"$f":"'AUTOS NUEVOS1'!J59+'AUTOS NUEVOS1'!J60","v":0},{"$f":"'AUTOS NUEVOS1'!M59+'AUTOS NUEVOS1'!M60","v":0},{"$f":"'AUTOS NUEVOS1'!P59+'AUTOS NUEVOS1'!P60","v":0},{"$f":"'AUTOS NUEVOS1'!S59+'AUTOS NUEVOS1'!S60","v":0},485655]
[6116,"   Utilidad Bruta Autos Usados",null,{"$f":"(('AUTOS NUEVOS1'!D28-'AUTOS NUEVOS1'!E28)+('AUTOS NUEVOS1'!D29-'AUTOS NUEVOS1'!E29))","v":83826},{"$f":"(('AUTOS NUEVOS1'!G28-'AUTOS NUEVOS1'!H28)+('AUTOS NUEVOS1'!G29-'AUTOS NUEVOS1'!H29))","v":0},{"$f":"(('AUTOS NUEVOS1'!J28-'AUTOS NUEVOS1'!K28)+('AUTOS NUEVOS1'!J29-'AUTOS NUEVOS1'!K29))","v":0},{"$f":"(('AUTOS NUEVOS1'!M28-'AUTOS NUEVOS1'!N28)+('AUTOS NUEVOS1'!M29-'AUTOS NUEVOS1'!N29))","v":0},{"$f":"('AUTOS NUEVOS1'!P28-'AUTOS NUEVOS1'!Q28)+('AUTOS NUEVOS1'!P29-'AUTOS NUEVOS1'!Q29)","v":0},{"$f":"('AUTOS NUEVOS1'!S28-'AUTOS NUEVOS1'!T28)+('AUTOS NUEVOS1'!S29-'AUTOS NUEVOS1'!T29)","v":0},{"$f":"('AUTOS NUEVOS1'!D59-'AUTOS NUEVOS1'!E59)+('AUTOS NUEVOS1'!D60-'AUTOS NUEVOS1'!E60)","v":0},{"$f":"('AUTOS NUEVOS1'!G59-'AUTOS NUEVOS1'!H59)+('AUTOS NUEVOS1'!G60-'AUTOS NUEVOS1'!H60)","v":0},{"$f":"('AUTOS NUEVOS1'!J59-'AUTOS NUEVOS1'!K59)+('AUTOS NUEVOS1'!J60-'AUTOS NUEVOS1'!K60)","v":0},{"$f":"('AUTOS NUEVOS1'!M59-'AUTOS NUEVOS1'!N59)+('AUTOS NUEVOS1'!M60-'AUTOS NUEVOS1'!N60)","v":0},{"$f":"('AUTOS NUEVOS1'!P59-'AUTOS NUEVOS1'!Q59)+('AUTOS NUEVOS1'!P60-'AUTOS NUEVOS1'!Q60)","v":0},{"$f":"('AUTOS NUEVOS1'!S59-'AUTOS NUEVOS1'!T59)+('AUTOS NUEVOS1'!S60-'AUTOS NUEVOS1'!T60)","v":0},83826]
[6117,"Ventas de Servicio",null,{"$f":"SERVICIO1!D19","v":525713.96},{"$f":"SERVICIO1!F19","v":0},{"$f":"SERVICIO1!H19","v":0},{"$f":"SERVICIO1!J19","v":0},{"$f":"SERVICIO1!L19","v":0},{"$f":"SERVICIO1!N19","v":0},{"$f":"SERVICIO1!P19","v":0},{"$f":"SERVICIO1!R19","v":0},{"$f":"SERVICIO1!T19","v":0},{"$f":"SERVICIO1!V19","v":0},{"$f":"SERVICIO1!X19","v":0},{"$f":"SERVICIO1!Z19","v":0},525713.96]
[6118,"   Utilidad Bruta Servicio",null,431758.77,0,0,0,0,0,0,0,0,0,0,0,431758.77]
[6119,"Ventas de Hojalatería y Pintura",null,{"$f":"SERVICIO1!D22","v":87418.11},{"$f":"SERVICIO1!F22","v":0},{"$f":"SERVICIO1!H22","v":0},{"$f":"SERVICIO1!J22","v":0},{"$f":"SERVICIO1!L22","v":0},{"$f":"SERVICIO1!N22","v":0},{"$f":"SERVICIO1!P22","v":0},{"$f":"SERVICIO1!R22","v":0},{"$f":"SERVICIO1!T22","v":0},{"$f":"SERVICIO1!V22","v":0},{"$f":"SERVICIO1!X22","v":0},{"$f":"SERVICIO1!Z22","v":0},87418.11]
[6120,"   Utilidad Bruta Hojalatería",null,20678.12,0,0,0,0,0,0,0,0,0,0,0,20678.12]
[6121,"Ventas de Refacciones",null,{"$f":"SERVICIO1!D29","v":1338838.29},{"$f":"SERVICIO1!F29","v":0},{"$f":"SERVICIO1!H29","v":0},{"$f":"SERVICIO1!J29","v":0},{"$f":"SERVICIO1!L29","v":0},{"$f":"SERVICIO1!N29","v":0},{"$f":"SERVICIO1!P29","v":0},{"$f":"SERVICIO1!R29","v":0},{"$f":"SERVICIO1!T29","v":0},{"$f":"SERVICIO1!V29","v":0},{"$f":"SERVICIO1!X29","v":0},{"$f":"SERVICIO1!Z29","v":0},1338838.29]
[6122,"   Utilidad Bruta Refacciones",null,505358.3,0,0,0,0,0,0,0,0,0,0,0,505358.3]
[6123,"Venta Total de  Post-Venta",null,{"$f":"D23+D21+D19","v":1951970.36},{"$f":"E23+E21+E19","v":0},0,0,0,0,{"$f":"J23+J21+J19","v":0},{"$f":"K23+K21+K19","v":0},{"$f":"L23+L21+L19","v":0},{"$f":"M23+M21+M19","v":0},0,0,1951970.36]
[null,"VENTAS TOTALES ",null,{"$f":"+D13+D17+D15+D19+D21+D23+'AUTOS NUEVOS1'!D30","v":26635046.939999994},{"$f":"+E13+E17+E15+E19+E21+E23+'AUTOS NUEVOS1'!G30","v":0},{"$f":"+F13+F17+F15+F19+F21+F23+'AUTOS NUEVOS1'!J30","v":0},{"$f":"+G13+G17+G15+G19+G21+G23+'AUTOS NUEVOS1'!M30","v":0},{"$f":"+H13+H17+H15+H19+H21+H23+'AUTOS NUEVOS1'!P30","v":0},{"$f":"+I13+I17+I15+I19+I21+I23+'AUTOS NUEVOS1'!S30","v":0},{"$f":"+J13+J17+J15+J19+J21+J23+'AUTOS NUEVOS1'!D61","v":0},{"$f":"+K13+K17+K15+K19+K21+K23+'AUTOS NUEVOS1'!G61","v":0},{"$f":"+L13+L17+L15+L19+L21+L23+'AUTOS NUEVOS1'!J61","v":0},{"$f":"+M13+M17+M15+M19+M21+M23+'AUTOS NUEVOS1'!M61","v":0},{"$f":"+N13+N17+N15+N19+N21+N23+'AUTOS NUEVOS1'!P61","v":0},{"$f":"+O13+O17+O15+O19+O21+O23+'AUTOS NUEVOS1'!S61","v":0},26635046.939999994]
[null," - COSTO DE VENTAS",null,{"$f":"(D13-D14)+(D15-D16)+(D17-D18)+(D19-D20)+(D21-D22)+(D23-D24)+'AUTOS NUEVOS1'!E30","v":24179427.869999997},{"$f":"(E13-E14)+(E15-E16)+(E17-E18)+(E19-E20)+(E21-E22)+(E23-E24)+'AUTOS NUEVOS1'!H30","v":0},{"$f":"(F13-F14)+(F15-F16)+(F17-F18)+(F19-F20)+(F21-F22)+(F23-F24)+'AUTOS NUEVOS1'!K30","v":0},{"$f":"(G13-G14)+(G15-G16)+(G17-G18)+(G19-G20)+(G21-G22)+(G23-G24)+'AUTOS NUEVOS1'!N30","v":0},{"$f":"(H13-H14)+(H15-H16)+(H17-H18)+(H19-H20)+(H21-H22)+(H23-H24)+'AUTOS NUEVOS1'!Q30","v":0},{"$f":"(I13-I14)+(I15-I16)+(I17-I18)+(I19-I20)+(I21-I22)+(I23-I24)+'AUTOS NUEVOS1'!T30","v":0},{"$f":"(J13-J14)+(J15-J16)+(J17-J18)+(J19-J20)+(J21-J22)+(J23-J24)+'AUTOS NUEVOS1'!E61","v":0},{"$f":"(K13-K14)+(K15-K16)+(K17-K18)+(K19-K20)+(K21-K22)+(K23-K24)+'AUTOS NUEVOS1'!H61","v":0},{"$f":"(L13-L14)+(L15-L16)+(L17-L18)+(L19-L20)+(L21-L22)+(L23-L24)+'AUTOS NUEVOS1'!K61","v":0},{"$f":"(M13-M14)+(M15-M16)+(M17-M18)+(M19-M20)+(M21-M22)+(M23-M24)+'AUTOS NUEVOS1'!N61","v":0},{"$f":"(N13-N14)+(N15-N16)+(N17-N18)+(N19-N20)+(N21-N22)+(N23-N24)+'AUTOS NUEVOS1'!Q61","v":0},{"$f":"(O13-O14)+(O15-O16)+(O17-O18)+(O19-O20)+(O21-O22)+(O23-O24)+'AUTOS NUEVOS1'!T61","v":0},24179427.869999997]
[null,"UTILIDAD O PERDIDA BRUTA",null,{"$f":"+D26-D27","v":2455619.0699999966},{"$f":"+E26-E27","v":0},0,0,0,0,0,0,0,0,0,0,2455619.0699999966]
[null,"GASTOS  DE VENTAS"]
[null,"     NUEVOS"]
[null,"Comisiones a Vendedores - Nuevos",null,321689.65000000002,0,0,0,0,0,0,0,0,0,0,0,{"$f":"SUM(D31:O31)","v":321689.65000000002}]
[7112,"Compensaciones a Distribución - Nuevos",null,0,0,0,0,0,0,0,0,0,0,0,0,0]
[7113,"Gastos de Entrega - Nuevos",null,56062,0,0,0,0,0,0,0,0,0,0,0,56062]
[7114,"Comisiones Fin.,Seguro, y Contratos",null,21820,0,0,0,0,0,0,0,0,0,0,0,21820]
[7115,"Publicidad - Nuevos",null,50935.8,0,0,0,0,0,0,0,0,0,0,0,50935.8]
[7116,"Intereses - Plan Piso - Nuevos",null,179336,0,0,0,0,0,0,0,0,0,0,0,179336]
[7117,"Gastos por intercambios",null,0,0,0,0,0,0,0,0,0,0,0,0,0]
[null,"     USADOS"]
[7121,"Comisiones a Vendedores - Usados",null,0,0,0,0,0,0,0,0,0,0,0,0,{"$f":"SUM(D39:O39)","v":0}]
[7122,"Publicidad - Usados",null,0,0,0,0,0,0,0,0,0,0,0,0,{"$f":"SUM(D40:O40)","v":0}]
[7123,"Gastos de Entrega - Usados",null,0,0,0,0,0,0,0,0,0,0,0,0,{"$f":"SUM(D41:O41)","v":0}]
[7124,"Intereses - Plan Piso - Usados",null,5343.04,0,0,0,0,0,0,0,0,0,0,0,{"$f":"SUM(D42:O42)","v":5343.04}]
[null,"     SERVICIO"]
[7131,"Gastos de Entrega - Servicio",null,0,0,0,0,0,0,0,0,0,0,0,0,{"$f":"SUM(D44:O44)","v":0}]
[7132,"Comisiones - Servicio",null,0,0,0,0,0,0,0,0,0,0,0,0,{"$f":"SUM(D45:O45)","v":0}]
[7133,"Publicidad - Servicio",null,0,0,0,0,0,0,0,0,0,0,0,0,{"$f":"SUM(D46:O46)","v":0}]
[null,"     HOJALATERIA Y PINTURA"]
[7141,"Publicidad - Hojalateria",null,0,0,0,0,0,0,0,0,0,0,0,0,{"$f":"SUM(D48:O48)","v":0}]
[7142,"Comisiones - Hojalatería y Pintura",null,0,0,0,0,0,0,0,0,0,0,0,0,{"$f":"SUM(D49:O49)","v":0}]
[null,"     COMONUEVOS"]
[7151,"Comisiones vendedores",null,0,0,0,0,0,0,0,0,0,0,0,0,{"$f":"SUM(D51:O51)","v":0}]
[7152,"Plan Piso",null,0,0,0,0,0,0,0,0,0,0,0,0,{"$f":"SUM(D52:O52)","v":0}]
[7153,"Gastos  de Entrega",null,0,0,0,0,0,0,0,0,0,0,0,0,{"$f":"SUM(D53:O53)","v":0}]
[null,"TOTAL DE GASTOS DEP. DE VENTAS",null,{"$f":"SUM(D31:D53)","v":635186.49},{"$f":"SUM(E31:E53)","v":0},0,0,0,0,{"$f":"SUM(J31:J53)","v":0},0,0,0,{"$f":"SUM(N31:N53)","v":0},0,635186.49]
[null,"GASTOS DE OPERACIÓN"]
[null,"     NUEVOS"]
[7211,"Ajustes a Pólizas",null,0,0,0,0,0,0,0,0,0,0,0,0,{"$f":"SUM(D57:O57)","v":0}]
[7212,"Ajustes a Reclamos",null,0,0,0,0,0,0,0,0,0,0,0,0,{"$f":"SUM(D58:O58)","v":0}]
[7213,"Vehículos de Demostración  - Nuevos",null,0,0,0,0,0,0,0,0,0,0,0,0,0]
[7214,"Mantenimiento de Inventario -  Autos Nuevos",null,0,0,0,0,0,0,0,0,0,0,0,0,0]
[7215,"Capacitación al Personal - Nuevos",null,{"$f":"26000+3000","v":29000},0,0,0,0,0,0,0,0,0,0,0,29000]
[7216,"Suministros y Herramientas Pequeñas",null,0,0,0,0,0,0,0,0,0,0,0,0,0]
[7217,"Lavandería y Uniformes - Nuevos",null,0,0,0,0,0,0,0,0,0,0,0,0,0]
[7218,"Equipo - Mant., Reparación y Renta - Nuevos",null,0,0,0,0,0,0,0,0,0,0,0,0,0]
[7219,"Sueldos y Salarios - Nuevos",null,0,0,0,0,0,0,0,0,0,0,0,0,0]
[7220,"Pago de Vacaciones - Nuevos",null,0,0,0,0,0,0,0,0,0,0,0,0,0]
[null,"     USADOS"]
[7221,"Equipo - Mant., Reparación y Renta - Usados",null,0,0,0,0,0,0,0,0,0,0,0,0,0]
[7222,"Sueldos y Salarios - Usados",null,0,0,0,0,0,0,0,0,0,0,0,0,0]
[7223,"Vehículos de Demostración y  - Servicio",null,0,0,0,0,0,0,0,0,0,0,0,0,{"$f":"SUM(D70:O70)","v":0}]
[7224,"Suministros y Herramientas Pequeñas",null,0,0,0,0,0,0,0,0,0,0,0,0,{"$f":"SUM(D71:O71)","v":0}]
[7225,"Pago de Vacaciones - Usados",null,0,0,0,0,0,0,0,0,0,0,0,0,{"$f":"SUM(D72:O72)","v":0}]
[null,"     SERVICIO"]
[7231,"Vehículo de Servicio",null,0,0,0,0,0,0,0,0,0,0,0,0,0]
[7232,"Capacitación al Personal - Servicio",null,8316.1200000000008,0,0,0,0,0,0,0,0,0,0,0,8316.1200000000008]
[7233,"Suministros y Herramientas Pequeñas ",null,0,0,0,0,0,0,0,0,0,0,0,0,0]
[7234,"Lavandería y Uniformes - Servicio",null,0,0,0,0,0,0,0,0,0,0,0,0,0]
[7235,"Equipo - Mant., Reparación y Renta - Servicio",null,0,0,0,0,0,0,0,0,0,0,0,0,0]
[7236,"Sueldos y Salarios - Servicio",null,29255,0,0,0,0,0,0,0,0,0,0,0,29255]
[7237,"Pago de Vacaciones - Servicio   ",null,0,0,0,0,0,0,0,0,0,0,0,0,0]
[null,"     HOJALATERIA Y PINTURA"]
[7241,"Capacitación al Personal - H&P",null,0,0,0,0,0,0,0,0,0,0,0,0,0]
[7242,"Suministros y Herramientas Pequeñas ",null,0,0,0,0,0,0,0,0,0,0,0,0,0]
[7243,"Sueldos y Salarios - H&P",null,0,0,0,0,0,0,0,0,0,0,0,0,0]
[7244,"Pago de Vacaciones - H&P  ",null,0,0,0,0,0,0,0,0,0,0,0,0,0]
[null,"     REFACCIONES"]
[7251,"Capacitación al Personal - Refacciones",null,1917.61,0,0,0,0,0,0,0,0,0,0,0,1917.61]
[7252,"Servicios Externos - Departamental",null,0,0,0,0,0,0,0,0,0,0,0,0,0]
[7253,"Fletes - Refacciones",null,0,0,0,0,0,0,0,0,0,0,0,0,0]
[7254,"Suministros y Herramientas  - Refacciones",null,0,0,0,0,0,0,0,0,0,0,0,0,0]
[7255,"Sueldos y Salarios - Refacciones",null,21567,0,0,0,0,0,0,0,0,0,0,0,21567]
[7256,"Pago de Vacaciones - Refacciones",null,0,0,0,0,0,0,0,0,0,0,0,0,0]
[null,"     COMONUEVOS"]
[7261,"Sueldos ",null,12697.08,0,0,0,0,0,0,0,0,0,0,0,12697.08]
[7262,"Capacitación",null,0,0,0,0,0,0,0,0,0,0,0,0,0]
[null,"TOTAL GASTOS  DE OPERACIÓN",null,{"$f":"SUM(D57:D95)","v":102752.81},{"$f":"SUM(E57:E95)","v":0},0,0,0,0,{"$f":"SUM(J57:J95)","v":0},0,{"$f":"SUM(L57:L95)","v":0},{"$f":"SUM(M57:M95)","v":0},{"$f":"SUM(N57:N95)","v":0},0,102752.81]
[null,"TOTAL GTOS. VENTAS Y OPERACIÓN",null,{"$f":"+D96+D54","v":737939.3},{"$f":"+E96+E54","v":0},{"$f":"+F96+F54","v":0},{"$f":"+G96+G54","v":0},0,0,{"$f":"+J96+J54","v":0},0,{"$f":"+L96+L54","v":0},{"$f":"+M96+M54","v":0},{"$f":"+N96+N54","v":0},0,737939.3]
[null,"GASTOS INDIRECTOS"]
[null,"     NUEVOS"]
[7311,"Renta - Nuevos",null,224390.46,0,0,0,0,0,0,0,0,0,0,0,{"$f":"SUM(D100:O100)","v":224390.46}]
[7312,"Teléfono - Nuevos",null,34729.910000000003,0,0,0,0,0,0,0,0,0,0,0,34729.910000000003]
[7313,"Prestaciones a Empleados",null,0,0,0,0,0,0,0,0,0,0,0,0,0]
[7314,"Fondo de Jubilación / Reparto de Utilidades",null,0,0,0,0,0,0,0,0,0,0,0,0,0]
[7315,"Impuestos Sobre Nominas - Nuevos",null,0,0,0,0,0,0,0,0,0,0,0,0,0]
[7316,"AC, Energía Eléctrica y Agua - Nuevos",null,27876,0,0,0,0,0,0,0,0,0,0,0,27876]
[null,"     USADOS"]
[7321,"Renta - Usados",null,0,0,0,0,0,0,0,0,0,0,0,0,{"$f":"SUM(D107:O107)","v":0}]
[7322,"Teléfono - Usados",null,0,0,0,0,0,0,0,0,0,0,0,0,{"$f":"SUM(D108:O108)","v":0}]
[7323,"Impuestos Sobre Nominas - Usados",null,0,0,0,0,0,0,0,0,0,0,0,0,{"$f":"SUM(D109:O109)","v":0}]
[7324,"AC, Energía Eléctrica y Agua - Usados",null,0,0,0,0,0,0,0,0,0,0,0,0,{"$f":"SUM(D110:O110)","v":0}]
[null,"     SERVICIO"]
[7331,"Renta - Servicio",null,80357.14,0,0,0,0,0,0,0,0,0,0,0,{"$f":"SUM(D112:O112)","v":80357.14}]
[7332,"Teléfono - Servicio",null,3128.67,0,0,0,0,0,0,0,0,0,0,0,3128.67]
[7333,"Prestaciones a Empleados",null,0,0,0,0,0,0,0,0,0,0,0,0,0]
[7334,"Impuestos Sobre Nominas - Servicio",null,0,0,0,0,0,0,0,0,0,0,0,0,0]
[7335,"Fondo de Jubilación / Reparto de Utilidades",null,0,0,0,0,0,0,0,0,0,0,0,0,0]
[7336,"AC, Energía Eléctrica y Agua - Servicio",null,0,0,0,0,0,0,0,0,0,0,0,0,0]
[null,"     HOJALATERIA Y PINTURA"]
[7341,"Renta - H&P",null,0,0,0,0,0,0,0,0,0,0,0,0,{"$f":"SUM(D119:O119)","v":0}]
[7342,"Teléfono - H&P",null,0,0,0,0,0,0,0,0,0,0,0,0,{"$f":"SUM(D120:O120)","v":0}]
[7343,"Impuestos Sobre Nominas - H&P",null,0,0,0,0,0,0,0,0,0,0,0,0,{"$f":"SUM(D121:O121)","v":0}]
[null,"     REFACCIONES"]
[7351,"Renta - Refacciones",null,0,0,0,0,0,0,0,0,0,0,0,0,{"$f":"SUM(D123:O123)","v":0}]
[7352,"Teléfono - Refacciones",null,9386.0110000000004,0,0,0,0,0,0,0,0,0,0,0,{"$f":"SUM(D124:O124)","v":9386.0110000000004}]
[7353,"Impuestos Sobre Nominas - Refacciones",null,0,0,0,0,0,0,0,0,0,0,0,0,{"$f":"SUM(D125:O125)","v":0}]
[7354,"AC, Energía Eléctrica y Agua - Refacciones",null,0,0,0,0,0,0,0,0,0,0,0,0,{"$f":"SUM(D126:O126)","v":0}]
[null,"     COMONUEVOS"]
[7361,"Renta",null,0,0,0,0,0,0,0,0,0,0,0,0,{"$f":"SUM(D128:O128)","v":0}]
[7362,"Telefono",null,0,0,0,0,0,0,0,0,0,0,0,0,{"$f":"SUM(D129:O129)","v":0}]
[null,"TOTAL GASTOS INDIRECTOS",null,{"$f":"SUM(D100:D129)","v":379868.19099999999},{"$f":"SUM(E100:E129)","v":0},0,0,0,0,{"$f":"SUM(J100:J129)","v":0},0,{"$f":"SUM(L100:L129)","v":0},{"$f":"SUM(M100:M129)","v":0},{"$f":"SUM(N100:N129)","v":0},0,379868.19099999999]
[null,"TOTAL IND. OPERACIÓN. Y VENTAS",null,{"$f":"+D130+D97","v":1117807.4909999999},{"$f":"+E130+E97","v":0},{"$f":"+F130+F97","v":0},{"$f":"+G130+G97","v":0},0,0,{"$f":"+J130+J97","v":0},0,{"$f":"+L130+L97","v":0},{"$f":"+M130+M97","v":0},{"$f":"+N130+N97","v":0},0,1117807.4909999999]
[null,"GASTOS ADMINISTRATIVOS GENERALES"]
[7410,"Sueldos y Salarios Administrativos y General",null,271803,0,0,0,0,0,0,0,0,0,0,0,{"$f":"SUM(D133:O133)","v":271803}]
[7411,"Salarios a Propietarios",null,0,0,0,0,0,0,0,0,0,0,0,0,{"$f":"SUM(D134:O134)","v":0}]
[7412,"Prestaciones Empleados - Administración",null,0,0,0,0,0,0,0,0,0,0,0,0,0]
[7413,"Impuestos Sobre Nominas - Administración",null,0,0,0,0,0,0,0,0,0,0,0,0,0]
[7414,"Gastos Coorporativos",null,195000,0,0,0,0,0,0,0,0,0,0,0,195000]
[7415,"Publicidad - General e Institucional",null,0,0,0,0,0,0,0,0,0,0,0,0,0]
[7416,"Papelería y Artículos de Oficina",null,14750.76,0,0,0,0,0,0,0,0,0,0,0,14750.76]
[7417,"Servicios de Computo",null,1871.97,0,0,0,0,0,0,0,0,0,0,0,1871.97]
[7418,"Teléfono - Administración",null,0,0,0,0,0,0,0,0,0,0,0,0,0]
[7419,"Servicios Externos - (Limpieza, Seguridad)",null,3686.92,0,0,0,0,0,0,0,0,0,0,0,3686.92]
[7420,"Cuotas y Subscripciones",null,2040,0,0,0,0,0,0,0,0,0,0,0,2040]
[7421,"Servicios Legales y de Auditoria",null,19163.63,0,0,0,0,0,0,0,0,0,0,0,19163.63]
[7422,"Vehículos de la Compañía - Administración",null,0,0,0,0,0,0,0,0,0,0,0,0,0]
[7423,"Mobiliario y Equipo - Reparación y Mto.",null,0,0,0,0,0,0,0,0,0,0,0,0,0]
[7424,"Depreciación del Periodo",null,79053.64,0,0,0,0,0,0,0,0,0,0,0,79053.64]
[7425,"Viajes y Representación",null,3951.55,0,0,0,0,0,0,0,0,0,0,0,3951.55]
[7426,"Seguros - Distintos a Edificios y Ampliaciones",null,0,0,0,0,0,0,0,0,0,0,0,0,0]
[7427,"Gastos y/o Productos Financieros",null,26775,0,0,0,0,0,0,0,0,0,0,0,26775]
[7428,"Impuestos ",null,35519.75,0,0,0,0,0,0,0,0,0,0,0,35519.75]
[7429,"Intereses - Otro plan piso y/o Hipotéca",null,{"$f":"97841.11+24.81+21074+17088","v":136027.91999999998},0,0,0,0,0,0,0,0,0,0,0,136027.91999999998]
[7430,"Bonos para Empleados",null,0,0,0,0,0,0,0,0,0,0,0,0,0]
[7431,"Bonos Para Dueños",null,0,0,0,0,0,0,0,0,0,0,0,0,0]
[null,"TOTAL DE GASTOS ADM. GENERALES",null,{"$f":"SUM(D133:D154)","v":789644.1399999999},0,0,0,0,{"$f":"SUM(I133:I154)","v":0},{"$f":"SUM(J133:J154)","v":0},0,0,{"$f":"SUM(M133:M154)","v":0},0,0,789644.1399999999]
[null,"TOTAL DE GASTOS",null,{"$f":"+D155+D131","v":1907451.6309999998},0,0,0,0,{"$f":"+I155+I131","v":0},{"$f":"+J155+J131","v":0},0,0,{"$f":"+M155+M131","v":0},0,0,1907451.6309999998]
[null,"UTILIDAD O PERDIDA DE OPERACIÓN",null,{"$f":"+D28-D156","v":548167.43899999675},0,{"$f":"+F28-F156","v":0},0,0,{"$f":"+I28-I156","v":0},{"$f":"+J28-J156","v":0},0,0,{"$f":"+M28-M156","v":0},0,0,548167.43899999675]
[null,"OTROS INGRESOS"]
[8010,"Ingresos por UIP",null,0,0,0,0,0,0,0,0,0,0,0,0,{"$f":"SUM(D159:O159)","v":0}]
[8011,"Ingresos por UDI",null,409465.73,0,0,0,0,0,0,0,0,0,0,0,{"$f":"SUM(D160:O160)","v":409465.73}]
[8012,"Otros Ingresos TFS",null,45145.78,0,0,0,0,0,0,0,0,0,0,0,{"$f":"SUM(D161:O161)","v":45145.78}]
[8013,"Incentivos TOYOTA",null,95000,0,0,0,0,0,0,0,0,0,0,0,{"$f":"SUM(D162:O162)","v":95000}]
[8014,"Otros Ingresos  ",null,{"$f":"97841.11+3452+58.8","v":101351.91},0,0,0,0,0,0,0,0,0,0,0,{"$f":"SUM(D163:O163)","v":101351.91}]
[null,"TOTAL OTROS INGRESOS",null,{"$f":"SUM(D159:D163)","v":650963.42000000004},0,0,0,0,0,0,0,{"$f":"SUM(L159:L163)","v":0},{"$f":"SUM(M159:M163)","v":0},{"$f":"SUM(N159:N163)","v":0},0,{"$f":"SUM(P159:P163)","v":650963.42000000004}]
[null,"UTILIDAD O PERDIDA NETA",null,{"$f":"+D157+D164","v":1199130.8589999969},0,0,0,0,{"$f":"+I157+I164","v":0},0,0,{"$f":"+L157+L164","v":0},{"$f":"+M157+M164","v":0},0,0,1199130.8589999969]

{"sheet":"BALANCE","index":15,"n_rows":158,"n_cols":16,"rows_kept":158,"cut":false,"hidden":false,"merged":[[143,1,143,3],[133,1,133,3],[134,1,134,3],[135,1,135,3],[136,1,136,3],[138,1,138,3],[142,1,142,3],[132,1,132,3],[113,1,113,3],[114,1,114,3],[117,1,117,3],[118,1,118,3],[119,1,119,3],[123,1,123,3],[124,1,124,3],[125,1,125,3],[126,1,126,3],[127,1,127,3],[128,1,128,3],[112,1,112,3],[98,1,98,3],[99,1,99,3],[100,1,100,3],[101,1,101,3],[102,1,102,3],[103,1,103,3],[104,1,104,3],[105,1,105,3],[106,1,106,3],[110,1,110,3],[111,1,111,3],[97,1,97,3],[74,1,74,3],[76,1,76,3],[80,1,80,3],[81,1,81,3],[82,1,82,3],[88,1,88,3],[90,1,90,3],[91,1,91,3],[92,1,92,3],[93,1,93,3],[96,1,96,3],[72,1,72,3],[50,1,50,3],[53,1,53,3],[54,1,54,3],[56,1,56,3],[58,1,58,3],[60,1,60,3],[61,1,61,3],[65,1,65,3],[66,1,66,3],[68,1,68,3],[70,1,70,3],[49,1,49,3],[35,1,35,3],[36,1,36,3],[37,1,37,3],[40,1,40,3],[41,1,41,3],[42,1,42,3],[43,1,43,3],[44,1,44,3],[45,1,45,3],[46,1,46,3],[47,1,47,3],[34,1,34,3],[21,1,21,3],[24,1,24,3],[25,1,25,3],[26,1,26,3],[27,1,27,3],[28,1,28,3],[29,1,29,3],[30,1,30,3],[31,1,31,3],[32,1,32,3],[33,1,33,3],[20,1,20,3],[1,1,1,2],[2,1,2,2],[15,0,16,0],[15,1,16,1],[19,1,19,3]]}
[]
[null,"ESTADO DE SITUACION",null,null,"# De Dealer",null,{"$f":"DATOS1!C9","v":57040}]
[null,"FINANCIERA"]
[]
[]
[]
[]
[]
[null,null,null,null,null,null,null,null,"        "]
[]
[null,null,null,null,"ELABORO","ELABORO","ELABORO","ELABORO","ELABORO","ELABORO","ELABORO","ELABORO","ELABORO","ELABORO","ELABORO","ELABORO"]
[null,null,null,null,"LUDIVINA"]
[null,null,null,null,"MES","MES","MES","MES","MES","MES","MES","MES","MES","MES","MES","MES"]
[null,null,null,null,"Ene","Feb","Mar","Abr","May","Jun","Jul","Ago","Sep","Oct","Nov","Dic"]
[null,null,null,null,{"$f":"DATOS1!$Q$10","v":2015},{"$f":"DATOS1!$Q$10","v":2015},{"$f":"DATOS1!$Q$10","v":2015},{"$f":"DATOS1!$Q$10","v":2015},{"$f":"DATOS1!$Q$10","v":2015},{"$f":"DATOS1!$Q$10","v":2015},{"$f":"DATOS1!$Q$10","v":2015},{"$f":"DATOS1!$Q$10","v":2015},{"$f":"DATOS1!$Q$10","v":2015},{"$f":"DATOS1!$Q$10","v":2015},{"$f":"DATOS1!$Q$10","v":2015},{"$f":"DATOS1!$Q$10","v":2015}]
[null,"ACTIVOS"]
[]
[null,"ACTIVOS CIRCULANTES"]
[null,"   EFECTIVO Y CONTRATOS"]
[1111,"Fondo de Caja Chica",null,null,40000,0,0,0,0,0,0,0,0,0,0,0]
[1112,"Inversion Temporal en Efectivo",null,null,7468211,0,0,0,0,0,0,0,0,0,0,0]
[1113,"Contratos en Tránsito",null,null,0,0,0,0,0,0,0,0,0,0,0,0]
[null,"TOTAL EFECTIVO Y CONTRATOS",null,null,{"$f":"+E20+E21+E22","v":7508211},{"$f":"+F20+F21+F22","v":0},{"$f":"+G20+G21+G22","v":0},0,0,0,0,0,0,0,{"$f":"+O20+O21+O22","v":0},0]
[null,"   CUENTAS POR COBRAR"]
[1210,"Servicio y Partes",null,null,{"$f":"1472339.03+295582.04-944220.08+218260.53","v":1041961.5200000001},0,0,0,0,0,0,0,0,0,0,0]
[1211,"Vehículos a Menudeo Y CxC Clientes",null,null,21992712,0,0,0,0,0,0,0,0,0,0,0]
[1212,"Mayoreo y Transfer. a Distribuidores",null,null,0,0,0,0,0,0,0,0,0,0,0,0]
[1213,"Arrendamiento ",null,null,0,0,0,0,0,0,0,0,0,0,0,0]
[1214,"Contratos de Servicio",null,null,0,0,0,0,0,0,0,0,0,0,0,0]
[1215,"Empleados",null,null,0,0,0,0,0,0,0,0,0,0,0,0]
[1216,"Reclamos en Garantía - Toyota",null,null,0,0,0,0,0,0,0,0,0,0,0,0]
[1217,"Servicios Preentrega /  Daños de Transporte",null,null,0,0,0,0,0,0,0,0,0,0,0,0]
[1218,"Incentivos de Vehículo - Toyota",null,null,840500,0,0,0,0,0,0,0,0,0,0,0]
[1219,"Earnback - Toyota",null,null,0,0,0,0,0,0,0,0,0,0,0,0]
[1220,"Otras Cuentas por cobrar ",null,null,{"$f":"544360.61+468223.95+301185.93","v":1313770.49},0,0,0,0,0,0,0,0,0,0,0]
[1221,"Reserva para Ctas. de Cobro dudoso",null,null,22027.18,0,0,0,0,0,0,0,0,0,0,0]
[1222,"Ctas. X Cobrar Financiera y Seg",null,null,0,0,0,0,0,0,0,0,0,0,0,0]
[1223,"Compañías Afiliadas",null,null,12555122,0,0,0,0,0,0,0,0,0,0,0]
[null,"TOTAL DE CUENTAS X COBRAR",null,null,{"$f":"SUM(E25:E35)-E36+E37+E38","v":37722038.829999998},{"$f":"SUM(F25:F35)-F36+F37+F38","v":0},0,0,0,0,0,0,0,0,0,{"$f":"SUM(P25:P35)-P36+P37+P38","v":0}]
[null,"   INVENTARIOS"]
[1310,"Demos - Toyota",null,null,2516295.52,0,0,0,0,0,0,0,0,0,0,0]
[1311,"Demos - Otros",null,null,0,0,0,0,0,0,0,0,0,0,0,0]
[1312,"Vehículos Nuevos - Toyota",null,null,{"$f":"19468812.05-E41","v":16952516.530000001},0,0,0,0,0,0,0,0,0,0,0]
[1313,"Vehículos Nuevos - Otros",null,null,0,0,0,0,0,0,0,0,0,0,0,0]
[1314,"Usados - Toyota",null,null,1276586.21,0,0,0,0,0,0,0,0,0,0,0]
[1315,"Usados - Otros",null,null,0,0,0,0,0,0,0,0,0,0,0,0]
[1316,"Partes: En general - Inventario Físico",null,null,{"$f":"39110.76+82488.18-E48-E49-E50-E51","v":83979.94},0,0,0,0,0,0,0,0,0,0,0]
[1317,"Partes: Accesorios - Inventario Físico",null,null,2566,0,0,0,0,0,0,0,0,0,0,0]
[1318,"Partes: Llantas, gasolinas, aceites y grasas - Inventario Físico",null,null,5899,0,0,0,0,0,0,0,0,0,0,0]
[1319,"Partes: Inventario Total en Proceso",null,null,25566,0,0,0,0,0,0,0,0,0,0,0]
[1320,"Mano de Obra: Inventario Total en Proceso",null,null,3588,0,0,0,0,0,0,0,0,0,0,0]
[null,"TOTAL DE INVENTARIOS",null,null,{"$f":"SUM(E41:E51)","v":20866997.200000003},{"$f":"SUM(F41:F51)","v":0},0,0,0,0,0,0,0,0,{"$f":"SUM(O41:O51)","v":0},0]
[null,"   OTROS ACTIVOS CIRCULANTES"]
[1410,"Valores Negociables",null,null,0,0,0,0,0,0,0,0,0,0,0,0]
[1411,"Pagos Anticipados Impuestos - Seguros ",null,null,0,0,0,0,0,0,0,0,0,0,0,0]
[1412,"Pagos Anticipados Rentas - Intereses",null,null,0,0,0,0,0,0,0,0,0,0,0,0]
[1413,"Pagos Anticipados Publicidad",null,null,0,0,0,0,0,0,0,0,0,0,0,0]
[1414,"IVA por Cobrar",null,null,0,0,0,0,0,0,0,0,0,0,0,0]
[1415,"Pagos Anticipados - Otros",null,null,0,0,0,0,0,0,0,0,0,0,0,0]
[null,"   OTROS ACTIVOS VEHICULARES"]
[1510,"Vehículos Arrendados - Dep. Acum.",null,null,0,0,0,0,0,0,0,0,0,0,0,0]
[1511,"Vehículos en Renta Toyota - Dep. Acum.",null,null,0,0,0,0,0,0,0,0,0,0,0,0]
[null,"TOTAL OTROS ACTIVOS ",null,null,{"$f":"SUM(E54:E62)","v":0},{"$f":"SUM(F54:F62)","v":0},0,0,0,0,0,0,0,0,{"$f":"SUM(O54:O62)","v":0},0]
[null,"TOTAL ACTIVOS CIRCULANTES",null,null,{"$f":"E63+E52+E39+E23","v":66097247.030000001},0,0,0,0,0,0,0,0,0,{"$f":"O63+O52+O39+O23","v":0},0]
[null,"ACTIVOS FIJOS "]
[2110,"Terreno",null,null,0,0,0,0,0,0,0,0,0,0,0,0]
[2111,"Edificio y Ampliaciones ",null,null,0,0,0,0,0,0,0,0,0,0,0,0]
[2112,"     Menos Depreciación Acumulada",null,null,0,0,0,0,0,0,0,0,0,0,0,0]
[2113,"Equipo de Servicio",null,null,{"$f":"2034859.93+407827.96","v":2442687.89},0,0,0,0,0,0,0,0,0,0,0]
[2114,"      Menos Depreciación Acumulada",null,null,{"$f":"1505995.33+146879.62","v":1652874.9500000002},0,0,0,0,0,0,0,0,0,0,0]
[2115,"Equipo de P & A",null,null,683470.65,0,0,0,0,0,0,0,0,0,0,0]
[2116,"      Menos Depreciación Acumulada",null,null,581711.65,0,0,0,0,0,0,0,0,0,0,0]
[2117,"Mobiliario, Rotulos",null,null,1643522.58,0,0,0,0,0,0,0,0,0,0,0]
[2118,"      Menos Depreciación Acumulada",null,null,1178834.95,0,0,0,0,0,0,0,0,0,0,0]
[2119,"Vehículos de la Compañía",null,null,428603.4,0,0,0,0,0,0,0,0,0,0,0]
[2120,"      Menos Depreciación Acumulada",null,null,191961.94,0,0,0,0,0,0,0,0,0,0,0]
[2121,"Mejora Inmobiliaria (Solo si es arrendado)",null,null,{"$f":"11639009.31+879891.99","v":12518901.300000001},0,0,0,0,0,0,0,0,0,0,0]
[2122,"      Menos Depreciación Acumulada",null,null,{"$f":"1415296.49+193636.53","v":1608933.02},0,0,0,0,0,0,0,0,0,0,0]
[null,"TOTAL ACTIVOS FIJOS",null,null,{"$f":"+E66+E67-E68+E69-E70+E71-E72+E73-E74+E75-E76+E77-E78","v":12502869.310000002},{"$f":"+F66+F67-F68+F69-F70+F71-F72+F73-F74+F75-F76+F77-F78","v":0},0,0,0,0,0,0,0,0,{"$f":"+O66+O67-O68+O69-O70+O71-O72+O73-O74+O75-O76+O77-O78","v":0},0]
[null,"OTROS ACTIVOS"]
[3110,"Depósitos en Garantía",null,null,3232066.93,0,0,0,0,0,0,0,0,0,0,0]
[3111,"Adeudo de Cias. Financieras - Diferido",null,null,0,0,0,0,0,0,0,0,0,0,0,0]
[3112,"Inversión en Cias. Filiales",null,null,0,0,0,0,0,0,0,0,0,0,0,0]
[null,"TOTAL DE OTROS ACTIVOS",null,null,{"$f":"SUM(E81:E83)","v":3232066.93},{"$f":"SUM(F81:F83)","v":0},{"$f":"SUM(G81:G83)","v":0},0,0,0,0,0,0,0,{"$f":"SUM(O81:O83)","v":0},0]
[null,"TOTAL DE ACTIVOS  ",null,null,{"$f":"+E84+E79+E64","v":81832183.270000011},{"$f":"+F84+F79+F64","v":0},0,0,0,0,0,0,0,0,{"$f":"+O84+O79+O64","v":0},0]
[null,"PASIVOS"]
[null,"PASIVOS CORTO PLAZO"]
[null,"   CUENTAS POR PAGAR"]
[4111,"Proveedores Comerciales",null,null,{"$f":"3644313.4","v":3644313.4},0,0,0,0,0,0,0,0,0,0,0]
[4112,"Otros Acreedores",null,null,0,0,0,0,0,0,0,0,0,0,0,0]
[4113,"Liquidación de Gravamen Sobre Vehículos",null,null,0,0,0,0,0,0,0,0,0,0,0,0]
[4114,"Pago por anticipado de Clientes y Dist.",null,null,0,0,0,0,0,0,0,0,0,0,0,0]
[4115,"Derechos de Licencias y Títulos",null,null,0,0,0,0,0,0,0,0,0,0,0,0]
[4116,"Documentos por Pagar - Varios Corto Plazo",null,null,3375000,0,0,0,0,0,0,0,0,0,0,0]
[null,"TOTAL DE CUENTAS POR PAGAR",null,null,{"$f":"SUM(E89:E94)","v":7019313.4000000004},{"$f":"SUM(F89:F94)","v":0},0,0,0,0,0,0,0,0,{"$f":"SUM(O89:O94)","v":0},0]
[null,"   PASIVOS ACUMULADOS"]
[4210,"Interés",null,null,0,0,0,0,0,0,0,0,0,0,0,0]
[4211,"Seguros",null,null,0,0,0,0,0,0,0,0,0,0,0,0]
[4212,"Nómina",null,null,0,0,0,0,0,0,0,0,0,0,0,0]
[4213,"Impuestos Sobre Nóminas ",null,null,0,0,0,0,0,0,0,0,0,0,0,0]
[4214,"Impuesto de Venta",null,null,1663936.58,0,0,0,0,0,0,0,0,0,0,0]
[4215,"Impuestos Acumulados Otros",null,null,{"$f":"1302108.55+271706.8","v":1573815.35},0,0,0,0,0,0,0,0,0,0,0]
[4216,"I.S.R.",null,null,0,0,0,0,0,0,0,0,0,0,0,0]
[4217,"Bonos Acum. Empleados / Propietarios",null,null,0,0,0,0,0,0,0,0,0,0,0,0]
[4218,"Fondo de Jubilación /  P.T.U.",null,null,0,0,0,0,0,0,0,0,0,0,0,0]
[4219,"Otros Acumulados",null,null,0,0,0,0,0,0,0,0,0,0,0,0]
[4220,"Porción Circulante de Deuda a Largo Plazo",null,null,0,0,0,0,0,0,0,0,0,0,0,0]
[null,"TOTAL DE PASIVOS ACUMULADOS",null,null,{"$f":"SUM(E97:E107)","v":3237751.93},{"$f":"SUM(F97:F107)","v":0},0,0,0,0,0,0,0,0,{"$f":"SUM(O97:O107)","v":0},0]
[null,"TOTAL DE C X P Y PASIVOS ACUM.",null,null,{"$f":"+E108+E95","v":10257065.33},{"$f":"+F108+F95","v":0},0,0,0,0,0,0,0,0,{"$f":"+O108+O95","v":0},0]
[null,"   CxP INVENTARIOS FINANCIADOS"]
[4310,"Vehículos Nuevos y Demos.",null,null,25944037,0,0,0,0,0,0,0,0,0,0,0]
[4311,"Vehículos Usados - Toyota",null,null,0,0,0,0,0,0,0,0,0,0,0,0]
[4312,"Vehículos Usados - Otros",null,null,0,0,0,0,0,0,0,0,0,0,0,0]
[4313,"P & A Toyota Financiados",null,null,0,0,0,0,0,0,0,0,0,0,0,0]
[4314,"Otro Inventario",null,null,{"$f":"678073.27+767430.14","v":1445503.4100000001},0,0,0,0,0,0,0,0,0,0,0]
[null,"TOTAL  INVENTARIOS FINANCIADOS",null,null,{"$f":"SUM(E111:E115)","v":27389540.41},{"$f":"SUM(F111:F115)","v":0},0,0,0,0,0,0,0,0,{"$f":"SUM(O111:O115)","v":0},0]
[null,"   OTROS PASIVOS VEHICULARES"]
[4410,"Vehículos de Arrendamiento",null,null,0,0,0,0,0,0,0,0,0,0,0,0]
[4411,"Vehículos en Renta - Toyota",null,null,0,0,0,0,0,0,0,0,0,0,0,0]
[4412,"Vehículos en Renta - Otros",null,null,0,0,0,0,0,0,0,0,0,0,0,0]
[null,"TOTAL OTROS PASIVOS VEHICULARES",null,null,{"$f":"SUM(E118:E120)","v":0},{"$f":"SUM(F118:F120)","v":0},0,0,0,0,0,0,0,0,{"$f":"SUM(O118:O120)","v":0},0]
[null,"TOTAL DE PASIVOS CIRCULANTES",null,null,{"$f":"+E121+E116+E109","v":37646605.740000002},{"$f":"+F121+F116+F109","v":0},0,0,0,0,0,0,0,0,{"$f":"+O121+O116+O109","v":0},0]
[null,"PASIVO LARGO PLAZO"]
[4510,"Créditos Refaccionarios",null,null,0,0,0,0,0,0,0,0,0,0,0,0]
[4511,"Hipotecas",null,null,7518158.4100000001,0,0,0,0,0,0,0,0,0,0,0]
[4512,"Otros Documentos y Contratos",null,null,{"$f":"62936.31","v":62936.31},0,0,0,0,0,0,0,0,0,0,0]
[4513,"Documentos de Propietarios",null,null,0,0,0,0,0,0,0,0,0,0,0,0]
[4514,"Documentos Cias. Afiliadas",null,null,0,0,0,0,0,0,0,0,0,0,0,0]
[4515,"I.S.R. Diferido",null,null,0,0,0,0,0,0,0,0,0,0,0,0]
[null,"TOTAL DEUDA LARGO PLAZO",null,null,{"$f":"SUM(E124:E129)","v":7581094.7199999997},{"$f":"SUM(F124:F129)","v":0},0,0,0,0,0,0,0,0,0,0]
[null,"PASIVOS TOTALES",null,null,{"$f":"+E130+E122","v":45227700.460000001},{"$f":"+F130+F122","v":0},0,0,0,0,0,0,0,0,0,0]
[null,"CAPITAL  "]
[5010,"Capital Social Parte Fija",null,null,10500000,0,0,0,0,0,0,0,0,0,0,0]
[5011,"Capital Social Variable",null,null,0,0,0,0,0,0,0,0,0,0,0,0]
[5012,"Partidas Virtuales",null,null,0,0,0,0,0,0,0,0,0,0,0,0]
[5013,"Utilidades  o Pérdidas Anteriores",0,null,{"$f":"24905352","v":24905352},{"$f":"IF('ESTADO DE RESULTADOS1'!E13=0,0,+E139+E136)","v":0},{"$f":"IF('ESTADO DE RESULTADOS1'!F13=0,0,+F139+F136)","v":0},{"$f":"IF('ESTADO DE RESULTADOS1'!G13=0,0,+G139+G136)","v":0},{"$f":"IF('ESTADO DE RESULTADOS1'!H13=0,0,+H139+H136)","v":0},{"$f":"IF('ESTADO DE RESULTADOS1'!I13=0,0,+I139+I136)","v":0},{"$f":"IF('ESTADO DE RESULTADOS1'!J13=0,0,+J139+J136)","v":0},{"$f":"IF('ESTADO DE RESULTADOS1'!K13=0,0,+K139+K136)","v":0},{"$f":"IF('ESTADO DE RESULTADOS1'!L13=0,0,+L139+L136)","v":0},{"$f":"IF('ESTADO DE RESULTADOS1'!M13=0,0,+M139+M136)","v":0},{"$f":"IF('ESTADO DE RESULTADOS1'!N13=0,0,+N139+N136)","v":0},{"$f":"IF('ESTADO DE RESULTADOS1'!O13=0,0,+O139+O136)","v":0}]
[5014,"Dividendos",null,null,0,0,0,0,0,0,0,0,0,0,0,0]
[null,"INVERSION NETA",null,null,{"$f":"+E133+E134+E136-E137+E135","v":35405352},{"$f":"+F133+F134+F136-F137+F135","v":0},0,0,0,0,0,0,0,0,0,0]
[5016,"Utilidad o Perdida del Ejercicio",null,null,{"$f":"'ESTADO DE RESULTADOS1'!D165","v":1199130.8589999969},{"$f":"'ESTADO DE RESULTADOS1'!E165","v":0},{"$f":"'ESTADO DE RESULTADOS1'!F165","v":0},{"$f":"'ESTADO DE RESULTADOS1'!G165","v":0},{"$f":"'ESTADO DE RESULTADOS1'!H165","v":0},{"$f":"'ESTADO DE RESULTADOS1'!I165","v":0},{"$f":"'ESTADO DE RESULTADOS1'!J165","v":0},{"$f":"'ESTADO DE RESULTADOS1'!K165","v":0},{"$f":"'ESTADO DE RESULTADOS1'!L165","v":0},{"$f":"'ESTADO DE RESULTADOS1'!M165","v":0},{"$f":"'ESTADO DE RESULTADOS1'!N165","v":0},{"$f":"'ESTADO DE RESULTADOS1'!O165","v":0}]
[null,"TOTAL DE CAPITAL",null,null,{"$f":"+E138+E139","v":36604482.858999997},{"$f":"+F138+F139","v":0},0,0,0,0,0,0,0,0,0,0]
[null,"TOTAL DE PASIVO + CAPITAL",null,null,{"$f":"+E140+E131","v":81832183.319000006},0,0,0,0,0,0,0,0,0,0,0]
[]
[null,"COMPROBACIÓN",null,null,{"$f":"IF(ROUND(E141,0)>ROUND(E85,0),\"ERROR\",\"OK\")","v":"OK"},{"$f":"IF(ROUND(F141,0)>ROUND(F85,0),\"ERROR\",\"OK\")","v":"OK"},"OK","OK","OK","OK","OK","OK","OK","OK","OK","OK"]
[null,"DIFERENCIA",null,null,{"$f":"+E141-E85","v":4.8999994993209839E-2},0,0,0,0,0,0,0,0,0,0,0]
[]
[]
[]
[]
[]
[]
[]
[]
[]
[]
[]
[]
[]
[null,null,null,null,null," "]

{"sheet":"REPORTE","index":16,"n_rows":94,"n_cols":28,"rows_kept":94,"cut":false,"hidden":false,"merged":[[93,20,93,21],[93,22,93,23],[93,24,93,25],[93,26,93,27],[92,26,92,27],[93,2,93,3],[93,4,93,5],[93,6,93,7],[93,8,93,9],[93,10,93,11],[93,12,93,13],[93,14,93,15],[93,16,93,17],[93,18,93,19],[92,14,92,15],[92,16,92,17],[92,18,92,19],[92,20,92,21],[92,22,92,23],[92,24,92,25],[91,20,91,21],[91,22,91,23],[91,24,91,25],[91,26,91,27],[92,2,92,3],[92,4,92,5],[92,6,92,7],[92,8,92,9],[92,10,92,11],[92,12,92,13],[91,2,91,3],[91,4,91,5],[91,6,91,7],[91,8,91,9],[91,10,91,11],[91,12,91,13],[91,14,91,15],[91,16,91,17],[91,18,91,19],[89,20,89,21],[89,22,89,23],[89,24,89,25],[89,26,89,27],[90,2,90,3],[90,4,90,5],[90,6,90,7],[90,8,90,9],[90,10,90,11],[90,12,90,13],[90,26,90,27],[90,14,90,15],[90,16,90,17],[90,18,90,19],[90,20,90,21],[90,22,90,23],[90,24,90,25],[89,2,89,3],[89,4,89,5],[89,6,89,7],[89,8,89,9],[89,10,89,11],[89,12,89,13],[89,14,89,15],[89,16,89,17],[89,18,89,19],[85,20,85,21],[85,22,85,23],[85,24,85,25],[85,26,85,27],[86,2,86,3],[86,4,86,5],[86,6,86,7],[86,8,86,9],[86,10,86,11],[86,12,86,13],[86,26,86,27],[86,14,86,15],[86,16,86,17],[86,18,86,19],[86,20,86,21],[86,22,86,23],[86,24,86,25],[85,2,85,3],[85,4,85,5],[85,6,85,7],[85,8,85,9],[85,10,85,11],[85,12,85,13],[85,14,85,15],[85,16,85,17],[85,18,85,19],[83,20,83,21],[83,22,83,23],[83,24,83,25],[83,26,83,27],[84,2,84,3],[84,4,84,5],[84,6,84,7],[84,8,84,9],[84,10,84,11],[84,12,84,13],[84,26,84,27],[84,14,84,15],[84,16,84,17],[84,18,84,19],[84,20,84,21],[84,22,84,23],[84,24,84,25],[83,2,83,3],[83,4,83,5],[83,6,83,7],[83,8,83,9],[83,10,83,11],[83,12,83,13],[83,14,83,15],[83,16,83,17],[83,18,83,19],[81,20,81,21],[81,22,81,23],[81,24,81,25],[81,26,81,27],[82,2,82,3],[82,4,82,5],[82,6,82,7],[82,8,82,9],[82,10,82,11],[82,12,82,13],[82,26,82,27],[82,14,82,15],[82,16,82,17],[82,18,82,19],[82,20,82,21],[82,22,82,23],[82,24,82,25],[81,2,81,3],[81,4,81,5],[81,6,81,7],[81,8,81,9],[81,10,81,11],[81,12,81,13],[81,14,81,15],[81,16,81,17],[81,18,81,19],[77,20,77,21],[77,22,77,23],[77,24,77,25],[77,26,77,27],[80,2,80,3],[80,4,80,5],[80,6,80,7],[80,8,80,9],[80,10,80,11],[80,12,80,13],[80,26,80,27],[80,14,80,15],[80,16,80,17],[80,18,80,19],[80,20,80,21],[80,22,80,23],[80,24,80,25],[77,2,77,3],[77,4,77,5],[77,6,77,7],[77,8,77,9],[77,10,77,11],[77,12,77,13],[77,14,77,15],[77,16,77,17],[77,18,77,19],[75,20,75,21],[75,22,75,23],[75,24,75,25],[75,26,75,27],[76,2,76,3],[76,4,76,5],[76,6,76,7],[76,8,76,9],[76,10,76,11],[76,12,76,13],[76,26,76,27],[76,14,76,15],[76,16,76,17],[76,18,76,19],[76,20,76,21],[76,22,76,23],[76,24,76,25],[75,2,75,3],[75,4,75,5],[75,6,75,7],[75,8,75,9],[75,10,75,11],[75,12,75,13],[75,14,75,15],[75,16,75,17],[75,18,75,19],[72,20,72,21],[72,22,72,23],[72,24,72,25],[72,26,72,27],[73,2,73,3],[73,4,73,5],[73,6,73,7],[73,8,73,9],[73,10,73,11],[73,12,73,13],[73,26,73,27],[73,14,73,15],[73,16,73,17],[73,18,73,19],[73,20,73,21],[73,22,73,23],[73,24,73,25],[72,2,72,3],[72,4,72,5],[72,6,72,7],[72,8,72,9],[72,10,72,11],[72,12,72,13],[72,14,72,15],[72,16,72,17],[72,18,72,19],[70,20,70,21],[70,22,70,23],[70,24,70,25],[70,26,70,27],[71,2,71,3],[71,4,71,5],[71,6,71,7],[71,8,71,9],[71,10,71,11],[71,12,71,13],[71,26,71,27],[71,14,71,15],[71,16,71,17],[71,18,71,19],[71,20,71,21],[71,22,71,23],[71,24,71,25],[70,2,70,3],[70,4,70,5],[70,6,70,7],[70,8,70,9],[70,10,70,11],[70,12,70,13],[70,14,70,15],[70,16,70,17],[70,18,70,19],[68,20,68,21],[68,22,68,23],[68,24,68,25],[68,26,68,27],[69,2,69,3],[69,4,69,5],[69,6,69,7],[69,8,69,9],[69,10,69,11],[69,12,69,13],[69,26,69,27],[69,14,69,15],[69,16,69,17],[69,18,69,19],[69,20,69,21],[69,22,69,23],[69,24,69,25],[68,2,68,3],[68,4,68,5],[68,6,68,7],[68,8,68,9],[68,10,68,11],[68,12,68,13],[68,14,68,15],[68,16,68,17],[68,18,68,19],[66,20,66,21],[66,22,66,23],[66,24,66,25],[66,26,66,27],[67,2,67,3],[67,4,67,5],[67,6,67,7],[67,8,67,9],[67,10,67,11],[67,12,67,13],[67,26,67,27],[67,14,67,15],[67,16,67,17],[67,18,67,19],[67,20,67,21],[67,22,67,23],[67,24,67,25],[66,2,66,3],[66,4,66,5],[66,6,66,7],[66,8,66,9],[66,10,66,11],[66,12,66,13],[66,14,66,15],[66,16,66,17],[66,18,66,19],[63,20,63,21],[63,22,63,23],[63,24,63,25],[63,26,63,27],[64,2,64,3],[64,4,64,5],[64,6,64,7],[64,8,64,9],[64,10,64,11],[64,12,64,13],[64,26,64,27],[64,14,64,15],[64,16,64,17],[64,18,64,19],[64,20,64,21],[64,22,64,23],[64,24,64,25],[63,2,63,3],[63,4,63,5],[63,6,63,7],[63,8,63,9],[63,10,63,11],[63,12,63,13],[63,14,63,15],[63,16,63,17],[63,18,63,19],[61,20,61,21],[61,22,61,23],[61,24,61,25],[61,26,61,27],[62,2,62,3],[62,4,62,5],[62,6,62,7],[62,8,62,9],[62,10,62,11],[62,12,62,13],[62,26,62,27],[62,14,62,15],[62,16,62,17],[62,18,62,19],[62,20,62,21],[62,22,62,23],[62,24,62,25],[61,2,61,3],[61,4,61,5],[61,6,61,7],[61,8,61,9],[61,10,61,11],[61,12,61,13],[61,14,61,15],[61,16,61,17],[61,18,61,19],[59,20,59,21],[59,22,59,23],[59,24,59,25],[59,26,59,27],[60,2,60,3],[60,4,60,5],[60,6,60,7],[60,8,60,9],[60,10,60,11],[60,12,60,13],[60,26,60,27],[60,14,60,15],[60,16,60,17],[60,18,60,19],[60,20,60,21],[60,22,60,23],[60,24,60,25],[59,2,59,3],[59,4,59,5],[59,6,59,7],[59,8,59,9],[59,10,59,11],[59,12,59,13],[59,14,59,15],[59,16,59,17],[59,18,59,19],[56,20,56,21],[56,22,56,23],[56,24,56,25],[56,26,56,27],[58,2,58,3],[58,4,58,5],[58,6,58,7],[58,8,58,9],[58,10,58,11],[58,12,58,13],[58,26,58,27],[58,14,58,15],[58,16,58,17],[58,18,58,19],[58,20,58,21],[58,22,58,23],[58,24,58,25],[56,2,56,3],[56,4,56,5],[56,6,56,7],[56,8,56,9],[56,10,56,11],[56,12,56,13],[56,14,56,15],[56,16,56,17],[56,18,56,19],[54,20,54,21],[54,22,54,23],[54,24,54,25],[54,26,54,27],[55,2,55,3],[55,4,55,5],[55,6,55,7],[55,8,55,9],[55,10,55,11],[55,12,55,13],[55,26,55,27],[55,14,55,15],[55,16,55,17],[55,18,55,19],[55,20,55,21],[55,22,55,23],[55,24,55,25],[54,2,54,3],[54,4,54,5],[54,6,54,7],[54,8,54,9],[54,10,54,11],[54,12,54,13],[54,14,54,15],[54,16,54,17],[54,18,54,19],[52,20,52,21],[52,22,52,23],[52,24,52,25],[52,26,52,27],[53,2,53,3],[53,4,53,5],[53,6,53,7],[53,8,53,9],[53,10,53,11],[53,12,53,13],[53,26,53,27],[53,14,53,15],[53,16,53,17],[53,18,53,19],[53,20,53,21],[53,22,53,23],[53,24,53,25],[52,2,52,3],[52,4,52,5],[52,6,52,7],[52,8,52,9],[52,10,52,11],[52,12,52,13],[52,14,52,15],[52,16,52,17],[52,18,52,19],[49,20,49,21],[49,22,49,23],[49,24,49,25],[49,26,49,27],[50,2,50,3],[50,4,50,5],[50,6,50,7],[50,8,50,9],[50,10,50,11],[50,12,50,13],[50,26,50,27],[50,14,50,15],[50,16,50,17],[50,18,50,19],[50,20,50,21],[50,22,50,23],[50,24,50,25],[49,2,49,3],[49,4,49,5],[49,6,49,7],[49,8,49,9],[49,10,49,11],[49,12,49,13],[49,14,49,15],[49,16,49,17],[49,18,49,19],[47,20,47,21],[47,22,47,23],[47,24,47,25],[47,26,47,27],[48,2,48,3],[48,4,48,5],[48,6,48,7],[48,8,48,9],[48,10,48,11],[48,12,48,13],[48,26,48,27],[48,14,48,15],[48,16,48,17],[48,18,48,19],[48,20,48,21],[48,22,48,23],[48,24,48,25],[47,2,47,3],[47,4,47,5],[47,6,47,7],[47,8,47,9],[47,10,47,11],[47,12,47,13],[47,14,47,15],[47,16,47,17],[47,18,47,19],[45,24,45,25],[45,26,45,27],[46,2,46,3],[46,4,46,5],[46,6,46,7],[46,8,46,9],[46,10,46,11],[46,12,46,13],[46,26,46,27],[46,14,46,15],[46,16,46,17],[46,18,46,19],[46,20,46,21],[46,22,46,23],[46,24,46,25],[44,26,44,27],[45,2,45,3],[45,4,45,5],[45,6,45,7],[45,8,45,9],[45,10,45,11],[45,12,45,13],[45,14,45,15],[45,16,45,17],[45,18,45,19],[44,14,44,15],[44,16,44,17],[44,18,44,19],[44,20,44,21],[44,22,44,23],[44,24,44,25],[44,2,44,3],[44,4,44,5],[44,6,44,7],[44,8,44,9],[44,10,44,11],[44,12,44,13],[45,20,45,21],[45,22,45,23],[41,18,41,19],[41,20,41,21],[41,22,41,23],[41,24,41,25],[41,26,41,27],[42,2,42,3],[40,24,40,25],[40,26,40,27],[41,2,41,3],[41,4,41,5],[41,6,41,7],[41,8,41,9],[41,10,41,11],[41,12,41,13],[41,14,41,15],[41,16,41,17],[40,12,40,13],[40,14,40,15],[40,16,40,17],[40,18,40,19],[40,20,40,21],[40,22,40,23],[39,18,39,19],[39,20,39,21],[39,22,39,23],[39,24,39,25],[39,26,39,27],[40,2,40,3],[40,4,40,5],[40,6,40,7],[40,8,40,9],[40,10,40,11],[39,2,39,3],[39,4,39,5],[39,6,39,7],[39,8,39,9],[39,10,39,11],[39,12,39,13],[39,14,39,15],[39,16,39,17],[38,16,38,17],[37,18,37,19],[37,20,37,21],[37,22,37,23],[37,24,37,25],[37,26,37,27],[38,2,38,3],[38,4,38,5],[38,6,38,7],[38,8,38,9],[38,10,38,11],[38,24,38,25],[38,26,38,27],[38,18,38,19],[38,20,38,21],[38,22,38,23],[37,2,37,3],[37,4,37,5],[37,6,37,7],[37,8,37,9],[37,10,37,11],[37,12,37,13],[5,9,5,10],[6,5,6,9],[11,2,11,3],[11,4,11,5],[11,6,11,7],[11,8,11,9],[11,10,11,11],[38,12,38,13],[38,14,38,15],[11,24,11,25],[11,26,11,27],[11,18,11,19],[11,20,11,21],[11,22,11,23],[37,14,37,15],[37,16,37,17],[11,12,11,13],[11,14,11,15],[11,16,11,17]]}
[]
[null,{"$f":"+DATOS1!C9","v":57040}]
[null,{"$f":"+DATOS1!C10","v":"TOYOTA CELAYA"}]
[null,"RESUMEN FINANCIERO"]
[]
[null,null,null,null,null,null,null,null,null,{"$f":"IF(ISERROR(+(J5/H5)-1),0,+(J5/H5)-1)","v":0}]
[null,null,null,null,null,"Cifras en Pesos"]
[null,"CONCEPTO",{"$f":"BALANCE!E14","v":"Ene"},"%",{"$f":"BALANCE!F14","v":"Feb"},"%",{"$f":"BALANCE!G14","v":"Mar"},"%",{"$f":"BALANCE!H14","v":"Abr"},"%",{"$f":"BALANCE!I14","v":"May"},"%",{"$f":"BALANCE!J14","v":"Jun"},"%",{"$f":"BALANCE!K14","v":"Jul"},"%",{"$f":"BALANCE!L14","v":"Ago"},"%",{"$f":"BALANCE!M14","v":"Sep"},"%",{"$f":"BALANCE!N14","v":"Oct"},"%",{"$f":"BALANCE!O14","v":"Nov"},"%",{"$f":"BALANCE!P14","v":"Dic"},"%","Acum. / Prom","%"]
[null,"ESTADO DE RESULTADOS"]
[null,"INGRESOS"]
[null,"Ventas Totales ",{"$f":"'ESTADO DE RESULTADOS1'!D26","v":26635046.939999994},{"$f":"IF(ISERROR(+C11/$C$11),0,(+C11/$C$11))","v":1},{"$f":"'ESTADO DE RESULTADOS1'!E26","v":0},{"$f":"IF(ISERROR(+E11/$E$11),0,+E11/$E$11)","v":0},{"$f":"'ESTADO DE RESULTADOS1'!F26","v":0},{"$f":"IF(ISERROR(+G11/$G$11),0,+G11/$G$11)","v":0},{"$f":"'ESTADO DE RESULTADOS1'!G26","v":0},{"$f":"IF(ISERROR(+I11/$I$11),0,+I11/$I$11)","v":0},{"$f":"'ESTADO DE RESULTADOS1'!H26","v":0},{"$f":"IF(ISERROR(+K11/$K$11),0,+K11/$K$11)","v":0},{"$f":"'ESTADO DE RESULTADOS1'!I26","v":0},{"$f":"IF(ISERROR(+M11/$M$11),0,+M11/$M$11)","v":0},{"$f":"'ESTADO DE RESULTADOS1'!J26","v":0},{"$f":"IF(ISERROR(+O11/$O$11),0,+O11/$O$11)","v":0},{"$f":"'ESTADO DE RESULTADOS1'!K26","v":0},{"$f":"IF(ISERROR(+Q11/$Q$11),0,+Q11/$Q$11)","v":0},{"$f":"'ESTADO DE RESULTADOS1'!L26","v":0},{"$f":"IF(ISERROR(+S11/$S$11),0,+S11/$S$11)","v":0},{"$f":"'ESTADO DE RESULTADOS1'!M26","v":0},{"$f":"IF(ISERROR(+U11/$U$11),0,(+U11/$U$11))","v":0},{"$f":"+'ESTADO DE RESULTADOS1'!N26","v":0},{"$f":"IF(ISERROR(+W11/$W$11),0, +W11/$W$11)","v":0},{"$f":"'ESTADO DE RESULTADOS1'!O26","v":0},{"$f":"IF(ISERROR(+Y11/$Y$11),0,+Y11/$Y$11)","v":0},{"$f":"Y11+W11+U11+S11+Q11+O11+M11+K11+I11+G11+E11+C11","v":26635046.939999994},{"$f":"IF(ISERROR(+AA11/$Y$11),0,+AA11/$Y$11)","v":0}]
[null,"Incremento en Ventas","N.A.",null,{"$f":"IF(ISERROR(+(E11/C11)-1),0,E11/C11)-1","v":-1},null,{"$f":"IF(ISERROR(+(G11/E11)-1),0,G11/E11)-1","v":-1},null,{"$f":"IF(ISERROR(+(I11/G11)-1),0,I11/G11)-1","v":-1},null,{"$f":"IF(ISERROR(+(K11/I11)-1),0,K11/I11)-1","v":-1},null,{"$f":"IF(ISERROR(+(M11/K11)-1),0,M11/K11)-1","v":-1},null,{"$f":"IF(ISERROR(+(O11/M11)-1),0,O11/M11)-1","v":-1},null,{"$f":"IF(ISERROR(+(Q11/O11)-1),0,Q11/O11)-1","v":-1},null,{"$f":"IF(ISERROR(+(S11/Q11)-1),0,S11/Q11)-1","v":-1},null,{"$f":"IF(ISERROR(+(U11/S11)-1),0,U11/S11)-1","v":-1},null,{"$f":"IF(ISERROR(+(W11/U11)-1),0,W11/U11)-1","v":-1},null,{"$f":"IF(ISERROR(+(Y11/W11)-1),0,Y11/W11)-1","v":-1},null,{"$f":"IF(ISERROR(+(AA11/Y11)-1),0,AA11/Y11)-1","v":-1}]
[null,"Resultado Bruto",{"$f":"'ESTADO DE RESULTADOS1'!D28","v":2455619.0699999966},{"$f":"IF(ISERROR(+C13/$C$11),0,+C13/$C$11)","v":9.2195034442090498E-2},{"$f":"'ESTADO DE RESULTADOS1'!E28","v":0},{"$f":"IF(ISERROR(+E13/$C$11),0,+E13/$C$11)","v":0},{"$f":"'ESTADO DE RESULTADOS1'!F28","v":0},{"$f":"IF(ISERROR(+G13/$C$11),0,+G13/$C$11)","v":0},{"$f":"'ESTADO DE RESULTADOS1'!G28","v":0},{"$f":"IF(ISERROR(+I13/$C$11),0,+I13/$C$11)","v":0},{"$f":"'ESTADO DE RESULTADOS1'!H28","v":0},{"$f":"IF(ISERROR(+K13/$C$11),0,+K13/$C$11)","v":0},{"$f":"'ESTADO DE RESULTADOS1'!I28","v":0},{"$f":"IF(ISERROR(+M13/$C$11),0,+M13/$C$11)","v":0},{"$f":"'ESTADO DE RESULTADOS1'!J28","v":0},{"$f":"IF(ISERROR(+O13/$C$11),0,+O13/$C$11)","v":0},{"$f":"'ESTADO DE RESULTADOS1'!K28","v":0},{"$f":"IF(ISERROR(+Q13/$C$11),0,+Q13/$C$11)","v":0},{"$f":"'ESTADO DE RESULTADOS1'!L28","v":0},{"$f":"IF(ISERROR(+S13/$C$11),0,+S13/$C$11)","v":0},{"$f":"'ESTADO DE RESULTADOS1'!M28","v":0},{"$f":"IF(ISERROR(+U13/$C$11),0,+U13/$C$11)","v":0},{"$f":"'ESTADO DE RESULTADOS1'!N28","v":0},{"$f":"IF(ISERROR(+W13/$C$11),0,+W13/$C$11)","v":0},{"$f":"'ESTADO DE RESULTADOS1'!O28","v":0},{"$f":"IF(ISERROR(+Y13/$C$11),0,+Y13/$C$11)","v":0},{"$f":"Y13+W13+U13+S13+Q13+O13+M13+K13+I13+G13+E13+C13","v":2455619.0699999966},{"$f":"IF(ISERROR(+AA13/$C$11),0,+AA13/$C$11)","v":9.2195034442090498E-2}]
[null,"Resultado de Operación",{"$f":"'ESTADO DE RESULTADOS1'!D157","v":548167.43899999675},{"$f":"IF(ISERROR(+C14/$C$11),0,+C14/$C$11)","v":2.0580682295579873E-2},{"$f":"'ESTADO DE RESULTADOS1'!E157","v":0},{"$f":"IF(ISERROR(+E14/$C$11),0,+E14/$C$11)","v":0},{"$f":"'ESTADO DE RESULTADOS1'!F157","v":0},0,{"$f":"'ESTADO DE RESULTADOS1'!G157","v":0},{"$f":"IF(ISERROR(+I14/$C$11),0,+I14/$C$11)","v":0},{"$f":"'ESTADO DE RESULTADOS1'!H157","v":0},{"$f":"IF(ISERROR(+K14/$C$11),0,+K14/$C$11)","v":0},{"$f":"'ESTADO DE RESULTADOS1'!I157","v":0},{"$f":"IF(ISERROR(+M14/$C$11),0,+M14/$C$11)","v":0},{"$f":"'ESTADO DE RESULTADOS1'!J157","v":0},{"$f":"IF(ISERROR(+O14/$C$11),0,+O14/$C$11)","v":0},{"$f":"'ESTADO DE RESULTADOS1'!K157","v":0},{"$f":"IF(ISERROR(+Q14/$C$11),0,+Q14/$C$11)","v":0},{"$f":"'ESTADO DE RESULTADOS1'!L157","v":0},{"$f":"IF(ISERROR(+S14/$C$11),0,+S14/$C$11)","v":0},{"$f":"'ESTADO DE RESULTADOS1'!M157","v":0},{"$f":"IF(ISERROR(+U14/$C$11),0,+U14/$C$11)","v":0},{"$f":"'ESTADO DE RESULTADOS1'!N157","v":0},{"$f":"IF(ISERROR(+W14/$C$11),0,+W14/$C$11)","v":0},{"$f":"'ESTADO DE RESULTADOS1'!O157","v":0},{"$f":"IF(ISERROR(+Y14/$C$11),0,+Y14/$C$11)","v":0},{"$f":"Y14+W14+U14+S14+Q14+O14+M14+K14+I14+G14+E14+C14","v":548167.43899999675},{"$f":"IF(ISERROR(+AA14/$C$11),0,+AA14/$C$11)","v":2.0580682295579873E-2}]
[null,"Resultado Neto",{"$f":"'ESTADO DE RESULTADOS1'!D165","v":1199130.8589999969},{"$f":"IF(ISERROR(+C15/$C$11),0,+C15/$C$11)","v":4.502079015296067E-2},{"$f":"'ESTADO DE RESULTADOS1'!E165","v":0},0,{"$f":"'ESTADO DE RESULTADOS1'!F165","v":0},0,{"$f":"'ESTADO DE RESULTADOS1'!G165","v":0},{"$f":"IF(ISERROR(+I15/$C$11),0,+I15/$C$11)","v":0},{"$f":"'ESTADO DE RESULTADOS1'!H165","v":0},{"$f":"IF(ISERROR(+K15/$C$11),0,+K15/$C$11)","v":0},{"$f":"'ESTADO DE RESULTADOS1'!I165","v":0},{"$f":"IF(ISERROR(+M15/$C$11),0,+M15/$C$11)","v":0},{"$f":"'ESTADO DE RESULTADOS1'!J165","v":0},{"$f":"IF(ISERROR(+O15/$C$11),0,+O15/$C$11)","v":0},{"$f":"'ESTADO DE RESULTADOS1'!K165","v":0},{"$f":"IF(ISERROR(+Q15/$C$11),0,+Q15/$C$11)","v":0},{"$f":"'ESTADO DE RESULTADOS1'!L165","v":0},{"$f":"IF(ISERROR(+S15/$C$11),0,+S15/$C$11)","v":0},{"$f":"'ESTADO DE RESULTADOS1'!M165","v":0},{"$f":"IF(ISERROR(+U15/$C$11),0,+U15/$C$11)","v":0},{"$f":"'ESTADO DE RESULTADOS1'!N165","v":0},{"$f":"IF(ISERROR(+W15/$C$11),0,+W15/$C$11)","v":0},{"$f":"'ESTADO DE RESULTADOS1'!O165","v":0},{"$f":"IF(ISERROR(+Y15/$C$11),0,+Y15/$C$11)","v":0},{"$f":"Y15+W15+U15+S15+Q15+O15+M15+K15+I15+G15+E15+C15","v":1199130.8589999969},{"$f":"IF(ISERROR(+AA15/$C$11),0,+AA15/$C$11)","v":4.502079015296067E-2}]
[]
[null,"GASTOS"]
[null,"Gastos Totales",{"$f":"'ESTADO DE RESULTADOS1'!D156","v":1907451.6309999998},{"$f":"IF(ISERROR(+C18/$C$11),0,+C18/$C$11)","v":7.1614352146510629E-2},{"$f":"'ESTADO DE RESULTADOS1'!E156","v":0},{"$f":"IF(ISERROR(+E18/$C$11),0,+E18/$C$11)","v":0},{"$f":"'ESTADO DE RESULTADOS1'!F156","v":0},{"$f":"IF(ISERROR(+G18/$C$11),0,+G18/$C$11)","v":0},{"$f":"'ESTADO DE RESULTADOS1'!G156","v":0},{"$f":"IF(ISERROR(+I18/$C$11),0,+I18/$C$11)","v":0},{"$f":"'ESTADO DE RESULTADOS1'!H156","v":0},{"$f":"IF(ISERROR(+K18/$C$11),0,+K18/$C$11)","v":0},{"$f":"'ESTADO DE RESULTADOS1'!I156","v":0},{"$f":"IF(ISERROR(+M18/$C$11),0,+M18/$C$11)","v":0},{"$f":"'ESTADO DE RESULTADOS1'!J156","v":0},{"$f":"IF(ISERROR(+O18/$C$11),0,+O18/$C$11)","v":0},{"$f":"'ESTADO DE RESULTADOS1'!K156","v":0},{"$f":"IF(ISERROR(+Q18/$C$11),0,+Q18/$C$11)","v":0},{"$f":"'ESTADO DE RESULTADOS1'!L156","v":0},{"$f":"IF(ISERROR(+S18/$C$11),0,+S18/$C$11)","v":0},{"$f":"'ESTADO DE RESULTADOS1'!M156","v":0},{"$f":"IF(ISERROR(+U18/$C$11),0,+U18/$C$11)","v":0},{"$f":"'ESTADO DE RESULTADOS1'!N156","v":0},{"$f":"IF(ISERROR(+W18/$C$11),0,+W18/$C$11)","v":0},{"$f":"'ESTADO DE RESULTADOS1'!O156","v":0},{"$f":"IF(ISERROR(+Y18/$C$11),0,+Y18/$C$11)","v":0},{"$f":"Y18+W18+U18+S18+Q18+O18+M18+K18+I18+G18+E18+C18","v":1907451.6309999998},{"$f":"IF(ISERROR(+AA18/$C$11),0,+AA18/$C$11)","v":7.1614352146510629E-2}]
[null,"Gastos de Venta",{"$f":"+'ESTADO DE RESULTADOS1'!D54","v":635186.49},{"$f":"IF(ISERROR(+C19/$C$18),0,+C19/$C$18)","v":0.33300267208715401},{"$f":"+'ESTADO DE RESULTADOS1'!E54","v":0},{"$f":"IF(ISERROR(+E19/$C$18),0,+E19/$C$18)","v":0},{"$f":"+'ESTADO DE RESULTADOS1'!F54","v":0},{"$f":"IF(ISERROR(+G19/$C$18),0,+G19/$C$18)","v":0},{"$f":"+'ESTADO DE RESULTADOS1'!G54","v":0},{"$f":"IF(ISERROR(+I19/$C$18),0,+I19/$C$18)","v":0},{"$f":"+'ESTADO DE RESULTADOS1'!H54","v":0},{"$f":"IF(ISERROR(+K19/$C$18),0,+K19/$C$18)","v":0},{"$f":"+'ESTADO DE RESULTADOS1'!I54","v":0},{"$f":"IF(ISERROR(+M19/$C$18),0,+M19/$C$18)","v":0},{"$f":"+'ESTADO DE RESULTADOS1'!J54","v":0},{"$f":"IF(ISERROR(+O19/$C$18),0,+O19/$C$18)","v":0},{"$f":"+'ESTADO DE RESULTADOS1'!K54","v":0},{"$f":"IF(ISERROR(+Q19/$C$18),0,+Q19/$C$18)","v":0},{"$f":"+'ESTADO DE RESULTADOS1'!L54","v":0},{"$f":"IF(ISERROR(+S19/$C$18),0,+S19/$C$18)","v":0},{"$f":"+'ESTADO DE RESULTADOS1'!M54","v":0},{"$f":"IF(ISERROR(+U19/$C$18),0,+U19/$C$18)","v":0},{"$f":"+'ESTADO DE RESULTADOS1'!N54","v":0},{"$f":"IF(ISERROR(+W19/$C$18),0,+W19/$C$18)","v":0},{"$f":"+'ESTADO DE RESULTADOS1'!O54","v":0},{"$f":"IF(ISERROR(+Y19/$C$18),0,+Y19/$C$18)","v":0},{"$f":"Y19+W19+U19+S19+Q19+O19+M19+K19+I19+G19+E19+C19","v":635186.49},{"$f":"IF(ISERROR(+AA19/$C$18),0,+AA19/$C$18)","v":0.33300267208715401}]
[null,"Gastos de Operación",{"$f":"+'ESTADO DE RESULTADOS1'!D96","v":102752.81},{"$f":"IF(ISERROR(+C20/$C$18),0,+C20/$C$18)","v":5.3869156276393153E-2},{"$f":"+'ESTADO DE RESULTADOS1'!E96","v":0},{"$f":"IF(ISERROR(+E20/$C$18),0,+E20/$C$18)","v":0},{"$f":"+'ESTADO DE RESULTADOS1'!F96","v":0},0,{"$f":"+'ESTADO DE RESULTADOS1'!G96","v":0},{"$f":"IF(ISERROR(+I20/$C$18),0,+I20/$C$18)","v":0},{"$f":"+'ESTADO DE RESULTADOS1'!H96","v":0},{"$f":"IF(ISERROR(+K20/$C$18),0,+K20/$C$18)","v":0},{"$f":"+'ESTADO DE RESULTADOS1'!I96","v":0},{"$f":"IF(ISERROR(+M20/$C$18),0,+M20/$C$18)","v":0},{"$f":"+'ESTADO DE RESULTADOS1'!J96","v":0},{"$f":"IF(ISERROR(+O20/$C$18),0,+O20/$C$18)","v":0},{"$f":"+'ESTADO DE RESULTADOS1'!K96","v":0},{"$f":"IF(ISERROR(+Q20/$C$18),0,+Q20/$C$18)","v":0},{"$f":"+'ESTADO DE RESULTADOS1'!L96","v":0},{"$f":"IF(ISERROR(+S20/$C$18),0,+S20/$C$18)","v":0},{"$f":"+'ESTADO DE RESULTADOS1'!M96","v":0},{"$f":"IF(ISERROR(+U20/$C$18),0,+U20/$C$18)","v":0},{"$f":"+'ESTADO DE RESULTADOS1'!N96","v":0},{"$f":"IF(ISERROR(+W20/$C$18),0,+W20/$C$18)","v":0},{"$f":"+'ESTADO DE RESULTADOS1'!O96","v":0},{"$f":"IF(ISERROR(+Y20/$C$18),0,+Y20/$C$18)","v":0},{"$f":"Y20+W20+U20+S20+Q20+O20+M20+K20+I20+G20+E20+C20","v":102752.81},{"$f":"IF(ISERROR(+AA20/$C$18),0,+AA20/$C$18)","v":5.3869156276393153E-2}]
[null,"Gastos Indirectos",{"$f":"+'ESTADO DE RESULTADOS1'!D130","v":379868.19099999999},{"$f":"IF(ISERROR(+C21/$C$18),0,+C21/$C$18)","v":0.19914957990355459},{"$f":"+'ESTADO DE RESULTADOS1'!E130","v":0},0,{"$f":"+'ESTADO DE RESULTADOS1'!F130","v":0},0,{"$f":"+'ESTADO DE RESULTADOS1'!G130","v":0},{"$f":"IF(ISERROR(+I21/$C$18),0,+I21/$C$18)","v":0},{"$f":"+'ESTADO DE RESULTADOS1'!H130","v":0},{"$f":"IF(ISERROR(+K21/$C$18),0,+K21/$C$18)","v":0},{"$f":"+'ESTADO DE RESULTADOS1'!I130","v":0},{"$f":"IF(ISERROR(+M21/$C$18),0,+M21/$C$18)","v":0},{"$f":"+'ESTADO DE RESULTADOS1'!J130","v":0},{"$f":"IF(ISERROR(+O21/$C$18),0,+O21/$C$18)","v":0},{"$f":"+'ESTADO DE RESULTADOS1'!K130","v":0},{"$f":"IF(ISERROR(+Q21/$C$18),0,+Q21/$C$18)","v":0},{"$f":"+'ESTADO DE RESULTADOS1'!L130","v":0},{"$f":"IF(ISERROR(+S21/$C$18),0,+S21/$C$18)","v":0},{"$f":"+'ESTADO DE RESULTADOS1'!M130","v":0},{"$f":"IF(ISERROR(+U21/$C$18),0,+U21/$C$18)","v":0},{"$f":"+'ESTADO DE RESULTADOS1'!N130","v":0},{"$f":"IF(ISERROR(+W21/$C$18),0,+W21/$C$18)","v":0},{"$f":"+'ESTADO DE RESULTADOS1'!O130","v":0},{"$f":"IF(ISERROR(+Y21/$C$18),0,+Y21/$C$18)","v":0},{"$f":"Y21+W21+U21+S21+Q21+O21+M21+K21+I21+G21+E21+C21","v":379868.19099999999},{"$f":"IF(ISERROR(+AA21/$C$18),0,+AA21/$C$18)","v":0.19914957990355459}]
[null,"Gastos Administrativos",{"$f":"+'ESTADO DE RESULTADOS1'!D155","v":789644.1399999999},{"$f":"IF(ISERROR(+C22/$C$18),0,+C22/$C$18)","v":0.4139785917328983},{"$f":"+'ESTADO DE RESULTADOS1'!E155","v":0},0,{"$f":"+'ESTADO DE RESULTADOS1'!F155","v":0},0,{"$f":"+'ESTADO DE RESULTADOS1'!G155","v":0},{"$f":"IF(ISERROR(+I22/$C$18),0,+I22/$C$18)","v":0},{"$f":"+'ESTADO DE RESULTADOS1'!H155","v":0},{"$f":"IF(ISERROR(+K22/$C$18),0,+K22/$C$18)","v":0},{"$f":"+'ESTADO DE RESULTADOS1'!I155","v":0},{"$f":"IF(ISERROR(+M22/$C$18),0,+M22/$C$18)","v":0},{"$f":"+'ESTADO DE RESULTADOS1'!J155","v":0},{"$f":"IF(ISERROR(+O22/$C$18),0,+O22/$C$18)","v":0},{"$f":"+'ESTADO DE RESULTADOS1'!K155","v":0},{"$f":"IF(ISERROR(+Q22/$C$18),0,+Q22/$C$18)","v":0},{"$f":"+'ESTADO DE RESULTADOS1'!L155","v":0},{"$f":"IF(ISERROR(+S22/$C$18),0,+S22/$C$18)","v":0},{"$f":"+'ESTADO DE RESULTADOS1'!M155","v":0},{"$f":"IF(ISERROR(+U22/$C$18),0,+U22/$C$18)","v":0},{"$f":"+'ESTADO DE RESULTADOS1'!N155","v":0},{"$f":"IF(ISERROR(+W22/$C$18),0,+W22/$C$18)","v":0},{"$f":"+'ESTADO DE RESULTADOS1'!O155","v":0},{"$f":"IF(ISERROR(+Y22/$C$18),0,+Y22/$C$18)","v":0},{"$f":"Y22+W22+U22+S22+Q22+O22+M22+K22+I22+G22+E22+C22","v":789644.1399999999},{"$f":"IF(ISERROR(+AA22/$C$18),0,+AA22/$C$18)","v":0.4139785917328983}]
[]
[null,"BALANCE"]
[null,"Total Activos",{"$f":"BALANCE!E85","v":81832183.270000011},{"$f":"IF(ISERROR(+C25/C25),0,+C25/C25)","v":1},{"$f":"BALANCE!F85","v":0},{"$f":"IF(ISERROR(+E25/E25),0,+E25/E25)","v":0},{"$f":"BALANCE!G85","v":0},{"$f":"IF(ISERROR(+G25/G25),0,+G25/G25)","v":0},{"$f":"BALANCE!H85","v":0},{"$f":"IF(ISERROR(+I25/I25),0,+I25/I25)","v":0},{"$f":"BALANCE!I85","v":0},{"$f":"IF(ISERROR(+K25/K25),0,+K25/K25)","v":0},{"$f":"BALANCE!J85","v":0},{"$f":"IF(ISERROR(+M25/M25),0,+M25/M25)","v":0},{"$f":"BALANCE!K85","v":0},{"$f":"IF(ISERROR(+O25/O25),0,+O25/O25)","v":0},{"$f":"BALANCE!L85","v":0},{"$f":"IF(ISERROR(+Q25/Q25),0,+Q25/Q25)","v":0},{"$f":"BALANCE!M85","v":0},{"$f":"IF(ISERROR(+S25/S25),0,+S25/S25)","v":0},{"$f":"BALANCE!N85","v":0},{"$f":"IF(ISERROR(+U25/U25),0,+U25/U25)","v":0},{"$f":"BALANCE!O85","v":0},{"$f":"IF(ISERROR(+W25/W25),0,+W25/W25)","v":0},{"$f":"BALANCE!P85","v":0},{"$f":"IF(ISERROR(+Y25/Y25),0,+Y25/Y25)","v":0},{"$f":"Y25+W25+U25+S25+Q25+O25+K25+M25+I25+G25+E25+C25","v":81832183.270000011},{"$f":"IF(ISERROR(+AA25/AA25),0,+AA25/AA25)","v":1}]
[null,"Activos Circulantes",{"$f":"BALANCE!E64","v":66097247.030000001},{"$f":"IF(ISERROR(+C26/C25 ),0,+C25/C25)","v":1},{"$f":"BALANCE!F64","v":0},{"$f":"IF(ISERROR(+E26/E25 ),0,+E25/E25)","v":0},{"$f":"BALANCE!G64","v":0},{"$f":"IF(ISERROR(+G26/G25 ),0,+G25/G25)","v":0},{"$f":"BALANCE!H64","v":0},{"$f":"IF(ISERROR(+I26/I25 ),0,+I25/I25)","v":0},{"$f":"BALANCE!I64","v":0},{"$f":"IF(ISERROR(+K26/K25 ),0,+K25/K25)","v":0},{"$f":"BALANCE!J64","v":0},{"$f":"IF(ISERROR(+M26/M25 ),0,+M25/M25)","v":0},{"$f":"BALANCE!K64","v":0},{"$f":"IF(ISERROR(+O26/O25 ),0,+O25/O25)","v":0},{"$f":"BALANCE!L64","v":0},{"$f":"IF(ISERROR(+Q26/Q25 ),0,+Q25/Q25)","v":0},{"$f":"BALANCE!M64","v":0},{"$f":"IF(ISERROR(+S26/S25 ),0,+S25/S25)","v":0},{"$f":"BALANCE!N64","v":0},{"$f":"IF(ISERROR(+U26/U25 ),0,+U25/U25)","v":0},{"$f":"BALANCE!O64","v":0},{"$f":"IF(ISERROR(+W26/W25 ),0,+W25/W25)","v":0},{"$f":"BALANCE!P64","v":0},{"$f":"IF(ISERROR(+Y26/Y25 ),0,+Y25/Y25)","v":0},{"$f":"Y26+W26+U26+S26+Q26+O26+K26+M26+I26+G26+E26+C26","v":66097247.030000001},{"$f":"IF(ISERROR(+AA26/AA25 ),0,+AA25/AA25)","v":1}]
[null,"Inventarios Financiados TFS",{"$f":"BALANCE!E41+BALANCE!E42+BALANCE!E43+BALANCE!E44","v":19468812.050000001},{"$f":"IF(ISERROR(+C27/C25),0,+C27/C25)","v":0.23791143376639373},{"$f":"BALANCE!F41+BALANCE!F42+BALANCE!F43+BALANCE!F44","v":0},{"$f":"IF(ISERROR(+E27/E25),0,+E27/E25)","v":0},{"$f":"BALANCE!G41+BALANCE!G42+BALANCE!G43+BALANCE!G44","v":0},{"$f":"IF(ISERROR(+G27/G25),0,+G27/G25)","v":0},{"$f":"BALANCE!H41+BALANCE!H42+BALANCE!H43+BALANCE!H44","v":0},{"$f":"IF(ISERROR(+I27/I25),0,+I27/I25)","v":0},{"$f":"BALANCE!I41+BALANCE!I42+BALANCE!I43+BALANCE!I44","v":0},{"$f":"IF(ISERROR(+K27/K25),0,+K27/K25)","v":0},{"$f":"BALANCE!J41+BALANCE!J42+BALANCE!J43+BALANCE!J44","v":0},{"$f":"IF(ISERROR(+M27/M25),0,+M27/M25)","v":0},{"$f":"BALANCE!K41+BALANCE!K42+BALANCE!K43+BALANCE!K44","v":0},{"$f":"IF(ISERROR(+O27/O25),0,+O27/O25)","v":0},{"$f":"BALANCE!L41+BALANCE!L42+BALANCE!L43+BALANCE!L44","v":0},{"$f":"IF(ISERROR(+Q27/Q25),0,+Q27/Q25)","v":0},{"$f":"BALANCE!M41+BALANCE!M42+BALANCE!M43+BALANCE!M44","v":0},{"$f":"IF(ISERROR(+S27/S25),0,+S27/S25)","v":0},{"$f":"BALANCE!N41+BALANCE!N42+BALANCE!N43+BALANCE!N44","v":0},{"$f":"IF(ISERROR(+U27/U25),0,+U27/U25)","v":0},{"$f":"BALANCE!Y41+BALANCE!Y42+BALANCE!Y43+BALANCE!Y44","v":0},{"$f":"IF(ISERROR(+W27/W25),0,+W27/W25)","v":0},{"$f":"BALANCE!AA41+BALANCE!AA42+BALANCE!AA43+BALANCE!AA44","v":0},{"$f":"IF(ISERROR(+Y27/Y25),0,+Y27/Y25)","v":0},19468812.050000001,{"$f":"IF(ISERROR(+AA27/AA25),0,+AA27/AA25)","v":0.23791143376639373}]
[null,"Activos Fijos",{"$f":"BALANCE!E79","v":12502869.310000002},{"$f":"IF(ISERROR(+C28/C25),0,+C28/C25)","v":0.15278670090895158},{"$f":"BALANCE!F79","v":0},{"$f":"IF(ISERROR(+E28/E25),0,+E28/E25)","v":0},{"$f":"BALANCE!G79","v":0},{"$f":"IF(ISERROR(+G28/G25),0,+G28/G25)","v":0},{"$f":"BALANCE!H79","v":0},{"$f":"IF(ISERROR(+I28/I25),0,+I28/I25)","v":0},{"$f":"BALANCE!I79","v":0},{"$f":"IF(ISERROR(+K28/K25),0,+K28/K25)","v":0},{"$f":"BALANCE!J79","v":0},{"$f":"IF(ISERROR(+M28/M25),0,+M28/M25)","v":0},{"$f":"BALANCE!K79","v":0},{"$f":"IF(ISERROR(+O28/O25),0,+O28/O25)","v":0},{"$f":"BALANCE!L79","v":0},{"$f":"IF(ISERROR(+Q28/Q25),0,+Q28/Q25)","v":0},{"$f":"BALANCE!M79","v":0},{"$f":"IF(ISERROR(+S28/S25),0,+S28/S25)","v":0},{"$f":"BALANCE!N79","v":0},{"$f":"IF(ISERROR(+U28/U25),0,+U28/U25)","v":0},{"$f":"BALANCE!O79","v":0},{"$f":"IF(ISERROR(+W28/W25),0,+W28/W25)","v":0},{"$f":"BALANCE!P79","v":0},{"$f":"IF(ISERROR(+Y28/Y25),0,+Y28/Y25)","v":0},12502869.310000002,{"$f":"IF(ISERROR(+AA28/AA25),0,+AA28/AA25)","v":0.15278670090895158}]
[null,"Total Pasivos",{"$f":"BALANCE!E131","v":45227700.460000001},{"$f":"IF(ISERROR(+C29/C25),0,+C29/C25)","v":0.55268842468462709},{"$f":"BALANCE!F131","v":0},{"$f":"IF(ISERROR(+E29/E25),0,+E29/E25)","v":0},{"$f":"BALANCE!G131","v":0},{"$f":"IF(ISERROR(+G29/G25),0,+G29/G25)","v":0},{"$f":"BALANCE!H131","v":0},{"$f":"IF(ISERROR(+I29/I25),0,+I29/I25)","v":0},{"$f":"BALANCE!I131","v":0},{"$f":"IF(ISERROR(+K29/K25),0,+K29/K25)","v":0},{"$f":"BALANCE!J131","v":0},{"$f":"IF(ISERROR(+M29/M25),0,+M29/M25)","v":0},{"$f":"BALANCE!K131","v":0},{"$f":"IF(ISERROR(+O29/O25),0,+O29/O25)","v":0},{"$f":"BALANCE!L131","v":0},{"$f":"IF(ISERROR(+Q29/Q25),0,+Q29/Q25)","v":0},{"$f":"BALANCE!M131","v":0},{"$f":"IF(ISERROR(+S29/S25),0,+S29/S25)","v":0},{"$f":"BALANCE!N131","v":0},{"$f":"IF(ISERROR(+U29/U25),0,+U29/U25)","v":0},{"$f":"BALANCE!O131","v":0},{"$f":"IF(ISERROR(+W29/W25),0,+W29/W25)","v":0},{"$f":"BALANCE!P131","v":0},{"$f":"IF(ISERROR(+Y29/Y25),0,+Y29/Y25)","v":0},45227700.460000001,{"$f":"IF(ISERROR(+AA29/AA25),0,+AA29/AA25)","v":0.55268842468462709}]
[null,"Pasivos CP",{"$f":"BALANCE!E122","v":37646605.740000002},{"$f":"IF(ISERROR(+C30/C25),0,+C30/C25)","v":0.46004645404348377},{"$f":"BALANCE!F122","v":0},{"$f":"IF(ISERROR(+E30/E25),0,+E30/E25)","v":0},{"$f":"BALANCE!G122","v":0},{"$f":"IF(ISERROR(+G30/G25),0,+G30/G25)","v":0},{"$f":"BALANCE!H122","v":0},{"$f":"IF(ISERROR(+I30/I25),0,+I30/I25)","v":0},{"$f":"BALANCE!I122","v":0},{"$f":"IF(ISERROR(+K30/K25),0,+K30/K25)","v":0},{"$f":"BALANCE!J122","v":0},{"$f":"IF(ISERROR(+M30/M25),0,+M30/M25)","v":0},{"$f":"BALANCE!K122","v":0},{"$f":"IF(ISERROR(+O30/O25),0,+O30/O25)","v":0},{"$f":"BALANCE!L122","v":0},{"$f":"IF(ISERROR(+Q30/Q25),0,+Q30/Q25)","v":0},{"$f":"BALANCE!M122","v":0},{"$f":"IF(ISERROR(+S30/S25),0,+S30/S25)","v":0},{"$f":"BALANCE!N122","v":0},{"$f":"IF(ISERROR(+U30/U25),0,+U30/U25)","v":0},{"$f":"BALANCE!O122","v":0},{"$f":"IF(ISERROR(+W30/W25),0,+W30/W25)","v":0},{"$f":"BALANCE!P122","v":0},{"$f":"IF(ISERROR(+Y30/Y25),0,+Y30/Y25)","v":0},37646605.740000002,{"$f":"IF(ISERROR(+AA30/AA25),0,+AA30/AA25)","v":0.46004645404348377}]
[null,"Deuda con TFS",{"$f":"+BALANCE!E116","v":27389540.41},{"$f":"IF(ISERROR(+C31/C29),0,+C31/C29)","v":0.60559215108059017},{"$f":"+BALANCE!F116","v":0},{"$f":"IF(ISERROR(+E31/E29),0,+E31/E29)","v":0},{"$f":"+BALANCE!G116","v":0},{"$f":"IF(ISERROR(+G31/G29),0,+G31/G29)","v":0},{"$f":"+BALANCE!H116","v":0},{"$f":"IF(ISERROR(+I31/I29),0,+I31/I29)","v":0},{"$f":"+BALANCE!I116","v":0},{"$f":"IF(ISERROR(+K31/K29),0,+K31/K29)","v":0},{"$f":"+BALANCE!J116","v":0},{"$f":"IF(ISERROR(+M31/M29),0,+M31/M29)","v":0},{"$f":"+BALANCE!K116","v":0},{"$f":"IF(ISERROR(+O31/O29),0,+O31/O29)","v":0},{"$f":"+BALANCE!L116","v":0},{"$f":"IF(ISERROR(+Q31/Q29),0,+Q31/Q29)","v":0},{"$f":"+BALANCE!M116","v":0},{"$f":"IF(ISERROR(+S31/S29),0,+S31/S29)","v":0},{"$f":"+BALANCE!N116","v":0},{"$f":"IF(ISERROR(+U31/U29),0,+U31/U29)","v":0},{"$f":"+BALANCE!O116","v":0},{"$f":"IF(ISERROR(+W31/W29),0,+W31/W29)","v":0},{"$f":"+BALANCE!P116","v":0},{"$f":"IF(ISERROR(+Y31/Y29),0,+Y31/Y29)","v":0},27389540.41,{"$f":"IF(ISERROR(+AA31/AA29),0,+AA31/AA29)","v":0.60559215108059017}]
[null,"Pasivos LP",{"$f":"BALANCE!E130","v":7581094.7199999997},{"$f":"IF(ISERROR(+C32/$C$25),0,+C32/$C$25)","v":9.2641970641143309E-2},{"$f":"BALANCE!F130","v":0},{"$f":"IF(ISERROR(+E32/$E$25),0,+E32/$E$25)","v":0},{"$f":"BALANCE!G130","v":0},{"$f":"IF(ISERROR(+G32/$G$25),0,+G32/$G$25)","v":0},{"$f":"BALANCE!H130","v":0},{"$f":"IF(ISERROR(+I32/$I$25),0,+I32/$I$25)","v":0},{"$f":"BALANCE!I130","v":0},{"$f":"IF(ISERROR(+K32/$K$25),0,+K32/$K$25)","v":0},{"$f":"BALANCE!J130","v":0},{"$f":"IF(ISERROR(+M32/$K$25),0,+M32/$K$25)","v":0},{"$f":"BALANCE!K130","v":0},{"$f":"IF(ISERROR(+O32/$K$25),0,+O32/$K$25)","v":0},{"$f":"BALANCE!L130","v":0},{"$f":"IF(ISERROR(+Q32/Q$25),0,+Q32/Q$25)","v":0},{"$f":"BALANCE!M130","v":0},{"$f":"IF(ISERROR(+S32/S$25),0,+S32/S$25)","v":0},{"$f":"BALANCE!N130","v":0},{"$f":"IF(ISERROR(+U32/U$25),0,+U32/U$25)","v":0},{"$f":"BALANCE!O130","v":0},{"$f":"IF(ISERROR(+W32/W$25),0,+W32/W$25)","v":0},{"$f":"BALANCE!P130","v":0},{"$f":"IF(ISERROR(+Y32/Y$25),0,+Y32/Y$25)","v":0},7581094.7199999997,{"$f":"IF(ISERROR(+AA32/AA$25),0,+AA32/AA$25)","v":9.2641970641143309E-2}]
[null,"Capital Contable",{"$f":"BALANCE!E140","v":36604482.858999997},{"$f":"IF(ISERROR(+C33/$C$25),0,+C33/$C$25)","v":0.44731157591415921},{"$f":"BALANCE!F140","v":0},{"$f":"IF(ISERROR(+E33/$E$25),0,+E33/$E$25)","v":0},{"$f":"BALANCE!G140","v":0},{"$f":"IF(ISERROR(+G33/$G$25),0,+G33/$G$25)","v":0},{"$f":"BALANCE!H140","v":0},{"$f":"IF(ISERROR(+I33/$I$25),0,+I33/$I$25)","v":0},{"$f":"BALANCE!I140","v":0},{"$f":"IF(ISERROR(+K33/$K$25),0,+K33/$K$25)","v":0},{"$f":"BALANCE!J140","v":0},{"$f":"IF(ISERROR(+M33/M$25),0,+M33/M$25)","v":0},{"$f":"BALANCE!K140","v":0},{"$f":"IF(ISERROR(+O33/O$25),0,+O33/O$25)","v":0},{"$f":"BALANCE!L140","v":0},{"$f":"IF(ISERROR(+Q33/Q$25),0,+Q33/Q$25)","v":0},{"$f":"BALANCE!M140","v":0},{"$f":"IF(ISERROR(+S33/S$25),0,+S33/S$25)","v":0},{"$f":"BALANCE!N140","v":0},{"$f":"IF(ISERROR(+U33/U$25),0,+U33/U$25)","v":0},{"$f":"BALANCE!O140","v":0},{"$f":"IF(ISERROR(+W33/W$25),0,+W33/W$25)","v":0},{"$f":"BALANCE!P140","v":0},{"$f":"IF(ISERROR(+Y33/Y$25),0,+Y33/Y$25)","v":0},36604482.858999997,{"$f":"IF(ISERROR(+AA33/AA$25),0,+AA33/AA$25)","v":0.44731157591415921}]
[null,"Capital Social",{"$f":"+BALANCE!E133+BALANCE!E134","v":10500000},{"$f":"IF(ISERROR(+C34/$C$25),0,+C34/$C$25)","v":0.12831137555447991},{"$f":"+BALANCE!F133+BALANCE!F134","v":0},{"$f":"IF(ISERROR(+E34/$E$25),0,+E34/$E$25)","v":0},{"$f":"+BALANCE!G133+BALANCE!G134","v":0},{"$f":"IF(ISERROR(+G34/$G$25),0,+G34/$G$25)","v":0},{"$f":"+BALANCE!H133+BALANCE!H134","v":0},{"$f":"IF(ISERROR(+I34/$I$25),0,+I34/$I$25)","v":0},{"$f":"+BALANCE!I133+BALANCE!I134","v":0},{"$f":"IF(ISERROR(+K34/$K$25),0,+K34/$K$25)","v":0},{"$f":"+BALANCE!J133+BALANCE!J134","v":0},{"$f":"IF(ISERROR(+M34/$M$25),0,+M34/$M$25)","v":0},{"$f":"+BALANCE!K133+BALANCE!K134","v":0},{"$f":"IF(ISERROR(+O34/$O$25),0,+O34/$O$25)","v":0},{"$f":"+BALANCE!L133+BALANCE!L134","v":0},{"$f":"IF(ISERROR(+Q34/$Q$25),0,+Q34/$Q$25)","v":0},{"$f":"+BALANCE!M133+BALANCE!M134","v":0},{"$f":"IF(ISERROR(+S34/$S$25),0,+S34/$S$25)","v":0},{"$f":"+BALANCE!N133+BALANCE!N134","v":0},{"$f":"IF(ISERROR(+U34/$U$25),0,+U34/$U$25)","v":0},{"$f":"+BALANCE!O133+BALANCE!O134","v":0},{"$f":"IF(ISERROR(+W34/W$25),0,+W34/W$25)","v":0},{"$f":"+BALANCE!P133+BALANCE!P134","v":0},{"$f":"IF(ISERROR(+Y34/Y$25),0,+Y34/Y$25)","v":0},10500000,{"$f":"IF(ISERROR(+AA34/AA$25),0,+AA34/AA$25)","v":0.12831137555447991}]
[null,"Resultados Acumulados",{"$f":"+BALANCE!E136","v":24905352},{"$f":"IF(ISERROR(+C35/$C$25),0,+C35/$C$25)","v":0.30434666417033501},{"$f":"+BALANCE!F136","v":0},{"$f":"IF(ISERROR(+E35/$E$25),0,+E35/$E$25)","v":0},{"$f":"+BALANCE!G136","v":0},{"$f":"IF(ISERROR(+G35/$G$25),0,+G35/$G$25)","v":0},{"$f":"+BALANCE!H136","v":0},{"$f":"IF(ISERROR(+I35/$I$25),0,+I35/$I$25)","v":0},{"$f":"+BALANCE!I136","v":0},{"$f":"IF(ISERROR(+K35/$K$25),0,+K35/$K$25)","v":0},{"$f":"+BALANCE!J136","v":0},{"$f":"IF(ISERROR(+M35/$M$25),0,+M35/$M$25)","v":0},{"$f":"+BALANCE!K136","v":0},{"$f":"IF(ISERROR(+O35/$O$25),0,+O35/$O$25)","v":0},{"$f":"+BALANCE!L136","v":0},{"$f":"IF(ISERROR(+Q35/$Q$25),0,+Q35/$Q$25)","v":0},{"$f":"+BALANCE!M136","v":0},{"$f":"IF(ISERROR(+S35/$S$25),0,+S35/$S$25)","v":0},{"$f":"+BALANCE!N136","v":0},{"$f":"IF(ISERROR(+U35/$U$25),0,+U35/$U$25)","v":0},{"$f":"+BALANCE!O136","v":0},{"$f":"IF(ISERROR(+W35/W$25),0,+W35/W$25)","v":0},{"$f":"+BALANCE!P136","v":0},{"$f":"IF(ISERROR(+Y35/Y$25),0,+Y35/Y$25)","v":0},24905352,{"$f":"IF(ISERROR(+AA35/AA$25),0,+AA35/AA$25)","v":0.30434666417033501}]
[]
[null,"CASH FLOW"]
[null,"EBITDA",{"$f":"+'[2]FLUJO DE EFECTIVO'!E5+'[2]FLUJO DE EFECTIVO'!E6","v":3131521.510000003},null,{"$f":"+'[2]FLUJO DE EFECTIVO'!F5+'[2]FLUJO DE EFECTIVO'!F6","v":3141125.199999996},null,{"$f":"+'[2]FLUJO DE EFECTIVO'!G5+'[2]FLUJO DE EFECTIVO'!G6","v":3537795.4899999984},null,{"$f":"+'[2]FLUJO DE EFECTIVO'!H5+'[2]FLUJO DE EFECTIVO'!H6","v":2333912.9500000002},null,{"$f":"+'[2]FLUJO DE EFECTIVO'!I5+'[2]FLUJO DE EFECTIVO'!I6","v":3631951.7900000028},null,{"$f":"+'[2]FLUJO DE EFECTIVO'!J5+'[2]FLUJO DE EFECTIVO'!J6","v":3993526.1700000074},null,{"$f":"+'[2]FLUJO DE EFECTIVO'!K5+'[2]FLUJO DE EFECTIVO'!K6","v":3457838.460000006},null,{"$f":"+'[2]FLUJO DE EFECTIVO'!L5+'[2]FLUJO DE EFECTIVO'!L6","v":3747493.7000000011},null,{"$f":"+'[2]FLUJO DE EFECTIVO'!M5+'[2]FLUJO DE EFECTIVO'!M6","v":3562317.0600000033},null,{"$f":"+'[2]FLUJO DE EFECTIVO'!N5+'[2]FLUJO DE EFECTIVO'!N6","v":2570236.3200000031},null,{"$f":"+'[2]FLUJO DE EFECTIVO'!O5+'[2]FLUJO DE EFECTIVO'!O6","v":3426333.7399999956},null,{"$f":"+'[2]FLUJO DE EFECTIVO'!P5+'[2]FLUJO DE EFECTIVO'!P6","v":3773131.4699999942},null,{"$f":"AVERAGE(C38:Z38)","v":3358931.9883333337}]
[null,"Depreciación",{"$f":"+'[2]FLUJO DE EFECTIVO'!E6","v":2102629.0699999998},null,{"$f":"+'[2]FLUJO DE EFECTIVO'!F6","v":2177004.7999999998},null,{"$f":"+'[2]FLUJO DE EFECTIVO'!G6","v":2251623.4900000002},null,{"$f":"+'[2]FLUJO DE EFECTIVO'!H6","v":2326256.1599999997},null,{"$f":"+'[2]FLUJO DE EFECTIVO'!I6","v":2401616.56},null,{"$f":"+'[2]FLUJO DE EFECTIVO'!J6","v":2477610.9300000002},null,{"$f":"+'[2]FLUJO DE EFECTIVO'!K6","v":2552932.9200000004},null,{"$f":"+'[2]FLUJO DE EFECTIVO'!L6","v":2629169.56},null,{"$f":"+'[2]FLUJO DE EFECTIVO'!M6","v":2714488.7399999998},null,{"$f":"+'[2]FLUJO DE EFECTIVO'!N6","v":2801205.92},null,{"$f":"+'[2]FLUJO DE EFECTIVO'!O6","v":2877317.59},null,{"$f":"+'[2]FLUJO DE EFECTIVO'!P6","v":2848449.8800000004},null,{"$f":"AVERAGE(C39:Z39)","v":2513358.8016666663}]
[null,"Flujo de Efectivo Operativo",{"$f":"+'[2]FLUJO DE EFECTIVO'!E24","v":3131521.510000003},null,{"$f":"+'[2]FLUJO DE EFECTIVO'!F24","v":{"$error":"#REF!"}},null,{"$f":"+'[2]FLUJO DE EFECTIVO'!IG3","v":""},null,{"$f":"+'[2]FLUJO DE EFECTIVO'!H24","v":{"$error":"#REF!"}},null,{"$f":"IF(K11=0,0,+'[2]FLUJO DE EFECTIVO'!I24)","v":0},null,{"$f":"+'[2]FLUJO DE EFECTIVO'!J24","v":{"$error":"#REF!"}},null,{"$f":"+'[2]FLUJO DE EFECTIVO'!K24","v":{"$error":"#REF!"}},null,{"$f":"+'[2]FLUJO DE EFECTIVO'!L24","v":{"$error":"#REF!"}},null,{"$f":"+'[2]FLUJO DE EFECTIVO'!M24","v":{"$error":"#REF!"}},null,{"$f":"+'[2]FLUJO DE EFECTIVO'!N24","v":{"$error":"#REF!"}},null,{"$f":"+'[2]FLUJO DE EFECTIVO'!O24","v":{"$error":"#REF!"}},null,{"$f":"+'[2]FLUJO DE EFECTIVO'!P24","v":{"$error":"#REF!"}},null,{"$f":"AVERAGE(C40:Z40)","v":{"$error":"#REF!"}}]
[null,"Flujo de Efectivo Libre",{"$f":"+'[2]FLUJO DE EFECTIVO'!E32","v":3131521.510000003},null,{"$f":"+'[2]FLUJO DE EFECTIVO'!F32","v":{"$error":"#REF!"}},null,{"$f":"+'[2]FLUJO DE EFECTIVO'!G32","v":{"$error":"#REF!"}},null,{"$f":"+'[2]FLUJO DE EFECTIVO'!H32","v":{"$error":"#REF!"}},null,{"$f":"'[2]FLUJO DE EFECTIVO'!I32","v":{"$error":"#REF!"}},null,{"$f":"+'[2]FLUJO DE EFECTIVO'!J32","v":{"$error":"#REF!"}},null,{"$f":"+'[2]FLUJO DE EFECTIVO'!K32","v":{"$error":"#REF!"}},null,{"$f":"+'[2]FLUJO DE EFECTIVO'!L32","v":{"$error":"#REF!"}},null,{"$f":"+'[2]FLUJO DE EFECTIVO'!M32","v":{"$error":"#REF!"}},null,{"$f":"+'[2]FLUJO DE EFECTIVO'!N32","v":{"$error":"#REF!"}},null,{"$f":"+'[2]FLUJO DE EFECTIVO'!O32","v":{"$error":"#REF!"}},null,{"$f":"+'[2]FLUJO DE EFECTIVO'!P32","v":{"$error":"#REF!"}},null,{"$f":"AVERAGE(C41:Z41)","v":{"$error":"#REF!"}}]
[null,"Dividendos Declarados",{"$f":"+'[2]FLUJO DE EFECTIVO'!E30","v":0},null,{"$f":"+'[2]FLUJO DE EFECTIVO'!F30","v":0},null,{"$f":"+'[2]FLUJO DE EFECTIVO'!G30","v":0},null,{"$f":"+'[2]FLUJO DE EFECTIVO'!H30","v":0},null,{"$f":"+'[2]FLUJO DE EFECTIVO'!I30","v":0},null,{"$f":"+'[2]FLUJO DE EFECTIVO'!J30","v":0},null,{"$f":"+'[2]FLUJO DE EFECTIVO'!K30","v":0},null,{"$f":"+'[2]FLUJO DE EFECTIVO'!L30","v":0},null,{"$f":"+'[2]FLUJO DE EFECTIVO'!M30","v":0},null,{"$f":"+'[2]FLUJO DE EFECTIVO'!N30","v":0},null,{"$f":"+'[2]FLUJO DE EFECTIVO'!O30","v":0},null,{"$f":"+'[2]FLUJO DE EFECTIVO'!P30","v":0},null,{"$f":"AVERAGE(C42:Z42)","v":0}]
[]
[null,"UNIDADES"]
[null,"# Autos - Nuevos",{"$f":"+'AUTOS NUEVOS1'!C31","v":52},null,{"$f":"+'AUTOS NUEVOS1'!F31","v":0},null,{"$f":"+'AUTOS NUEVOS1'!I31","v":0},null,{"$f":"+'AUTOS NUEVOS1'!L31","v":0},null,{"$f":"+'AUTOS NUEVOS1'!O31","v":0},null,{"$f":"+'AUTOS NUEVOS1'!R31","v":0},null,{"$f":"+'AUTOS NUEVOS1'!C62","v":0},null,{"$f":"+'AUTOS NUEVOS1'!F62","v":0},null,{"$f":"+'AUTOS NUEVOS1'!I62","v":0},null,{"$f":"+'AUTOS NUEVOS1'!L62","v":0},null,{"$f":"+'AUTOS NUEVOS1'!O62","v":0},null,{"$f":"+'AUTOS NUEVOS1'!R62","v":0},null,{"$f":"AVERAGE(C45:Z45)","v":4.333333333333333}]
[null,"# Ordenes - Servicio",{"$f":"+SERVICIO1!C19","v":712},null,{"$f":"+SERVICIO1!E19","v":0},null,{"$f":"+SERVICIO1!G19","v":0},null,{"$f":"+SERVICIO1!I19","v":0},null,{"$f":"+SERVICIO1!K19","v":0},null,{"$f":"+SERVICIO1!M19","v":0},null,{"$f":"+SERVICIO1!O19","v":0},null,{"$f":"+SERVICIO1!Q19","v":0},null,{"$f":"+SERVICIO1!S19","v":0},null,{"$f":"+SERVICIO1!U19","v":0},null,{"$f":"+SERVICIO1!W19","v":0},null,{"$f":"+SERVICIO1!Y19","v":0},null,{"$f":"+SERVICIO1!AA19","v":712}]
[null,"# Ordens - Hoj. Y Pint.",{"$f":"SERVICIO1!C21","v":24},null,{"$f":"SERVICIO1!E21","v":0},null,{"$f":"SERVICIO1!G21","v":0},null,{"$f":"SERVICIO1!I21","v":0},null,{"$f":"SERVICIO1!K21","v":0},null,{"$f":"SERVICIO1!M21","v":0},null,{"$f":"SERVICIO1!O21","v":0},null,{"$f":"SERVICIO1!Q21","v":0},null,{"$f":"SERVICIO1!S21","v":0},null,{"$f":"SERVICIO1!U21","v":0},null,{"$f":"SERVICIO1!W21","v":0},null,{"$f":"SERVICIO1!Y21","v":0},null,2]
[null,"# Ordenes - Refacciones",{"$f":"+SERVICIO1!C24","v":594},null,{"$f":"+SERVICIO1!E24","v":0},null,{"$f":"+SERVICIO1!G24","v":0},null,{"$f":"+SERVICIO1!I24","v":0},null,{"$f":"+SERVICIO1!K24","v":0},null,{"$f":"+SERVICIO1!M24","v":0},null,{"$f":"+SERVICIO1!O24","v":0},null,{"$f":"+SERVICIO1!Q24","v":0},null,{"$f":"+SERVICIO1!S24","v":0},null,{"$f":"+SERVICIO1!U24","v":0},null,{"$f":"+SERVICIO1!W24","v":0},null,{"$f":"+SERVICIO1!Y24","v":0},null,{"$f":"+SERVICIO1!AA24","v":594}]
[null,"# Empleados",{"$f":"+DATOS1!C60","v":47},null,{"$f":"+DATOS1!D60","v":0},null,{"$f":"+DATOS1!E60","v":0},null,{"$f":"+DATOS1!F60","v":0},null,{"$f":"+DATOS1!G60","v":0},null,{"$f":"+DATOS1!H60","v":0},null,{"$f":"+DATOS1!I60","v":0},null,{"$f":"+DATOS1!J60","v":0},null,{"$f":"+DATOS1!K60","v":0},null,{"$f":"+DATOS1!L60","v":0},null,{"$f":"+DATOS1!M60","v":0},null,{"$f":"+DATOS1!N60","v":0},null,3.9166666666666665]
[null,"Unidades Vendidas por Empleado ",{"$f":"IF(ISERROR(+C45/DATOS1!C29),0,+C45/DATOS1!C29)","v":0},null,{"$f":"IF(ISERROR(+E45/DATOS1!D29),0,+E45/DATOS1!D29)","v":0},null,{"$f":"IF(ISERROR(+G45/DATOS1!E29),0,+G45/DATOS1!E29)","v":0},null,{"$f":"IF(ISERROR(+I45/DATOS1!F29),0,+I45/DATOS1!F29)","v":0},null,{"$f":"IF(ISERROR(+K45/DATOS1!G29),0,+K45/DATOS1!G29)","v":0},null,{"$f":"IF(ISERROR(+M45/DATOS1!H29),0,+M45/DATOS1!H29)","v":0},null,{"$f":"IF(ISERROR(+O45/DATOS1!I29),0,+O45/DATOS1!I29)","v":0},null,{"$f":"IF(ISERROR(+Q45/DATOS1!J29),0,+Q45/DATOS1!J29)","v":0},null,{"$f":"IF(ISERROR(+S45/DATOS1!K29),0,+S45/DATOS1!K29)","v":0},null,{"$f":"IF(ISERROR(+U45/DATOS1!L29),0,+U45/DATOS1!L29)","v":0},null,{"$f":"IF(ISERROR(+W45/DATOS1!M29),0,+W45/DATOS1!M29)","v":0},null,{"$f":"IF(ISERROR(+Y45/DATOS1!N29),0,+Y45/DATOS1!N29)","v":0},null,0]
[]
[null,"LIQUIDEZ"]
[null,"Activos Circulantes / Pasivo CP",{"$f":"IF(ISERROR(+BALANCE!E$64/BALANCE!E$122),0,+BALANCE!E$64/BALANCE!E$122)","v":1.7557292544908192},null,{"$f":"IF(ISERROR(+BALANCE!F$64/BALANCE!F$122),0,+BALANCE!F$64/BALANCE!F$122)","v":0},null,{"$f":"IF(ISERROR(+BALANCE!G64/BALANCE!G122),0,+BALANCE!G64/BALANCE!G122)","v":0},null,{"$f":"IF(ISERROR(+BALANCE!H64/BALANCE!H122),0,+BALANCE!H64/BALANCE!H122)","v":0},null,{"$f":"IF(ISERROR(+BALANCE!I64/BALANCE!I122),0,+BALANCE!I64/BALANCE!I122)","v":0},null,{"$f":"IF(ISERROR(+BALANCE!J64/BALANCE!J122),0,+BALANCE!J64/BALANCE!J122)","v":0},null,{"$f":"IF(ISERROR(+BALANCE!K64/BALANCE!K122),0,+BALANCE!K64/BALANCE!K122)","v":0},null,{"$f":"IF(ISERROR(+BALANCE!L64/BALANCE!L122),0,+BALANCE!L64/BALANCE!L122)","v":0},null,{"$f":"IF(ISERROR(+BALANCE!M64/BALANCE!M122),0,+BALANCE!M64/BALANCE!M122)","v":0},null,{"$f":"IF(ISERROR(+BALANCE!N64/BALANCE!N122),0,+BALANCE!N64/BALANCE!N122)","v":0},null,{"$f":"IF(ISERROR(+BALANCE!O64/BALANCE!O122),0,+BALANCE!O64/BALANCE!O122)","v":0},null,{"$f":"IF(ISERROR(+BALANCE!P64/BALANCE!P122),0,+BALANCE!P64/BALANCE!P122)","v":0},null,{"$f":"AVERAGE(C53:Z53)","v":0.14631077120756827}]
[null,"Capital de Trabajo",{"$f":"+BALANCE!E64-BALANCE!E122","v":28450641.289999999},null,{"$f":"+BALANCE!F64-BALANCE!F122","v":0},null,{"$f":"+BALANCE!G64-BALANCE!G122","v":0},null,{"$f":"+BALANCE!H64-BALANCE!H122","v":0},null,{"$f":"+BALANCE!I64-BALANCE!I122","v":0},null,{"$f":"+BALANCE!J64-BALANCE!J122","v":0},null,{"$f":"+BALANCE!K64-BALANCE!K122","v":0},null,{"$f":"+BALANCE!L64-BALANCE!L122","v":0},null,{"$f":"+BALANCE!M64-BALANCE!M122","v":0},null,{"$f":"+BALANCE!N64-BALANCE!N122","v":0},null,{"$f":"+BALANCE!O64-BALANCE!O122","v":0},null,{"$f":"+BALANCE!P64-BALANCE!P122","v":0},null,{"$f":"AVERAGE(C54:Z54)","v":2370886.7741666664}]
[null,"Efectivo e Inversiones / Pasivo CP",{"$f":"IF(ISERROR(+BALANCE!E23/BALANCE!E122),0,+BALANCE!E23/BALANCE!E122)","v":0.19943925494516573},null,{"$f":"IF(ISERROR(+BALANCE!F23/BALANCE!F122),0,+BALANCE!F23/BALANCE!F122)","v":0},null,{"$f":"IF(ISERROR(+BALANCE!G23/BALANCE!G122),0,+BALANCE!G23/BALANCE!G122)","v":0},null,{"$f":"IF(ISERROR(+BALANCE!H23/BALANCE!H122),0,+BALANCE!H23/BALANCE!H122)","v":0},null,{"$f":"IF(ISERROR(+BALANCE!I23/BALANCE!I122),0,+BALANCE!I23/BALANCE!I122)","v":0},null,{"$f":"IF(ISERROR(+BALANCE!J23/BALANCE!J122),0,+BALANCE!J23/BALANCE!J122)","v":0},null,{"$f":"IF(ISERROR(+BALANCE!K23/BALANCE!K122),0,+BALANCE!K23/BALANCE!K122)","v":0},null,{"$f":"IF(ISERROR(+BALANCE!L23/BALANCE!L122),0,+BALANCE!L23/BALANCE!L122)","v":0},null,{"$f":"IF(ISERROR(+BALANCE!M23/BALANCE!M122),0,+BALANCE!M23/BALANCE!M122)","v":0},null,{"$f":"IF(ISERROR(+BALANCE!N23/BALANCE!N122),0,+BALANCE!N23/BALANCE!N122)","v":0},null,{"$f":"IF(ISERROR(+BALANCE!O23/BALANCE!O122),0,+BALANCE!O23/BALANCE!O122)","v":0},null,{"$f":"IF(ISERROR(+BALANCE!P23/BALANCE!P122),0,+BALANCE!P23/BALANCE!P122)","v":0},null,{"$f":"AVERAGE(C55:Z55)","v":1.6619937912097146E-2}]
[null,"Prueba del Ácido",{"$f":"IF(ISERROR(+(BALANCE!E64-BALANCE!E52)/BALANCE!E122),0,+(BALANCE!E64-BALANCE!E52)/BALANCE!E122)","v":1.20144297051307},null,{"$f":"IF(ISERROR(+(BALANCE!F64-BALANCE!F52)/BALANCE!F122),0,+(BALANCE!F64-BALANCE!F52)/BALANCE!F122)","v":0},null,{"$f":"IF(ISERROR(+(BALANCE!G64-BALANCE!G52)/BALANCE!G122),0,+(BALANCE!G64-BALANCE!G52)/BALANCE!G122)","v":0},null,{"$f":"IF(ISERROR(+(BALANCE!H64-BALANCE!H52)/BALANCE!H122),0,+(BALANCE!H64-BALANCE!H52)/BALANCE!H122)","v":0},null,{"$f":"IF(ISERROR(+(BALANCE!I64-BALANCE!I52)/BALANCE!I122),0,+(BALANCE!I64-BALANCE!I52)/BALANCE!I122)","v":0},null,{"$f":"IF(ISERROR(+(BALANCE!J64-BALANCE!J52)/BALANCE!J122),0,+(BALANCE!J64-BALANCE!J52)/BALANCE!J122)","v":0},null,{"$f":"IF(ISERROR(+(BALANCE!K64-BALANCE!K52)/BALANCE!K122),0,+(BALANCE!K64-BALANCE!K52)/BALANCE!K122)","v":0},null,{"$f":"IF(ISERROR(+(BALANCE!L64-BALANCE!L52)/BALANCE!L122),0,+(BALANCE!L64-BALANCE!L52)/BALANCE!L122)","v":0},null,{"$f":"IF(ISERROR(+(BALANCE!M64-BALANCE!M52)/BALANCE!M122),0,+(BALANCE!M64-BALANCE!M52)/BALANCE!M122)","v":0},null,{"$f":"IF(ISERROR(+(BALANCE!N64-BALANCE!N52)/BALANCE!N122),0,+(BALANCE!N64-BALANCE!N52)/BALANCE!N122)","v":0},null,{"$f":"IF(ISERROR(+(BALANCE!O64-BALANCE!O52)/BALANCE!O122),0,+(BALANCE!O64-BALANCE!O52)/BALANCE!O122)","v":0},null,{"$f":"IF(ISERROR(+(BALANCE!P64-BALANCE!P52)/BALANCE!P122),0,+(BALANCE!P64-BALANCE!P52)/BALANCE!P122)","v":0},null,{"$f":"AVERAGE(C56:Z56)","v":0.10012024754275584}]
[]
[null,"OPERACIÓN"]
[null,"Precio Promedio - Autos Nuevos",{"$f":"IF(ISERROR(+'AUTOS NUEVOS1'!D31/'AUTOS NUEVOS1'!C31),0,+'AUTOS NUEVOS1'!D31/'AUTOS NUEVOS1'!C31)","v":255772.21153846147},null,{"$f":"IF(ISERROR(+'AUTOS NUEVOS1'!G31/'AUTOS NUEVOS1'!F31),0,+'AUTOS NUEVOS1'!G31/'AUTOS NUEVOS1'!F31)","v":0},null,{"$f":"IF(ISERROR(+'AUTOS NUEVOS1'!J31/'AUTOS NUEVOS1'!I31),0,+'AUTOS NUEVOS1'!J31/'AUTOS NUEVOS1'!I31)","v":0},null,{"$f":"IF(ISERROR(+'AUTOS NUEVOS1'!M31/'AUTOS NUEVOS1'!L31),0,+'AUTOS NUEVOS1'!M31/'AUTOS NUEVOS1'!L31)","v":0},null,{"$f":"IF(ISERROR(+'AUTOS NUEVOS1'!P31/'AUTOS NUEVOS1'!O31),0,+'AUTOS NUEVOS1'!P31/'AUTOS NUEVOS1'!O31)","v":0},null,{"$f":"IF(ISERROR(+'AUTOS NUEVOS1'!S31/'AUTOS NUEVOS1'!R31),0,+'AUTOS NUEVOS1'!S31/'AUTOS NUEVOS1'!R31)","v":0},null,{"$f":"IF(ISERROR(+'AUTOS NUEVOS1'!D62/'AUTOS NUEVOS1'!C62),0,+'AUTOS NUEVOS1'!D62/'AUTOS NUEVOS1'!C62)","v":0},null,{"$f":"IF(ISERROR(+'AUTOS NUEVOS1'!G62/'AUTOS NUEVOS1'!F62),0,+'AUTOS NUEVOS1'!G62/'AUTOS NUEVOS1'!F62)","v":0},null,{"$f":"IF(ISERROR(+'AUTOS NUEVOS1'!J62/'AUTOS NUEVOS1'!I62),0,+'AUTOS NUEVOS1'!J62/'AUTOS NUEVOS1'!I62)","v":0},null,{"$f":"IF(ISERROR(+'AUTOS NUEVOS1'!M62/'AUTOS NUEVOS1'!L62),0,+'AUTOS NUEVOS1'!M62/'AUTOS NUEVOS1'!L62)","v":0},null,{"$f":"IF(ISERROR(+'AUTOS NUEVOS1'!P62/'AUTOS NUEVOS1'!O62),0,+'AUTOS NUEVOS1'!P62/'AUTOS NUEVOS1'!O62)","v":0},null,{"$f":"IF(ISERROR(+'AUTOS NUEVOS1'!S62/'AUTOS NUEVOS1'!R62),0,+'AUTOS NUEVOS1'!S62/'AUTOS NUEVOS1'!R62)","v":0},null,{"$f":"AVERAGE(C59:Z59)","v":21314.350961538457}]
[null,"Precio Promedio - Orden de Servicio",{"$f":"IF(ISERROR(+'ESTADO DE RESULTADOS1'!D19/REPORTE!C46),0,+'ESTADO DE RESULTADOS1'!D19/REPORTE!C46)","v":738.36230337078644},null,{"$f":"IF(ISERROR(+'ESTADO DE RESULTADOS1'!E$19/REPORTE!E$46),0,+'ESTADO DE RESULTADOS1'!E$19/REPORTE!E$46)","v":0},null,{"$f":"IF(ISERROR(+'ESTADO DE RESULTADOS1'!F19/REPORTE!G46),0,+'ESTADO DE RESULTADOS1'!F19/REPORTE!G46)","v":0},null,{"$f":"IF(ISERROR(+'ESTADO DE RESULTADOS1'!G19/REPORTE!I46),0,+'ESTADO DE RESULTADOS1'!G19/REPORTE!I46)","v":0},null,{"$f":"IF(ISERROR(+'ESTADO DE RESULTADOS1'!H19/REPORTE!K46),0,+'ESTADO DE RESULTADOS1'!H19/REPORTE!K46)","v":0},null,{"$f":"IF(ISERROR(+'ESTADO DE RESULTADOS1'!I19/REPORTE!M46),0,+'ESTADO DE RESULTADOS1'!I19/REPORTE!M46)","v":0},null,{"$f":"IF(ISERROR(+'ESTADO DE RESULTADOS1'!J19/REPORTE!O46),0,+'ESTADO DE RESULTADOS1'!J19/REPORTE!O46)","v":0},null,{"$f":"IF(ISERROR(+'ESTADO DE RESULTADOS1'!K19/REPORTE!Q46),0,+'ESTADO DE RESULTADOS1'!K19/REPORTE!Q46)","v":0},null,{"$f":"IF(ISERROR(+'ESTADO DE RESULTADOS1'!L19/REPORTE!S46),0,+'ESTADO DE RESULTADOS1'!L19/REPORTE!S46)","v":0},null,{"$f":"IF(ISERROR(+'ESTADO DE RESULTADOS1'!M19/REPORTE!U46),0,+'ESTADO DE RESULTADOS1'!M19/REPORTE!U46)","v":0},null,{"$f":"IF(ISERROR(+'ESTADO DE RESULTADOS1'!N19/REPORTE!W46),0,+'ESTADO DE RESULTADOS1'!N19/REPORTE!W46)","v":0},null,{"$f":"IF(ISERROR(+'ESTADO DE RESULTADOS1'!O19/REPORTE!Y46),0,+'ESTADO DE RESULTADOS1'!O19/REPORTE!Y46)","v":0},null,61.530191947565534]
[null,"Precio Promedio - Hoj. Y Pintura",{"$f":"IF('ESTADO DE RESULTADOS1'!D21=0,\"SIN TALLER\",'ESTADO DE RESULTADOS1'!D21/REPORTE!C47)","v":3642.4212499999999},null,{"$f":"IF('ESTADO DE RESULTADOS1'!E21=0,\"SIN TALLER\",'ESTADO DE RESULTADOS1'!E21/REPORTE!E47)","v":"SIN TALLER"},null,{"$f":"IF('ESTADO DE RESULTADOS1'!F21=0,\"SIN TALLER\",'ESTADO DE RESULTADOS1'!F21/REPORTE!G47)","v":"SIN TALLER"},null,{"$f":"IF('ESTADO DE RESULTADOS1'!G21=0,\"SIN TALLER\",'ESTADO DE RESULTADOS1'!G21/REPORTE!I47)","v":"SIN TALLER"},null,{"$f":"IF('ESTADO DE RESULTADOS1'!H21=0,\"SIN TALLER\",'ESTADO DE RESULTADOS1'!H21/REPORTE!K47)","v":"SIN TALLER"},null,{"$f":"IF('ESTADO DE RESULTADOS1'!I21=0,\"SIN TALLER\",'ESTADO DE RESULTADOS1'!I21/REPORTE!M47)","v":"SIN TALLER"},null,{"$f":"IF('ESTADO DE RESULTADOS1'!J21=0,\"SIN TALLER\",'ESTADO DE RESULTADOS1'!J21/REPORTE!O47)","v":"SIN TALLER"},null,{"$f":"IF('ESTADO DE RESULTADOS1'!K21=0,\"SIN TALLER\",'ESTADO DE RESULTADOS1'!K21/REPORTE!Q47)","v":"SIN TALLER"},null,{"$f":"IF('ESTADO DE RESULTADOS1'!L21=0,\"SIN TALLER\",'ESTADO DE RESULTADOS1'!L21/REPORTE!S47)","v":"SIN TALLER"},null,{"$f":"IF('ESTADO DE RESULTADOS1'!M21=0,\"SIN TALLER\",'ESTADO DE RESULTADOS1'!M21/REPORTE!U47)","v":"SIN TALLER"},null,{"$f":"IF('ESTADO DE RESULTADOS1'!N21=0,\"SIN TALLER\",'ESTADO DE RESULTADOS1'!N21/REPORTE!W47)","v":"SIN TALLER"},null,{"$f":"IF('ESTADO DE RESULTADOS1'!O21=0,\"SIN TALLER\",'ESTADO DE RESULTADOS1'!O21/REPORTE!Y47)","v":"SIN TALLER"},null,3642.4212499999999]
[null,"Precio Promedio - Orden de Refaccion",{"$f":"IF(ISERROR(+'ESTADO DE RESULTADOS1'!D23/REPORTE!C48),0,+'ESTADO DE RESULTADOS1'!D23/REPORTE!C48)","v":2253.9365151515153},null,{"$f":"IF(ISERROR(+'ESTADO DE RESULTADOS1'!E23/REPORTE!E48),0,+'ESTADO DE RESULTADOS1'!E23/REPORTE!E48)","v":0},null,{"$f":"IF(ISERROR(+'ESTADO DE RESULTADOS1'!F23/REPORTE!G48),0,+'ESTADO DE RESULTADOS1'!F23/REPORTE!G48)","v":0},null,{"$f":"IF(ISERROR(+'ESTADO DE RESULTADOS1'!G23/REPORTE!I48),0,+'ESTADO DE RESULTADOS1'!F23/REPORTE!G48)","v":0},null,{"$f":"IF(ISERROR(+'ESTADO DE RESULTADOS1'!H23/REPORTE!K48),0,+'ESTADO DE RESULTADOS1'!F23/REPORTE!G48)","v":0},null,{"$f":"IF(ISERROR(+'ESTADO DE RESULTADOS1'!I23/REPORTE!M48),0,+'ESTADO DE RESULTADOS1'!F23/REPORTE!G48)","v":0},null,{"$f":"IF(ISERROR(+'ESTADO DE RESULTADOS1'!J23/REPORTE!O48),0,+'ESTADO DE RESULTADOS1'!F23/REPORTE!G48)","v":0},null,{"$f":"IF(ISERROR(+'ESTADO DE RESULTADOS1'!K23/REPORTE!Q48),0,+'ESTADO DE RESULTADOS1'!F23/REPORTE!G48)","v":0},null,{"$f":"IF(ISERROR(+'ESTADO DE RESULTADOS1'!L23/REPORTE!S48),0,+'ESTADO DE RESULTADOS1'!L23/REPORTE!S48)","v":0},null,{"$f":"IF(ISERROR(+'ESTADO DE RESULTADOS1'!M23/REPORTE!U48),0,+'ESTADO DE RESULTADOS1'!M23/REPORTE!U48)","v":0},null,{"$f":"IF(ISERROR(+'ESTADO DE RESULTADOS1'!N23/REPORTE!W48),0,+'ESTADO DE RESULTADOS1'!N23/REPORTE!W48)","v":0},null,{"$f":"IF(ISERROR(+'ESTADO DE RESULTADOS1'!O23/REPORTE!Y48),0,+'ESTADO DE RESULTADOS1'!O23/REPORTE!Y48)","v":0},null,187.82804292929293]
[null,"Sueldos Promedio Por Empleado",{"$f":"IF(ISERROR(+('ESTADO DE RESULTADOS1'!D65+'ESTADO DE RESULTADOS1'!D69+'ESTADO DE RESULTADOS1'!D79+'ESTADO DE RESULTADOS1'!D91+'ESTADO DE RESULTADOS1'!D84+'ESTADO DE RESULTADOS1'!D134+'ESTADO DE RESULTADOS1'!D133/DATOS1!C60)),0,+('ESTADO DE RESULTADOS1'!D65+'ESTADO DE RESULTADOS1'!D69+'ESTADO DE RESULTADOS1'!D79+'ESTADO DE RESULTADOS1'!D91+'ESTADO DE RESULTADOS1'!D84+'ESTADO DE RESULTADOS1'!D134+'ESTADO DE RESULTADOS1'!D133/DATOS1!C60))","v":56605.042553191488},null,{"$f":"IF(ISERROR(+('ESTADO DE RESULTADOS1'!E65+'ESTADO DE RESULTADOS1'!E69+'ESTADO DE RESULTADOS1'!E79+'ESTADO DE RESULTADOS1'!E91+'ESTADO DE RESULTADOS1'!E84+'ESTADO DE RESULTADOS1'!E134+'ESTADO DE RESULTADOS1'!E133/DATOS1!D60)),0,+('ESTADO DE RESULTADOS1'!E65+'ESTADO DE RESULTADOS1'!E69+'ESTADO DE RESULTADOS1'!E79+'ESTADO DE RESULTADOS1'!E91+'ESTADO DE RESULTADOS1'!E84+'ESTADO DE RESULTADOS1'!E134+'ESTADO DE RESULTADOS1'!E133/DATOS1!D60))","v":0},null,{"$f":"IF(ISERROR(+('ESTADO DE RESULTADOS1'!F65+'ESTADO DE RESULTADOS1'!F69+'ESTADO DE RESULTADOS1'!F79+'ESTADO DE RESULTADOS1'!F91+'ESTADO DE RESULTADOS1'!F84+'ESTADO DE RESULTADOS1'!F134+'ESTADO DE RESULTADOS1'!F133/DATOS1!E60)),0,+('ESTADO DE RESULTADOS1'!F65+'ESTADO DE RESULTADOS1'!F69+'ESTADO DE RESULTADOS1'!F79+'ESTADO DE RESULTADOS1'!F91+'ESTADO DE RESULTADOS1'!F84+'ESTADO DE RESULTADOS1'!F134+'ESTADO DE RESULTADOS1'!F133/DATOS1!E60))","v":0},null,{"$f":"IF(ISERROR(+('ESTADO DE RESULTADOS1'!G65+'ESTADO DE RESULTADOS1'!G69+'ESTADO DE RESULTADOS1'!G79+'ESTADO DE RESULTADOS1'!G91+'ESTADO DE RESULTADOS1'!G84+'ESTADO DE RESULTADOS1'!G134+'ESTADO DE RESULTADOS1'!G133/DATOS1!F60)),0,+('ESTADO DE RESULTADOS1'!G65+'ESTADO DE RESULTADOS1'!G69+'ESTADO DE RESULTADOS1'!G79+'ESTADO DE RESULTADOS1'!G91+'ESTADO DE RESULTADOS1'!G84+'ESTADO DE RESULTADOS1'!G134+'ESTADO DE RESULTADOS1'!G133/DATOS1!F60))","v":0},null,{"$f":"IF(ISERROR(+('ESTADO DE RESULTADOS1'!H65+'ESTADO DE RESULTADOS1'!H69+'ESTADO DE RESULTADOS1'!H79+'ESTADO DE RESULTADOS1'!H91+'ESTADO DE RESULTADOS1'!H84+'ESTADO DE RESULTADOS1'!H134+'ESTADO DE RESULTADOS1'!H133/DATOS1!G60)),0,+('ESTADO DE RESULTADOS1'!H65+'ESTADO DE RESULTADOS1'!H69+'ESTADO DE RESULTADOS1'!H79+'ESTADO DE RESULTADOS1'!H91+'ESTADO DE RESULTADOS1'!H84+'ESTADO DE RESULTADOS1'!H134+'ESTADO DE RESULTADOS1'!H133/DATOS1!G60))","v":0},null,{"$f":"IF(ISERROR(+('ESTADO DE RESULTADOS1'!I65+'ESTADO DE RESULTADOS1'!I69+'ESTADO DE RESULTADOS1'!I79+'ESTADO DE RESULTADOS1'!I91+'ESTADO DE RESULTADOS1'!I84+'ESTADO DE RESULTADOS1'!I134+'ESTADO DE RESULTADOS1'!I133/DATOS1!H60)),0,+('ESTADO DE RESULTADOS1'!I65+'ESTADO DE RESULTADOS1'!I69+'ESTADO DE RESULTADOS1'!I79+'ESTADO DE RESULTADOS1'!I91+'ESTADO DE RESULTADOS1'!I84+'ESTADO DE RESULTADOS1'!I134+'ESTADO DE RESULTADOS1'!I133/DATOS1!H60))","v":0},null,{"$f":"IF(ISERROR(+('ESTADO DE RESULTADOS1'!J65+'ESTADO DE RESULTADOS1'!J69+'ESTADO DE RESULTADOS1'!J79+'ESTADO DE RESULTADOS1'!J91+'ESTADO DE RESULTADOS1'!J84+'ESTADO DE RESULTADOS1'!J134+'ESTADO DE RESULTADOS1'!J133/DATOS1!I60)),0,+('ESTADO DE RESULTADOS1'!J65+'ESTADO DE RESULTADOS1'!J69+'ESTADO DE RESULTADOS1'!J79+'ESTADO DE RESULTADOS1'!J91+'ESTADO DE RESULTADOS1'!J84+'ESTADO DE RESULTADOS1'!J134+'ESTADO DE RESULTADOS1'!J133/DATOS1!I60))","v":0},null,{"$f":"IF(ISERROR(+('ESTADO DE RESULTADOS1'!K65+'ESTADO DE RESULTADOS1'!K69+'ESTADO DE RESULTADOS1'!K79+'ESTADO DE RESULTADOS1'!K91+'ESTADO DE RESULTADOS1'!K84+'ESTADO DE RESULTADOS1'!K134+'ESTADO DE RESULTADOS1'!K133/DATOS1!J60)),0,+('ESTADO DE RESULTADOS1'!K65+'ESTADO DE RESULTADOS1'!K69+'ESTADO DE RESULTADOS1'!K79+'ESTADO DE RESULTADOS1'!K91+'ESTADO DE RESULTADOS1'!K84+'ESTADO DE RESULTADOS1'!K134+'ESTADO DE RESULTADOS1'!K133/DATOS1!J60))","v":0},null,{"$f":"IF(ISERROR(+('ESTADO DE RESULTADOS1'!L65+'ESTADO DE RESULTADOS1'!L69+'ESTADO DE RESULTADOS1'!L79+'ESTADO DE RESULTADOS1'!L91+'ESTADO DE RESULTADOS1'!L84+'ESTADO DE RESULTADOS1'!L134+'ESTADO DE RESULTADOS1'!L133/DATOS1!K60)),0,+('ESTADO DE RESULTADOS1'!L65+'ESTADO DE RESULTADOS1'!L69+'ESTADO DE RESULTADOS1'!L79+'ESTADO DE RESULTADOS1'!L91+'ESTADO DE RESULTADOS1'!L84+'ESTADO DE RESULTADOS1'!L134+'ESTADO DE RESULTADOS1'!L133/DATOS1!K60))","v":0},null,{"$f":"IF(ISERROR(+('ESTADO DE RESULTADOS1'!M65+'ESTADO DE RESULTADOS1'!M69+'ESTADO DE RESULTADOS1'!M79+'ESTADO DE RESULTADOS1'!M91+'ESTADO DE RESULTADOS1'!M84+'ESTADO DE RESULTADOS1'!M134+'ESTADO DE RESULTADOS1'!M133/DATOS1!L60)),0,+('ESTADO DE RESULTADOS1'!M65+'ESTADO DE RESULTADOS1'!M69+'ESTADO DE RESULTADOS1'!M79+'ESTADO DE RESULTADOS1'!M91+'ESTADO DE RESULTADOS1'!M84+'ESTADO DE RESULTADOS1'!M134+'ESTADO DE RESULTADOS1'!M133/DATOS1!L60))","v":0},null,{"$f":"IF(ISERROR(+('ESTADO DE RESULTADOS1'!N65+'ESTADO DE RESULTADOS1'!N69+'ESTADO DE RESULTADOS1'!N79+'ESTADO DE RESULTADOS1'!N91+'ESTADO DE RESULTADOS1'!N84+'ESTADO DE RESULTADOS1'!N134+'ESTADO DE RESULTADOS1'!N133/DATOS1!M60)),0,+('ESTADO DE RESULTADOS1'!N65+'ESTADO DE RESULTADOS1'!N69+'ESTADO DE RESULTADOS1'!N79+'ESTADO DE RESULTADOS1'!N91+'ESTADO DE RESULTADOS1'!N84+'ESTADO DE RESULTADOS1'!N134+'ESTADO DE RESULTADOS1'!N133/DATOS1!M60))","v":0},null,{"$f":"IF(ISERROR(+('ESTADO DE RESULTADOS1'!O65+'ESTADO DE RESULTADOS1'!O69+'ESTADO DE RESULTADOS1'!O79+'ESTADO DE RESULTADOS1'!O91+'ESTADO DE RESULTADOS1'!O84+'ESTADO DE RESULTADOS1'!O134+'ESTADO DE RESULTADOS1'!O133/DATOS1!N60)),0,+('ESTADO DE RESULTADOS1'!O65+'ESTADO DE RESULTADOS1'!O69+'ESTADO DE RESULTADOS1'!O79+'ESTADO DE RESULTADOS1'!O91+'ESTADO DE RESULTADOS1'!O84+'ESTADO DE RESULTADOS1'!O134+'ESTADO DE RESULTADOS1'!O133/DATOS1!N60))","v":0},null,4717.0868794326243]
[null,"% de Absorción de Gastos",{"$f":"IF(ISERROR(+(C91+C92+C93+C94)/C18),0,+(C91+C92+C93+C94)/C18)","v":0.54608000175287275},null,{"$f":"IF(ISERROR(+(E91+E92+E93+E94)/E18),0,+(E91+E92+E93+E94)/E18)","v":0},null,{"$f":"IF(ISERROR(+(G91+G92+G93+G94)/G18),0,+(G91+G92+G93+G94)/G18)","v":0},null,{"$f":"IF(ISERROR(+(I91+I92+I93+I94)/I18),0,+(I91+I92+I93+I94)/I18)","v":0},null,{"$f":"IF(ISERROR(+(K91+K92+K93+K94)/K18),0,+(K91+K92+K93+K94)/K18)","v":0},null,{"$f":"IF(ISERROR(+(M91+M92+M93+M94)/M18),0,+(M91+M92+M93+M94)/M18)","v":0},null,{"$f":"IF(ISERROR(+(O91+O92+O93+O94)/O18),0,+(O91+O92+O93+O94)/O18)","v":0},null,{"$f":"IF(ISERROR(+(Q91+Q92+Q93+Q94)/Q18),0,+(Q91+Q92+Q93+Q94)/Q18)","v":0},null,{"$f":"IF(ISERROR(+(S91+S92+S93+S94)/S18),0,+(S91+S92+S93+S94)/S18)","v":0},null,{"$f":"IF(ISERROR(+(U91+U92+U93+U94)/U18),0,+(U91+U92+U93+U94)/U18)","v":0},null,{"$f":"IF(ISERROR(+(W91+W92+W93+W94)/W18),0,+(W91+W92+W93+W94)/W18)","v":0},null,{"$f":"IF(ISERROR(+(Y91+Y92+Y93+Y94)/Y18),0,+(Y91+Y92+Y93+Y94)/Y18)","v":0},null,4.5506666812739398E-2]
[]
[null,"APALANCAMIENTO"]
[null,"Deuda Total  ",{"$f":"+BALANCE!E107+BALANCE!E124+BALANCE!E125+BALANCE!E126+BALANCE!E127+BALANCE!E128","v":7581094.7199999997},null,{"$f":"+BALANCE!F107+BALANCE!F124+BALANCE!F125+BALANCE!F126+BALANCE!F127+BALANCE!F128","v":0},null,{"$f":"+BALANCE!G107+BALANCE!G124+BALANCE!G125+BALANCE!G126+BALANCE!G127+BALANCE!G128","v":0},null,{"$f":"+BALANCE!H107+BALANCE!H124+BALANCE!H125+BALANCE!H126+BALANCE!H127+BALANCE!H128","v":0},null,{"$f":"+BALANCE!I107+BALANCE!I124+BALANCE!I125+BALANCE!I126+BALANCE!I127+BALANCE!I128","v":0},null,{"$f":"+BALANCE!J107+BALANCE!J124+BALANCE!J125+BALANCE!J126+BALANCE!J127+BALANCE!J128","v":0},null,{"$f":"+BALANCE!K107+BALANCE!K124+BALANCE!K125+BALANCE!K126+BALANCE!K127+BALANCE!K128","v":0},null,{"$f":"+BALANCE!L107+BALANCE!L124+BALANCE!L125+BALANCE!L126+BALANCE!L127+BALANCE!L128","v":0},null,{"$f":"+BALANCE!M107+BALANCE!M124+BALANCE!M125+BALANCE!M126+BALANCE!M127+BALANCE!M128","v":0},null,{"$f":"+BALANCE!N107+BALANCE!N124+BALANCE!N125+BALANCE!N126+BALANCE!N127+BALANCE!N128","v":0},null,{"$f":"+BALANCE!O107+BALANCE!O124+BALANCE!O125+BALANCE!O126+BALANCE!O127+BALANCE!O128","v":0},null,{"$f":"+BALANCE!P107+BALANCE!P124+BALANCE!P125+BALANCE!P126+BALANCE!P127+BALANCE!P128","v":0},null,{"$f":"AVERAGE(C67:Z67)","v":631757.89333333331}]
[null,"Deuda C.P.",{"$f":"+BALANCE!E107","v":0},null,{"$f":"+BALANCE!F107","v":0},null,{"$f":"+BALANCE!G107","v":0},null,{"$f":"+BALANCE!H107","v":0},null,{"$f":"+BALANCE!I107","v":0},null,{"$f":"+BALANCE!O107","v":0},null,{"$f":"+BALANCE!K107","v":0},null,{"$f":"+BALANCE!L107","v":0},null,{"$f":"+BALANCE!M107","v":0},null,{"$f":"+BALANCE!N107","v":0},null,{"$f":"+BALANCE!O107","v":0},null,{"$f":"+BALANCE!P107","v":0},null,{"$f":"AVERAGE(C68:Z68)","v":0}]
[null,"Deuda L.P.",{"$f":"+C67-C68","v":7581094.7199999997},null,{"$f":"+E67-E68","v":0},null,{"$f":"+G67-G68","v":0},null,{"$f":"+I67-I68","v":0},null,{"$f":"+K67-K68","v":0},null,{"$f":"+M67-M68","v":0},null,{"$f":"+O67-O68","v":0},null,{"$f":"+Q67-Q68","v":0},null,{"$f":"+S67-S68","v":0},null,{"$f":"+U67-U68","v":0},null,{"$f":"+W67-W68","v":0},null,{"$f":"+Y67-Y68","v":0},null,631757.89333333331]
[null,"Plan Piso - Nuevos",{"$f":"+'ESTADO DE RESULTADOS1'!D36","v":179336},null,{"$f":"+'ESTADO DE RESULTADOS1'!E36","v":0},null,{"$f":"+'ESTADO DE RESULTADOS1'!F36","v":0},null,{"$f":"+'ESTADO DE RESULTADOS1'!G36","v":0},null,{"$f":"+'ESTADO DE RESULTADOS1'!H36","v":0},null,{"$f":"+'ESTADO DE RESULTADOS1'!I36","v":0},null,{"$f":"+'ESTADO DE RESULTADOS1'!J36","v":0},null,{"$f":"+'ESTADO DE RESULTADOS1'!K36","v":0},null,{"$f":"+'ESTADO DE RESULTADOS1'!L36","v":0},null,{"$f":"+'ESTADO DE RESULTADOS1'!M36","v":0},null,{"$f":"+'ESTADO DE RESULTADOS1'!N36","v":0},null,{"$f":"+'ESTADO DE RESULTADOS1'!O36","v":0},null,14944.666666666666]
[null,"EBITDA / Intereses Totales",{"$f":"IF(ISERROR(+C38/('ESTADO DE RESULTADOS1'!D152+'ESTADO DE RESULTADOS1'!D36+'ESTADO DE RESULTADOS1'!D42)),0,+C38/('ESTADO DE RESULTADOS1'!D152+'ESTADO DE RESULTADOS1'!D36+'ESTADO DE RESULTADOS1'!D42))","v":9.7644326459269966},null,{"$f":"IF(ISERROR(+E38/('ESTADO DE RESULTADOS1'!E152+'ESTADO DE RESULTADOS1'!E36+'ESTADO DE RESULTADOS1'!E42)),0,+E38/('ESTADO DE RESULTADOS1'!E152+'ESTADO DE RESULTADOS1'!E36+'ESTADO DE RESULTADOS1'!E42))","v":0},null,{"$f":"IF(ISERROR(+G38/('ESTADO DE RESULTADOS1'!F152+'ESTADO DE RESULTADOS1'!F36+'ESTADO DE RESULTADOS1'!F42)),0,+G38/('ESTADO DE RESULTADOS1'!F152+'ESTADO DE RESULTADOS1'!F36+'ESTADO DE RESULTADOS1'!F42))","v":0},null,{"$f":"IF(ISERROR(+I38/('ESTADO DE RESULTADOS1'!G152+'ESTADO DE RESULTADOS1'!G36+'ESTADO DE RESULTADOS1'!G42)),0,+I38/('ESTADO DE RESULTADOS1'!G152+'ESTADO DE RESULTADOS1'!G36+'ESTADO DE RESULTADOS1'!G42))","v":0},null,{"$f":"IF(ISERROR(+K38/('ESTADO DE RESULTADOS1'!H152+'ESTADO DE RESULTADOS1'!H36+'ESTADO DE RESULTADOS1'!H42)),0,+K38/('ESTADO DE RESULTADOS1'!H152+'ESTADO DE RESULTADOS1'!H36+'ESTADO DE RESULTADOS1'!H42))","v":0},null,{"$f":"IF(ISERROR(+M38/('ESTADO DE RESULTADOS1'!I152+'ESTADO DE RESULTADOS1'!I36+'ESTADO DE RESULTADOS1'!I42)),0,+M38/('ESTADO DE RESULTADOS1'!I152+'ESTADO DE RESULTADOS1'!I36+'ESTADO DE RESULTADOS1'!I42))","v":0},null,{"$f":"IF(ISERROR(+O38/('ESTADO DE RESULTADOS1'!J152+'ESTADO DE RESULTADOS1'!J36+'ESTADO DE RESULTADOS1'!J42)),0,+O38/('ESTADO DE RESULTADOS1'!J152+'ESTADO DE RESULTADOS1'!J36+'ESTADO DE RESULTADOS1'!J42))","v":0},null,{"$f":"IF(ISERROR(+Q38/('ESTADO DE RESULTADOS1'!K152+'ESTADO DE RESULTADOS1'!K36+'ESTADO DE RESULTADOS1'!K42)),0,+Q38/('ESTADO DE RESULTADOS1'!K152+'ESTADO DE RESULTADOS1'!K36+'ESTADO DE RESULTADOS1'!K42))","v":0},null,{"$f":"IF(ISERROR(+S38/('ESTADO DE RESULTADOS1'!L152+'ESTADO DE RESULTADOS1'!L36+'ESTADO DE RESULTADOS1'!L42)),0,+S38/('ESTADO DE RESULTADOS1'!L152+'ESTADO DE RESULTADOS1'!L36+'ESTADO DE RESULTADOS1'!L42))","v":0},null,{"$f":"IF(ISERROR(+U38/('ESTADO DE RESULTADOS1'!M152+'ESTADO DE RESULTADOS1'!M36+'ESTADO DE RESULTADOS1'!M42)),0,+U38/('ESTADO DE RESULTADOS1'!M152+'ESTADO DE RESULTADOS1'!M36+'ESTADO DE RESULTADOS1'!M42))","v":0},null,{"$f":"IF(ISERROR(+W38/('ESTADO DE RESULTADOS1'!N152+'ESTADO DE RESULTADOS1'!N36+'ESTADO DE RESULTADOS1'!N42)),0,+W38/('ESTADO DE RESULTADOS1'!N152+'ESTADO DE RESULTADOS1'!N36+'ESTADO DE RESULTADOS1'!N42))","v":0},null,{"$f":"IF(ISERROR(+Y38/('ESTADO DE RESULTADOS1'!O152+'ESTADO DE RESULTADOS1'!O36+'ESTADO DE RESULTADOS1'!O42)),0,+Y38/('ESTADO DE RESULTADOS1'!O152+'ESTADO DE RESULTADOS1'!O36+'ESTADO DE RESULTADOS1'!O42))","v":0},null,0.81370272049391634]
[null,"Pasivo a Capital",{"$f":"IF(ISERROR(+BALANCE!E131/BALANCE!E140),0,+BALANCE!E131/BALANCE!E140)","v":1.2355781840769757},null,{"$f":"IF(ISERROR(+BALANCE!F131/BALANCE!F140),0,+BALANCE!F131/BALANCE!F140)","v":0},null,{"$f":"IF(ISERROR(+BALANCE!G131/BALANCE!G140),0,+BALANCE!G131/BALANCE!G140)","v":0},null,{"$f":"IF(ISERROR(+BALANCE!H131/BALANCE!H140),0,+BALANCE!H131/BALANCE!H140)","v":0},null,{"$f":"IF(ISERROR(+BALANCE!I131/BALANCE!I140),0,+BALANCE!I131/BALANCE!I140)","v":0},null,{"$f":"IF(ISERROR(+BALANCE!J131/BALANCE!J140),0,+BALANCE!J131/BALANCE!J140)","v":0},null,{"$f":"IF(ISERROR(+BALANCE!K131/BALANCE!K140),0,+BALANCE!K131/BALANCE!K140)","v":0},null,{"$f":"IF(ISERROR(+BALANCE!L131/BALANCE!L140),0,+BALANCE!L131/BALANCE!L140)","v":0},null,{"$f":"IF(ISERROR(+BALANCE!M131/BALANCE!M140),0,+BALANCE!L131/BALANCE!L140)","v":0},null,{"$f":"IF(ISERROR(+BALANCE!N131/BALANCE!N140),0,+BALANCE!N131/BALANCE!N140)","v":0},null,{"$f":"IF(ISERROR(+BALANCE!O131/BALANCE!O140),0,+BALANCE!O131/BALANCE!O140)","v":0},null,{"$f":"IF(ISERROR(+BALANCE!P131/BALANCE!P140),0,+BALANCE!P131/BALANCE!P140)","v":0},null,0.10296484867308131]
[null,"Deuda Total + TFS / Activos Totales",{"$f":"IF(ISERROR(+(C67+BALANCE!E116)/C25),0,+(C67+BALANCE!E116)/C25)","v":0.42734574262324942},null,{"$f":"IF(ISERROR(+(E67+BALANCE!F116)/E25),0,+(E67+BALANCE!F116)/E25)","v":0},null,{"$f":"IF(ISERROR(+(G67+BALANCE!G116)/G25),0,+(G67+BALANCE!G116)/G25)","v":0},null,{"$f":"IF(ISERROR(+(I67+BALANCE!H116)/I25),0,+(I67+BALANCE!H116)/I25)","v":0},null,{"$f":"IF(ISERROR(+(K67+BALANCE!I116)/K25),0,+(K67+BALANCE!I116)/K25)","v":0},null,{"$f":"IF(ISERROR(+(M67+BALANCE!J116)/M25),0,+(M67+BALANCE!J116)/M25)","v":0},null,{"$f":"IF(ISERROR(+(O67+BALANCE!K116)/O25),0,+(O67+BALANCE!K116)/O25)","v":0},null,{"$f":"IF(ISERROR(+(Q67+BALANCE!L116)/Q25),0,+(Q67+BALANCE!L116)/Q25)","v":0},null,{"$f":"IF(ISERROR(+(S67+BALANCE!M116)/S25),0,+(S67+BALANCE!M116)/S25)","v":0},null,{"$f":"IF(ISERROR(+(U67+BALANCE!N116)/U25),0,+(U67+BALANCE!N116)/U25)","v":0},null,{"$f":"IF(ISERROR(+(W67+BALANCE!O116)/W25),0,+(W67+BALANCE!O116)/W25)","v":0},null,{"$f":"IF(ISERROR(+(Y67+BALANCE!P116)/Y25),0,+(Y67+BALANCE!P116)/Y25)","v":0},null,3.5612145218604119E-2]
[]
[null,"RENTABILIDAD"]
[null,"ROS",{"$f":"IF(ISERROR(+C15/(C11-'AUTOS NUEVOS1'!D30)),0,+C15/(C11-'AUTOS NUEVOS1'!D30))","v":7.0913851201087466E-2},null,{"$f":"IF(ISERROR(+E15/(E11-'AUTOS NUEVOS1'!G30)),0,+E15/(E11-'AUTOS NUEVOS1'!G30))","v":0},null,{"$f":"IF(ISERROR(+G15/(G11-'AUTOS NUEVOS1'!J30)),0,+G15/(G11-'AUTOS NUEVOS1'!J30))","v":0},null,{"$f":"IF(ISERROR(+I15/(I11-'AUTOS NUEVOS1'!M30)),0,+I15/(I11-'AUTOS NUEVOS1'!M30))","v":0},null,{"$f":"IF(ISERROR(+K15/(K11-'AUTOS NUEVOS1'!P30)),0,+K15/(K11-'AUTOS NUEVOS1'!P30))","v":0},null,{"$f":"IF(ISERROR(+M15/(M11-'AUTOS NUEVOS1'!S30)),0,+M15/(M11-'AUTOS NUEVOS1'!S30))","v":0},null,{"$f":"IF(ISERROR(+O15/(O11-'AUTOS NUEVOS1'!D61)),0,+O15/(O11-'AUTOS NUEVOS1'!D61))","v":0},null,{"$f":"IF(ISERROR(+Q15/(Q11-'AUTOS NUEVOS1'!G61)),0,+Q15/(Q11-'AUTOS NUEVOS1'!G61))","v":0},null,{"$f":"IF(ISERROR(+S15/(S11-'AUTOS NUEVOS1'!J61)),0,+S15/(S11-'AUTOS NUEVOS1'!J61))","v":0},null,{"$f":"IF(ISERROR(+U15/(U11-'AUTOS NUEVOS1'!M61)),0,+U15/(U11-'AUTOS NUEVOS1'!M61))","v":0},null,{"$f":"IF(ISERROR(+W15/(W11-'AUTOS NUEVOS1'!P61)),0,+W15/(W11-'AUTOS NUEVOS1'!P61))","v":0},null,{"$f":"IF(ISERROR(+Y15/(Y11-'AUTOS NUEVOS1'!S61)),0,+Y15/(Y11-'AUTOS NUEVOS1'!S61))","v":0},null,{"$f":"IF(ISERROR(+AA15/(AA11-'AUTOS NUEVOS1'!V61)),0,+AA15/(AA11-'AUTOS NUEVOS1'!V61))","v":7.0913851201087466E-2}]
[null,"ROA",{"$f":"IF(ISERROR(+C15/C25),0,+C15/C25)","v":1.4653536189344259E-2},null,{"$f":"IF(ISERROR(+E15/E25),0,+E15/E25)","v":0},null,{"$f":"IF(ISERROR(+G15/G25),0,+G15/G25)","v":0},null,{"$f":"IF(ISERROR(+I15/I25),0,+I15/I25)","v":0},null,{"$f":"IF(ISERROR(+K15/K25),0,+K15/K25)","v":0},null,{"$f":"IF(ISERROR(+M15/M25),0,+M15/M25)","v":0},null,{"$f":"IF(ISERROR(+O15/O25),0,+O15/O25)","v":0},null,{"$f":"IF(ISERROR(+Q15/Q25),0,+Q15/Q25)","v":0},null,{"$f":"IF(ISERROR(+S15/S25),0,+S15/S25)","v":0},null,{"$f":"IF(ISERROR(+U15/U25),0,+U15/U25)","v":0},null,{"$f":"IF(ISERROR(+W15/W25),0,+W15/W25)","v":0},null,{"$f":"IF(ISERROR(+Y15/Y25),0,+Y15/Y25)","v":0},null,{"$f":"AVERAGE(C77:Z77)","v":1.2211280157786882E-3}]
[null,"ROE",{"$f":"IF(ISERROR(+(('ESTADO DE RESULTADOS1'!D165/'ESTADO DE RESULTADOS1'!D7)*12)/(BALANCE!E140)),0,+(('ESTADO DE RESULTADOS1'!D165/'ESTADO DE RESULTADOS1'!D7)*12)/(BALANCE!E140))","v":0.39310950965837721},null,{"$f":"IF(ISERROR(+(('ESTADO DE RESULTADOS1'!E165/'ESTADO DE RESULTADOS1'!E7)*12)/(BALANCE!F140)),0,+(('ESTADO DE RESULTADOS1'!E165/'ESTADO DE RESULTADOS1'!E7)*12)/(BALANCE!F140))","v":0},null,{"$f":"IF(ISERROR(+(('ESTADO DE RESULTADOS1'!F165/'ESTADO DE RESULTADOS1'!F7)*12)/(BALANCE!G140)),0,+(('ESTADO DE RESULTADOS1'!F165/'ESTADO DE RESULTADOS1'!F7)*12)/(BALANCE!G140))","v":0},null,{"$f":"IF(ISERROR(+(('ESTADO DE RESULTADOS1'!G165/'ESTADO DE RESULTADOS1'!G7)*12)/(BALANCE!H140)),0,+(('ESTADO DE RESULTADOS1'!G165/'ESTADO DE RESULTADOS1'!G7)*12)/(BALANCE!H140))","v":0},null,{"$f":"IF(ISERROR(+(('ESTADO DE RESULTADOS1'!H165/'ESTADO DE RESULTADOS1'!H7)*12)/(BALANCE!I140)),0,+(('ESTADO DE RESULTADOS1'!H165/'ESTADO DE RESULTADOS1'!H7)*12)/(BALANCE!I140))","v":0},null,{"$f":"IF(ISERROR(+(('ESTADO DE RESULTADOS1'!I165/'ESTADO DE RESULTADOS1'!I7)*12)/(BALANCE!J140)),0,+(('ESTADO DE RESULTADOS1'!I165/'ESTADO DE RESULTADOS1'!I7)*12)/(BALANCE!J140))","v":0},null,{"$f":"IF(ISERROR(+(('ESTADO DE RESULTADOS1'!J165/'ESTADO DE RESULTADOS1'!J7)*12)/(BALANCE!K140)),0,+(('ESTADO DE RESULTADOS1'!J165/'ESTADO DE RESULTADOS1'!J7)*12)/(BALANCE!K140))","v":0},null,{"$f":"IF(ISERROR(+(('ESTADO DE RESULTADOS1'!K165/'ESTADO DE RESULTADOS1'!K7)*12)/(BALANCE!L140)),0,+(('ESTADO DE RESULTADOS1'!K165/'ESTADO DE RESULTADOS1'!K7)*12)/(BALANCE!L140))","v":0},null,{"$f":"IF(ISERROR(+(('ESTADO DE RESULTADOS1'!L165/'ESTADO DE RESULTADOS1'!L7)*12)/(BALANCE!M140)),0,+(('ESTADO DE RESULTADOS1'!L165/'ESTADO DE RESULTADOS1'!L7)*12)/(BALANCE!M140))","v":0},null,{"$f":"IF(ISERROR(+(('ESTADO DE RESULTADOS1'!M165/'ESTADO DE RESULTADOS1'!M7)*12)/(BALANCE!N140)),0,+(('ESTADO DE RESULTADOS1'!M165/'ESTADO DE RESULTADOS1'!M7)*12)/(BALANCE!N140))","v":0},null,{"$f":"IF(ISERROR(+(('ESTADO DE RESULTADOS1'!N165/'ESTADO DE RESULTADOS1'!N7)*12)/(BALANCE!O140)),0,+(('ESTADO DE RESULTADOS1'!N165/'ESTADO DE RESULTADOS1'!N7)*12)/(BALANCE!O140))","v":0},null,{"$f":"IF(ISERROR(+(('ESTADO DE RESULTADOS1'!O165/'ESTADO DE RESULTADOS1'!O7)*12)/(BALANCE!P140)),0,+(('ESTADO DE RESULTADOS1'!O165/'ESTADO DE RESULTADOS1'!O7)*12)/(BALANCE!P140))","v":0},null,{"$f":"AVERAGE(C78:Z78)","v":3.2759125804864765E-2}]
[]
[null,"EFICIENCIA"]
[null,"Inventario / Capital de Trabajo",{"$f":"IF(ISERROR(+BALANCE!E52/REPORTE!C54),0,+BALANCE!E52/REPORTE!C54)","v":0.73344558343345534},null,{"$f":"IF(ISERROR(+BALANCE!F52/REPORTE!E54),0,+BALANCE!F52/REPORTE!E54)","v":0},null,{"$f":"IF(ISERROR(+BALANCE!G52/REPORTE!G54),0,+BALANCE!G52/REPORTE!G54)","v":0},null,{"$f":"IF(ISERROR(+BALANCE!H52/REPORTE!I54),0,+BALANCE!H52/REPORTE!I54)","v":0},null,{"$f":"IF(ISERROR(+BALANCE!I52/REPORTE!K54),0,+BALANCE!I52/REPORTE!K54)","v":0},null,{"$f":"IF(ISERROR(+BALANCE!J52/REPORTE!M54),0,+BALANCE!J52/REPORTE!M54)","v":0},null,{"$f":"IF(ISERROR(+BALANCE!K52/REPORTE!O54),0,+BALANCE!K52/REPORTE!O54)","v":0},null,{"$f":"IF(ISERROR(+BALANCE!L52/REPORTE!Q54),0,+BALANCE!L52/REPORTE!Q54)","v":0},null,{"$f":"IF(ISERROR(+BALANCE!M52/REPORTE!S54),0,+BALANCE!M52/REPORTE!S54)","v":0},null,{"$f":"IF(ISERROR(+BALANCE!M52/REPORTE!U54),0,+BALANCE!M52/REPORTE!U54)","v":0},null,{"$f":"IF(ISERROR(+BALANCE!O52/REPORTE!W54),0,+BALANCE!O52/REPORTE!W54)","v":0},null,{"$f":"IF(ISERROR(+BALANCE!P52/REPORTE!Y54),0,+BALANCE!P52/REPORTE!Y54)","v":0},null,{"$f":"AVERAGE(C81:Z81)","v":6.1120465286121278E-2}]
[null,"Cuentas X Cobrar",{"$f":"+BALANCE!E39","v":37722038.829999998},null,{"$f":"+BALANCE!F39","v":0},null,{"$f":"+BALANCE!G39","v":0},null,{"$f":"+BALANCE!H39","v":0},null,{"$f":"+BALANCE!I39","v":0},null,{"$f":"+BALANCE!J39","v":0},null,{"$f":"+BALANCE!K39","v":0},null,{"$f":"+BALANCE!L39","v":0},null,{"$f":"+BALANCE!M39","v":0},null,{"$f":"+BALANCE!N39","v":0},null,{"$f":"+BALANCE!O39","v":0},null,{"$f":"+BALANCE!P39","v":0},null,{"$f":"AVERAGE(C82:Z82)","v":3143503.2358333333}]
[null,"Cuentas x Pagar",{"$f":"+BALANCE!E116+BALANCE!E121","v":27389540.41},null,{"$f":"+BALANCE!F116+BALANCE!F121","v":0},null,{"$f":"+BALANCE!G116+BALANCE!G121","v":0},null,{"$f":"+BALANCE!H116+BALANCE!H121","v":0},null,{"$f":"+BALANCE!I116+BALANCE!I121","v":0},null,{"$f":"+BALANCE!J116+BALANCE!J121","v":0},null,{"$f":"+BALANCE!K116+BALANCE!K121","v":0},null,{"$f":"+BALANCE!L116+BALANCE!L121","v":0},null,{"$f":"+BALANCE!M116+BALANCE!M121","v":0},null,{"$f":"+BALANCE!N116+BALANCE!M121","v":0},null,{"$f":"+BALANCE!O116+BALANCE!O121","v":0},null,{"$f":"+BALANCE!P116+BALANCE!P121","v":0},null,2282461.7008333332]
[null,"Dias CxP",{"$f":"IF(ISERROR(360/('ESTADO DE RESULTADOS1'!D27/(AVERAGE(BALANCE!E89:E94,BALANCE!E111:E113)))),0,360/('ESTADO DE RESULTADOS1'!D27/(AVERAGE(BALANCE!E89:E94,BALANCE!E111:E113))))","v":54.531233041950387},null,{"$f":"IF(ISERROR(360/('ESTADO DE RESULTADOS1'!E27/(AVERAGE(BALANCE!F89:F94,BALANCE!F111:F113)))),0,360/('ESTADO DE RESULTADOS1'!E27/(AVERAGE(BALANCE!F89:F94,BALANCE!F111:F113))))","v":0},null,{"$f":"IF(ISERROR(360/('ESTADO DE RESULTADOS1'!F27/(AVERAGE(BALANCE!G89:G94,BALANCE!G111:G113)))),0,360/('ESTADO DE RESULTADOS1'!F27/(AVERAGE(BALANCE!G89:G94,BALANCE!G111:G113))))","v":0},null,{"$f":"IF(ISERROR(360/(('ESTADO DE RESULTADOS1'!G27/(AVERAGE(BALANCE!H89:H94,BALANCE!H111:H113))))),0,360/(('ESTADO DE RESULTADOS1'!G27/(AVERAGE(BALANCE!H89:H94,BALANCE!H111:H113)))))","v":0},null,{"$f":"IF(ISERROR(360/('ESTADO DE RESULTADOS1'!H27/(AVERAGE(BALANCE!I89:I94,BALANCE!I111:I113)))),0,360/('ESTADO DE RESULTADOS1'!H27/(AVERAGE(BALANCE!I89:I94,BALANCE!I111:I113))))","v":0},null,{"$f":"IF(ISERROR(360/('ESTADO DE RESULTADOS1'!I27/(AVERAGE(BALANCE!J89:J94,BALANCE!J111:J113)))),0,360/('ESTADO DE RESULTADOS1'!I27/(AVERAGE(BALANCE!J89:J94,BALANCE!J111:J113))))","v":0},null,{"$f":"IF(ISERROR(360/('ESTADO DE RESULTADOS1'!J27/(AVERAGE(BALANCE!K89:K94,BALANCE!K111:K113)))),0,360/('ESTADO DE RESULTADOS1'!J27/(AVERAGE(BALANCE!K89:K94,BALANCE!K111:K113))))","v":0},null,{"$f":"IF(ISERROR(360/('ESTADO DE RESULTADOS1'!K27/(AVERAGE(BALANCE!L89:L94,BALANCE!L111:L113)))),0,360/('ESTADO DE RESULTADOS1'!K27/(AVERAGE(BALANCE!L89:L94,BALANCE!L111:L113))))","v":0},null,{"$f":"IF(ISERROR(360/('ESTADO DE RESULTADOS1'!L27/(AVERAGE(BALANCE!M89:M94,BALANCE!M111:M113)))),0,360/('ESTADO DE RESULTADOS1'!L27/(AVERAGE(BALANCE!M89:M94,BALANCE!M111:M113))))","v":0},null,{"$f":"IF(ISERROR(360/('ESTADO DE RESULTADOS1'!M27/(AVERAGE(BALANCE!N89:N94,BALANCE!N111:N113)))),0,360/('ESTADO DE RESULTADOS1'!M27/(AVERAGE(BALANCE!N89:N94,BALANCE!N111:N113))))","v":0},null,{"$f":"IF(ISERROR(360/('ESTADO DE RESULTADOS1'!N27/(AVERAGE(BALANCE!O89:O94,BALANCE!O111:O113)))),0,360/('ESTADO DE RESULTADOS1'!N27/(AVERAGE(BALANCE!O89:O94,BALANCE!O111:O113))))","v":0},null,{"$f":"IF(ISERROR(360/('ESTADO DE RESULTADOS1'!O27/(AVERAGE(BALANCE!P89:P94,BALANCE!P111:P113)))),0,360/('ESTADO DE RESULTADOS1'!O27/(AVERAGE(BALANCE!P89:P94,BALANCE!P111:P113))))","v":0},null,4.5442694201625322]
[null,"Dias CxC",{"$f":"IF(ISERROR(360/(C11/AVERAGE(BALANCE!E25:E27,BALANCE!E31,BALANCE!E32,BALANCE!E33,BALANCE!E34))),0,360/(C11/AVERAGE(BALANCE!E25:E27,BALANCE!E31,BALANCE!E32,BALANCE!E33,BALANCE!E34)))","v":46.099639678084138},null,{"$f":"IF(ISERROR(360/(E11/AVERAGE(BALANCE!F25:F27,BALANCE!F31,BALANCE!F32,BALANCE!F33,BALANCE!F34))),0,360/(E11/AVERAGE(BALANCE!F25:F27,BALANCE!F31,BALANCE!F32,BALANCE!F33,BALANCE!F34)))","v":0},null,{"$f":"IF(ISERROR(360/(G11/AVERAGE(BALANCE!G25:I27,BALANCE!G31,BALANCE!G32,BALANCE!G33,BALANCE!G34))),0,360/(G11/AVERAGE(BALANCE!G25:I27,BALANCE!G31,BALANCE!G32,BALANCE!G33,BALANCE!G34)))","v":0},null,{"$f":"IF(ISERROR(360/(I11/AVERAGE(BALANCE!H25:H27,BALANCE!H31,BALANCE!H32,BALANCE!H33,BALANCE!H34))),0,360/(I11/AVERAGE(BALANCE!H25:H27,BALANCE!H31,BALANCE!H32,BALANCE!H33,BALANCE!H34)))","v":0},null,{"$f":"IF(ISERROR(360/(K11/AVERAGE(BALANCE!I25:I27,BALANCE!I31,BALANCE!I32,BALANCE!I33,BALANCE!I34))),0,360/(K11/AVERAGE(BALANCE!I25:I27,BALANCE!I31,BALANCE!I32,BALANCE!I33,BALANCE!I34)))","v":0},null,{"$f":"IF(ISERROR(360/(M11/AVERAGE(BALANCE!J25:J27,BALANCE!J31,BALANCE!J32,BALANCE!J33,BALANCE!J34))),0,360/(M11/AVERAGE(BALANCE!J25:J27,BALANCE!J31,BALANCE!J32,BALANCE!J33,BALANCE!J34)))","v":0},null,{"$f":"IF(ISERROR(360/(O11/AVERAGE(BALANCE!K25:K27,BALANCE!K31,BALANCE!K32,BALANCE!K33,BALANCE!K34))),0,360/(O11/AVERAGE(BALANCE!K25:K27,BALANCE!K31,BALANCE!K32,BALANCE!K33,BALANCE!K34)))","v":0},null,{"$f":"IF(ISERROR(360/(Q11/AVERAGE(BALANCE!L25:L27,BALANCE!L31,BALANCE!L32,BALANCE!L33,BALANCE!L34))),0,360/(Q11/AVERAGE(BALANCE!L25:L27,BALANCE!L31,BALANCE!L32,BALANCE!L33,BALANCE!L34)))","v":0},null,{"$f":"IF(ISERROR(360/(S11/AVERAGE(BALANCE!M25:M27,BALANCE!M31,BALANCE!M32,BALANCE!M33,BALANCE!M34))),0,360/(S11/AVERAGE(BALANCE!M25:M27,BALANCE!M31,BALANCE!M32,BALANCE!M33,BALANCE!M34)))","v":0},null,{"$f":"IF(ISERROR(360/(U11/AVERAGE(BALANCE!N25:N27,BALANCE!N31,BALANCE!N32,BALANCE!N33,BALANCE!N34))),0,360/(U11/AVERAGE(BALANCE!N25:N27,BALANCE!N31,BALANCE!N32,BALANCE!N33,BALANCE!N34)))","v":0},null,{"$f":"(IF(ISERROR(360/(W11/AVERAGE(BALANCE!O25:O27,BALANCE!O31,BALANCE!O32,BALANCE!O33,BALANCE!O34))),0,360/(W11/AVERAGE(BALANCE!O25:O27,BALANCE!O31,BALANCE!O32,BALANCE!O33,BALANCE!O34))))","v":0},null,{"$f":"IF(ISERROR(360/(Y11/AVERAGE(BALANCE!P25:P27,BALANCE!P31,BALANCE!P32,BALANCE!P33,BALANCE!P34))),0,360/(Y11/AVERAGE(BALANCE!P25:P27,BALANCE!P31,BALANCE!P32,BALANCE!P33,BALANCE!P34)))","v":0},null,3.841636639840345]
[null,"Dias Inventario Autos Nuevos",{"$f":"IF(ISERROR(+DATOS1!E22/REPORTE!C45*(DATOS1!C61)),0,+DATOS1!E22/REPORTE!C45*(DATOS1!C61))","v":81.67307692307692},null,{"$f":"IF(ISERROR(+DATOS1!F22/REPORTE!E45*(DATOS1!D61)),0,+DATOS1!F22/REPORTE!E45*(DATOS1!D61))","v":0},null,{"$f":"IF(ISERROR(+DATOS1!G22/REPORTE!G45*(DATOS1!E61)),0,+DATOS1!G22/REPORTE!G45*(DATOS1!E61))","v":0},null,{"$f":"IF(ISERROR(+DATOS1!H22/REPORTE!I45*(DATOS1!F61)),0,+DATOS1!H22/REPORTE!I45*(DATOS1!F61))","v":0},null,{"$f":"IF(ISERROR(+DATOS1!I22/REPORTE!K45*(DATOS1!G61)),0,+DATOS1!I22/REPORTE!K45*(DATOS1!G61))","v":0},null,{"$f":"IF(ISERROR(+DATOS1!J22/REPORTE!M45*(DATOS1!H61)),0,+DATOS1!J22/REPORTE!M45*(DATOS1!H61))","v":0},null,{"$f":"(IF(ISERROR(+DATOS1!K22/REPORTE!O45*(DATOS1!I61)),0,+DATOS1!K22/REPORTE!O45*(DATOS1!I61)))","v":0},null,{"$f":"IF(ISERROR(+DATOS1!L22/REPORTE!Q45*(DATOS1!J61)),0,+DATOS1!L22/REPORTE!Q45*(DATOS1!J61))","v":0},null,{"$f":"IF(ISERROR(+DATOS1!M22/REPORTE!S45*(DATOS1!K61)),0,+DATOS1!M22/REPORTE!S45*(DATOS1!K61))","v":0},null,{"$f":"IF(ISERROR(+DATOS1!N22/REPORTE!U45*(DATOS1!L61)),0,+DATOS1!N22/REPORTE!U45*(DATOS1!L61))","v":0},null,{"$f":"IF(ISERROR(+DATOS1!O22/REPORTE!W45*(DATOS1!M61)),0,+DATOS1!O22/REPORTE!W45*(DATOS1!M61))","v":0},null,{"$f":"IF(ISERROR(+DATOS1!P22/REPORTE!Y45*(DATOS1!N61)),0,+DATOS1!P22/REPORTE!Y45*(DATOS1!N61))","v":0},null,6.8060897435897436]
[null,"Dias Inventario Refacciones",{"$f":"IF(ISERROR(360/(('ESTADO DE RESULTADOS1'!D23-'ESTADO DE RESULTADOS1'!D24)/(BALANCE!E47))),0,360/(('ESTADO DE RESULTADOS1'!D23-'ESTADO DE RESULTADOS1'!D24)/(BALANCE!E47)))","v":36.272950475991628},null,{"$f":"IF(ISERROR(360/(('ESTADO DE RESULTADOS1'!E23-'ESTADO DE RESULTADOS1'!E24)/(BALANCE!F47))),0,360/(('ESTADO DE RESULTADOS1'!E23-'ESTADO DE RESULTADOS1'!E24)/(BALANCE!F47)))","v":0},null,{"$f":"IF(ISERROR(360/(('ESTADO DE RESULTADOS1'!F23-'ESTADO DE RESULTADOS1'!F24)/(BALANCE!G47))),0,360/(('ESTADO DE RESULTADOS1'!F23-'ESTADO DE RESULTADOS1'!F24)/(BALANCE!G47)))","v":0},null,{"$f":"IF(ISERROR(360/(('ESTADO DE RESULTADOS1'!G23-'ESTADO DE RESULTADOS1'!G24)/(BALANCE!H47))),0,360/(('ESTADO DE RESULTADOS1'!G23-'ESTADO DE RESULTADOS1'!G24)/(BALANCE!H47)))","v":0},null,{"$f":"IF(ISERROR(360/(('ESTADO DE RESULTADOS1'!H23-'ESTADO DE RESULTADOS1'!H24)/(BALANCE!I47))),0,360/(('ESTADO DE RESULTADOS1'!H23-'ESTADO DE RESULTADOS1'!H24)/(BALANCE!I47)))","v":0},null,{"$f":"IF(ISERROR(360/(('ESTADO DE RESULTADOS1'!I23-'ESTADO DE RESULTADOS1'!I24)/(BALANCE!J47))),0,360/(('ESTADO DE RESULTADOS1'!I23-'ESTADO DE RESULTADOS1'!I24)/(BALANCE!J47)))","v":0},null,{"$f":"IF(ISERROR(360/(('ESTADO DE RESULTADOS1'!J23-'ESTADO DE RESULTADOS1'!J24)/(BALANCE!K47))),0,360/(('ESTADO DE RESULTADOS1'!J23-'ESTADO DE RESULTADOS1'!J24)/(BALANCE!K47)))","v":0},null,{"$f":"IF(ISERROR(360/(('ESTADO DE RESULTADOS1'!K23-'ESTADO DE RESULTADOS1'!K24)/(BALANCE!L47))),0,360/(('ESTADO DE RESULTADOS1'!K23-'ESTADO DE RESULTADOS1'!K24)/(BALANCE!L47)))","v":0},null,{"$f":"IF(ISERROR(360/(('ESTADO DE RESULTADOS1'!L23-'ESTADO DE RESULTADOS1'!L24)/(BALANCE!M47))),0,360/(('ESTADO DE RESULTADOS1'!L23-'ESTADO DE RESULTADOS1'!L24)/(BALANCE!M47)))","v":0},null,{"$f":"IF(ISERROR(360/(('ESTADO DE RESULTADOS1'!M23-'ESTADO DE RESULTADOS1'!M24)/(BALANCE!N47))),0,360/(('ESTADO DE RESULTADOS1'!M23-'ESTADO DE RESULTADOS1'!M24)/(BALANCE!N47)))","v":0},null,{"$f":"IF(ISERROR(360/(('ESTADO DE RESULTADOS1'!N23-'ESTADO DE RESULTADOS1'!N24)/(BALANCE!O47))),0,360/(('ESTADO DE RESULTADOS1'!N23-'ESTADO DE RESULTADOS1'!N24)/(BALANCE!O47)))","v":0},null,{"$f":"IF(ISERROR(360/(('ESTADO DE RESULTADOS1'!O23-'ESTADO DE RESULTADOS1'!O24)/(BALANCE!P47))),0,360/(('ESTADO DE RESULTADOS1'!O23-'ESTADO DE RESULTADOS1'!O24)/(BALANCE!P47)))","v":0},null,3.0227458729993022]
[]
[null,"RESULTADO POR DEPARTAMENTO"]
[null,"Resultado Bruto - Autos Nuevos",{"$f":"+'ESTADO DE RESULTADOS1'!D14","v":1279707.9999999963},null,{"$f":"+'ESTADO DE RESULTADOS1'!E14","v":0},null,{"$f":"+'ESTADO DE RESULTADOS1'!F14","v":0},null,{"$f":"+'ESTADO DE RESULTADOS1'!G14","v":0},null,{"$f":"+'ESTADO DE RESULTADOS1'!H14","v":0},null,{"$f":"+'ESTADO DE RESULTADOS1'!I14","v":0},null,{"$f":"+'ESTADO DE RESULTADOS1'!J14","v":0},null,{"$f":"+'ESTADO DE RESULTADOS1'!K14","v":0},null,{"$f":"+'ESTADO DE RESULTADOS1'!L14","v":0},null,{"$f":"+'ESTADO DE RESULTADOS1'!M14","v":0},null,{"$f":"+'ESTADO DE RESULTADOS1'!N14","v":0},null,{"$f":"+'ESTADO DE RESULTADOS1'!O14","v":0},null,{"$f":"AVERAGE(C90:Z90)","v":106642.33333333302}]
[null,"Resultado Bruto - Autos Usados",{"$f":"+'ESTADO DE RESULTADOS1'!D18","v":83826},null,{"$f":"+'ESTADO DE RESULTADOS1'!E18","v":0},null,{"$f":"+'ESTADO DE RESULTADOS1'!F18","v":0},null,{"$f":"+'ESTADO DE RESULTADOS1'!G18","v":0},null,{"$f":"+'ESTADO DE RESULTADOS1'!H18","v":0},null,{"$f":"+'ESTADO DE RESULTADOS1'!I18","v":0},null,{"$f":"+'ESTADO DE RESULTADOS1'!J18","v":0},null,{"$f":"+'ESTADO DE RESULTADOS1'!K18","v":0},null,{"$f":"+'ESTADO DE RESULTADOS1'!L18","v":0},null,{"$f":"+'ESTADO DE RESULTADOS1'!M18","v":0},null,{"$f":"+'ESTADO DE RESULTADOS1'!N18","v":0},null,{"$f":"+'ESTADO DE RESULTADOS1'!O18","v":0},null,{"$f":"AVERAGE(C91:Z91)","v":6985.5}]
[null,"Resultado Bruto - Servicio",{"$f":"+'ESTADO DE RESULTADOS1'!D20","v":431758.77},null,{"$f":"+'ESTADO DE RESULTADOS1'!E20","v":0},null,{"$f":"+'ESTADO DE RESULTADOS1'!F20","v":0},null,{"$f":"+'ESTADO DE RESULTADOS1'!G20","v":0},null,{"$f":"+'ESTADO DE RESULTADOS1'!H20","v":0},null,{"$f":"+'ESTADO DE RESULTADOS1'!I20","v":0},null,{"$f":"+'ESTADO DE RESULTADOS1'!J20","v":0},null,{"$f":"+'ESTADO DE RESULTADOS1'!K20","v":0},null,null,null,{"$f":"+'ESTADO DE RESULTADOS1'!M20","v":0},null,{"$f":"+'ESTADO DE RESULTADOS1'!N20","v":0},null,{"$f":"+'ESTADO DE RESULTADOS1'!O20","v":0},null,{"$f":"AVERAGE(C92:Z92)","v":39250.797272727272}]
[null,"Resultado Bruto - Hojalateria y Pintura",{"$f":"+'ESTADO DE RESULTADOS1'!D22","v":20678.12},null,{"$f":"+'ESTADO DE RESULTADOS1'!E22","v":0},null,{"$f":"+'ESTADO DE RESULTADOS1'!F22","v":0},null,{"$f":"+'ESTADO DE RESULTADOS1'!G22","v":0},null,{"$f":"+'ESTADO DE RESULTADOS1'!H22","v":0},null,{"$f":"+'ESTADO DE RESULTADOS1'!I22","v":0},null,{"$f":"+'ESTADO DE RESULTADOS1'!J22","v":0},null,{"$f":"+'ESTADO DE RESULTADOS1'!K22","v":0},null,{"$f":"+'ESTADO DE RESULTADOS1'!L22","v":0},null,{"$f":"+'ESTADO DE RESULTADOS1'!M22","v":0},null,{"$f":"+'ESTADO DE RESULTADOS1'!N22","v":0},null,{"$f":"+'ESTADO DE RESULTADOS1'!O22","v":0},null,{"$f":"AVERAGE(C93:Z93)","v":1723.1766666666665}]
[null,"Resultado Bruto - Refacciones",{"$f":"+'ESTADO DE RESULTADOS1'!D24","v":505358.3},null,{"$f":"+'ESTADO DE RESULTADOS1'!E24","v":0},null,{"$f":"+'ESTADO DE RESULTADOS1'!F24","v":0},null,{"$f":"+'ESTADO DE RESULTADOS1'!G24","v":0},null,{"$f":"+'ESTADO DE RESULTADOS1'!H24","v":0},null,{"$f":"+'ESTADO DE RESULTADOS1'!I24","v":0},null,{"$f":"+'ESTADO DE RESULTADOS1'!J24","v":0},null,{"$f":"+'ESTADO DE RESULTADOS1'!K24","v":0},null,{"$f":"+'ESTADO DE RESULTADOS1'!L24","v":0},null,{"$f":"+'ESTADO DE RESULTADOS1'!M24","v":0},null,{"$f":"+'ESTADO DE RESULTADOS1'!N24","v":0},null,{"$f":"+'ESTADO DE RESULTADOS1'!O24","v":0},null,{"$f":"AVERAGE(C94:Z94)","v":42113.191666666666}]

{"sheet":"HYP","index":17,"n_rows":72,"n_cols":28,"rows_kept":72,"cut":false,"hidden":false,"merged":[[19,1,20,1],[19,2,19,3],[19,4,19,5],[19,6,19,7],[8,2,8,3],[1,3,1,4],[1,5,1,6],[7,2,7,3],[7,4,7,5],[8,4,8,5],[8,6,8,7],[20,2,20,3],[8,8,8,9],[8,10,8,11],[8,12,8,13],[8,14,8,15],[7,6,7,7],[7,8,7,9],[7,10,7,11],[7,12,7,13],[7,14,7,15],[8,16,8,17],[8,18,8,19],[8,20,8,21],[8,22,8,23],[8,24,8,25],[8,26,8,27],[7,18,7,19],[7,20,7,21],[7,22,7,23],[7,24,7,25],[7,16,7,17],[21,2,21,3],[21,4,21,5],[21,6,21,7],[21,8,21,9],[21,10,21,11],[19,8,19,9],[19,10,19,11],[19,12,19,13],[22,14,22,15],[22,16,22,17],[21,12,21,13],[21,14,21,15],[21,16,21,17],[19,20,19,21],[19,22,19,23],[19,24,19,25],[19,26,19,27],[19,14,19,15],[19,16,19,17],[19,18,19,19],[21,24,21,25],[21,26,21,27],[21,18,21,19],[21,20,21,21],[21,22,21,23],[23,12,23,13],[23,14,23,15],[23,16,23,17],[22,18,22,19],[22,20,22,21],[22,22,22,23],[22,24,22,25],[22,26,22,27],[23,2,23,3],[23,4,23,5],[23,6,23,7],[23,8,23,9],[23,10,23,11],[23,24,23,25],[23,26,23,27],[23,18,23,19],[23,20,23,21],[23,22,23,23],[22,2,22,3],[22,4,22,5],[22,6,22,7],[22,8,22,9],[22,10,22,11],[22,12,22,13],[24,18,24,19],[24,20,24,21],[24,22,24,23],[24,24,24,25],[24,26,24,27],[25,2,25,3],[25,4,25,5],[25,6,25,7],[25,8,25,9],[25,10,25,11],[24,2,24,3],[24,4,24,5],[24,6,24,7],[24,8,24,9],[24,10,24,11],[24,12,24,13],[24,14,24,15],[24,16,24,17],[27,16,27,17],[27,18,27,19],[27,20,27,21],[27,22,27,23],[27,24,27,25],[27,26,27,27],[25,24,25,25],[25,26,25,27],[27,1,28,1],[27,2,27,3],[27,4,27,5],[27,6,27,7],[27,8,27,9],[27,10,27,11],[27,12,27,13],[27,14,27,15],[25,12,25,13],[25,14,25,15],[25,16,25,17],[25,18,25,19],[25,20,25,21],[25,22,25,23],[28,26,28,27],[28,14,28,15],[28,16,28,17],[28,18,28,19],[28,20,28,21],[28,22,28,23],[28,24,28,25],[28,2,28,3],[28,4,28,5],[28,6,28,7],[28,8,28,9],[28,10,28,11],[28,12,28,13],[29,26,29,27],[30,2,30,3],[30,4,30,5],[30,6,30,7],[30,8,30,9],[30,10,30,11],[30,12,30,13],[30,26,30,27],[30,14,30,15],[30,16,30,17],[30,18,30,19],[30,20,30,21],[30,22,30,23],[30,24,30,25],[29,2,29,3],[29,4,29,5],[29,6,29,7],[29,8,29,9],[29,10,29,11],[29,12,29,13],[29,14,29,15],[29,16,29,17],[29,18,29,19],[31,8,31,9],[31,10,31,11],[31,12,31,13],[31,14,31,15],[31,16,31,17],[31,18,31,19],[29,20,29,21],[29,22,29,23],[29,24,29,25],[33,12,33,13],[33,14,33,15],[33,16,33,17],[33,18,33,19],[31,20,31,21],[31,22,31,23],[31,24,31,25],[31,26,31,27],[32,2,32,3],[32,4,32,5],[32,6,32,7],[32,8,32,9],[32,10,32,11],[32,12,32,13],[32,26,32,27],[32,14,32,15],[32,16,32,17],[32,18,32,19],[32,20,32,21],[32,22,32,23],[32,24,32,25],[31,2,31,3],[31,4,31,5],[31,6,31,7],[36,16,36,17],[36,18,36,19],[33,20,33,21],[33,22,33,23],[33,24,33,25],[33,26,33,27],[35,2,35,3],[35,4,35,5],[35,6,35,7],[35,8,35,9],[35,10,35,11],[35,12,35,13],[35,26,35,27],[35,14,35,15],[35,16,35,17],[35,18,35,19],[35,20,35,21],[35,22,35,23],[35,24,35,25],[33,2,33,3],[33,4,33,5],[33,6,33,7],[33,8,33,9],[33,10,33,11],[36,20,36,21],[36,22,36,23],[36,24,36,25],[36,26,36,27],[37,2,37,3],[37,4,37,5],[37,6,37,7],[37,8,37,9],[37,10,37,11],[37,12,37,13],[37,26,37,27],[37,14,37,15],[37,16,37,17],[37,18,37,19],[37,20,37,21],[37,22,37,23],[37,24,37,25],[36,2,36,3],[36,4,36,5],[36,6,36,7],[36,8,36,9],[36,10,36,11],[36,12,36,13],[36,14,36,15],[38,26,38,27],[39,2,39,3],[39,4,39,5],[39,6,39,7],[39,8,39,9],[39,10,39,11],[39,12,39,13],[39,26,39,27],[39,14,39,15],[39,16,39,17],[39,18,39,19],[39,20,39,21],[39,22,39,23],[39,24,39,25],[38,2,38,3],[38,4,38,5],[38,6,38,7],[38,8,38,9],[38,10,38,11],[38,12,38,13],[38,14,38,15],[38,16,38,17],[38,18,38,19],[40,8,40,9],[40,10,40,11],[40,12,40,13],[40,14,40,15],[40,16,40,17],[40,18,40,19],[38,20,38,21],[38,22,38,23],[38,24,38,25],[42,12,42,13],[42,14,42,15],[42,16,42,17],[42,18,42,19],[40,20,40,21],[40,22,40,23],[40,24,40,25],[40,26,40,27],[41,2,41,3],[41,4,41,5],[41,6,41,7],[41,8,41,9],[41,10,41,11],[41,12,41,13],[41,26,41,27],[41,14,41,15],[41,16,41,17],[41,18,41,19],[41,20,41,21],[41,22,41,23],[41,24,41,25],[40,2,40,3],[40,4,40,5],[40,6,40,7],[44,16,44,17],[44,18,44,19],[42,20,42,21],[42,22,42,23],[42,24,42,25],[42,26,42,27],[43,2,43,3],[43,4,43,5],[43,6,43,7],[43,8,43,9],[43,10,43,11],[43,12,43,13],[43,26,43,27],[43,14,43,15],[43,16,43,17],[43,18,43,19],[43,20,43,21],[43,22,43,23],[43,24,43,25],[42,2,42,3],[42,4,42,5],[42,6,42,7],[42,8,42,9],[42,10,42,11],[44,20,44,21],[44,22,44,23],[44,24,44,25],[44,26,44,27],[45,2,45,3],[45,4,45,5],[45,6,45,7],[45,8,45,9],[45,10,45,11],[45,12,45,13],[45,26,45,27],[45,14,45,15],[45,16,45,17],[45,18,45,19],[45,20,45,21],[45,22,45,23],[45,24,45,25],[44,2,44,3],[44,4,44,5],[44,6,44,7],[44,8,44,9],[44,10,44,11],[44,12,44,13],[44,14,44,15],[46,26,46,27],[47,2,47,3],[47,4,47,5],[47,6,47,7],[47,8,47,9],[47,10,47,11],[47,12,47,13],[47,26,47,27],[47,14,47,15],[47,16,47,17],[47,18,47,19],[47,20,47,21],[47,22,47,23],[47,24,47,25],[46,2,46,3],[46,4,46,5],[46,6,46,7],[46,8,46,9],[46,10,46,11],[46,12,46,13],[46,14,46,15],[46,16,46,17],[46,18,46,19],[48,8,48,9],[48,10,48,11],[48,12,48,13],[48,14,48,15],[48,16,48,17],[48,18,48,19],[46,20,46,21],[46,22,46,23],[46,24,46,25],[50,12,50,13],[50,14,50,15],[50,16,50,17],[50,18,50,19],[48,20,48,21],[48,22,48,23],[48,24,48,25],[48,26,48,27],[49,2,49,3],[49,4,49,5],[49,6,49,7],[49,8,49,9],[49,10,49,11],[49,12,49,13],[49,26,49,27],[49,14,49,15],[49,16,49,17],[49,18,49,19],[49,20,49,21],[49,22,49,23],[49,24,49,25],[48,2,48,3],[48,4,48,5],[48,6,48,7],[52,16,52,17],[52,18,52,19],[50,20,50,21],[50,22,50,23],[50,24,50,25],[50,26,50,27],[51,2,51,3],[51,4,51,5],[51,6,51,7],[51,8,51,9],[51,10,51,11],[51,12,51,13],[51,26,51,27],[51,14,51,15],[51,16,51,17],[51,18,51,19],[51,20,51,21],[51,22,51,23],[51,24,51,25],[50,2,50,3],[50,4,50,5],[50,6,50,7],[50,8,50,9],[50,10,50,11],[52,20,52,21],[52,22,52,23],[52,24,52,25],[52,26,52,27],[53,2,53,3],[53,4,53,5],[53,6,53,7],[53,8,53,9],[53,10,53,11],[53,12,53,13],[53,26,53,27],[53,14,53,15],[53,16,53,17],[53,18,53,19],[53,20,53,21],[53,22,53,23],[53,24,53,25],[52,2,52,3],[52,4,52,5],[52,6,52,7],[52,8,52,9],[52,10,52,11],[52,12,52,13],[52,14,52,15],[54,26,54,27],[55,2,55,3],[55,4,55,5],[55,6,55,7],[55,8,55,9],[55,10,55,11],[55,12,55,13],[55,26,55,27],[55,14,55,15],[55,16,55,17],[55,18,55,19],[55,20,55,21],[55,22,55,23],[55,24,55,25],[54,2,54,3],[54,4,54,5],[54,6,54,7],[54,8,54,9],[54,10,54,11],[54,12,54,13],[54,14,54,15],[54,16,54,17],[54,18,54,19],[56,8,56,9],[56,10,56,11],[56,12,56,13],[56,14,56,15],[56,16,56,17],[56,18,56,19],[54,20,54,21],[54,22,54,23],[54,24,54,25],[58,12,58,13],[58,14,58,15],[58,16,58,17],[58,18,58,19],[56,20,56,21],[56,22,56,23],[56,24,56,25],[56,26,56,27],[57,2,57,3],[57,4,57,5],[57,6,57,7],[57,8,57,9],[57,10,57,11],[57,12,57,13],[57,26,57,27],[57,14,57,15],[57,16,57,17],[57,18,57,19],[57,20,57,21],[57,22,57,23],[57,24,57,25],[56,2,56,3],[56,4,56,5],[56,6,56,7],[63,16,63,17],[63,18,63,19],[58,20,58,21],[58,22,58,23],[58,24,58,25],[58,26,58,27],[62,2,62,3],[62,4,62,5],[62,6,62,7],[62,8,62,9],[62,10,62,11],[62,12,62,13],[62,26,62,27],[62,14,62,15],[62,16,62,17],[62,18,62,19],[62,20,62,21],[62,22,62,23],[62,24,62,25],[58,2,58,3],[58,4,58,5],[58,6,58,7],[58,8,58,9],[58,10,58,11],[63,20,63,21],[63,22,63,23],[63,24,63,25],[63,26,63,27],[64,2,64,3],[64,4,64,5],[64,6,64,7],[64,8,64,9],[64,10,64,11],[64,12,64,13],[64,26,64,27],[64,14,64,15],[64,16,64,17],[64,18,64,19],[64,20,64,21],[64,22,64,23],[64,24,64,25],[63,2,63,3],[63,4,63,5],[63,6,63,7],[63,8,63,9],[63,10,63,11],[63,12,63,13],[63,14,63,15],[65,20,65,21],[65,22,65,23],[65,24,65,25],[65,26,65,27],[69,2,69,3],[69,4,69,5],[69,6,69,7],[69,8,69,9],[69,10,69,11],[69,12,69,13],[65,2,65,3],[65,4,65,5],[65,6,65,7],[65,8,65,9],[65,10,65,11],[65,12,65,13],[65,14,65,15],[65,16,65,17],[65,18,65,19],[71,2,71,3],[71,4,71,5],[71,6,71,7],[71,8,71,9],[71,10,71,11],[71,12,71,13],[69,26,69,27],[70,2,70,3],[70,4,70,5],[70,6,70,7],[70,8,70,9],[70,10,70,11],[70,12,70,13],[70,14,70,15],[70,16,70,17],[70,18,70,19],[69,14,69,15],[69,16,69,17],[69,18,69,19],[69,20,69,21],[69,22,69,23],[69,24,69,25],[71,26,71,27],[71,14,71,15],[71,16,71,17],[71,18,71,19],[71,20,71,21],[71,22,71,23],[71,24,71,25],[70,20,70,21],[70,22,70,23],[70,24,70,25],[70,26,70,27]]}
[]
[null,"HOJALATERIA",null,"# De Dealer",null,{"$f":"DATOS1!C9","v":57040}]
[null,"PINTURA"]
[]
[]
[]
[]
[null,null,"Ene",null,"Feb",null,"Mar",null,"Abr",null,"May",null,"Jun",null,"Jul",null,"Ago",null,"Sep",null,"Oct",null,"Nov",null,"Dic"]
[null,null,{"$f":"DATOS1!$Q$10","v":2015},null,{"$f":"DATOS1!$Q$10","v":2015},null,{"$f":"DATOS1!$Q$10","v":2015},null,{"$f":"DATOS1!$Q$10","v":2015},null,{"$f":"DATOS1!$Q$10","v":2015},null,{"$f":"DATOS1!$Q$10","v":2015},null,{"$f":"DATOS1!$Q$10","v":2015},null,{"$f":"DATOS1!$Q$10","v":2015},null,{"$f":"DATOS1!$Q$10","v":2015},null,{"$f":"DATOS1!$Q$10","v":2015},null,{"$f":"DATOS1!$Q$10","v":2015},null,{"$f":"DATOS1!$Q$10","v":2015},null,"ACUMULADO"]
[null,null,"# de Ordenes","Monto","# de Ordenes","Monto","# de Ordenes","Monto","# de Ordenes","Monto","# de Ordenes","Monto","# de Ordenes","Monto","# de Ordenes","Monto","# de Ordenes","Monto","# de Ordenes","Monto","# de Ordenes","Monto","# de Ordenes","Monto","# de Ordenes","Monto","# de Ordenes","Monto"]
[null,"HOJALATERIA Y PINTURA"]
["HYP201","Mano de Obra - Hojalatería y Pintura - Cliente",null,null,null,null,null,null,null,null,null,null,null,null,null,null,null,null,null,null,null,null,null,null,null,null,{"$f":"+Y12+W12+U12+S12+Q12+O12+M12+K12+I12+G12+E12+C12","v":0},{"$f":"+Z12+X12+V12+T12+R12+P12+N12+L12+J12+H12+D12+F12","v":0}]
["HYP202","Mano de Obra - Hojalatería y Pintura - Seguros",null,null,null,null,null,null,null,null,null,null,null,null,null,null,null,null,null,null,null,null,null,null,null,null,{"$f":"+Y13+W13+U13+S13+Q13+O13+M13+K13+I13+G13+E13+C13","v":0},{"$f":"+Z13+X13+V13+T13+R13+P13+N13+L13+J13+H13+D13+F13","v":0}]
["HYP203","Mano de Obra - Hojalatería y Pintura - Garantía Toyota",null,null,null,null,null,null,null,null,null,null,null,null,null,null,null,null,null,null,null,null,null,null,null,null,{"$f":"+Y14+W14+U14+S14+Q14+O14+M14+K14+I14+G14+E14+C14","v":0},{"$f":"+Z14+X14+V14+T14+R14+P14+N14+L14+J14+H14+D14+F14","v":0}]
["HYP204","Mano de Obra - Hojalatería y Pintura - Interna ",null,null,null,null,null,null,null,null,null,null,null,null,null,null,null,null,null,null,null,null,null,null,null,null,{"$f":"+Y15+W15+U15+S15+Q15+O15+M15+K15+I15+G15+E15+C15","v":0},{"$f":"+Z15+X15+V15+T15+R15+P15+N15+L15+J15+H15+D15+F15","v":0}]
[null,"CPUS: Unidades atendidas pagadas por el cliente",{"$f":"C12+C13","v":0},{"$f":"D12+D13","v":0},{"$f":"E12+E13","v":0},{"$f":"F12+F13","v":0},0,0,0,0,0,0,0,0,0,0,0,0,0,0,0,0,0,0,0,0,{"$f":"AA12+AA13","v":0},{"$f":"AB12+AB13","v":0}]
[null,"TUS: Total de Unidades atendidas",{"$f":"SUM(C12:C15)","v":0},0,0,0,0,0,0,0,0,0,0,0,0,0,0,0,0,0,0,0,0,0,0,0,0,0]
[null,"TOTAL SERVICIO",{"$f":"SUM(C12:C15)","v":0},0,0,0,0,0,0,0,0,0,0,0,0,0,0,0,0,0,0,0,0,0,0,0,0,0]
[]
[null,"HYP - HORAS","Horas",null,"Horas",null,"Horas",null,"Horas",null,"Horas",null,"Horas",null,"Horas",null,"Horas",null,"Horas",null,"Horas",null,"Horas",null,"Horas",null,"Total   Horas"]
[]
["HYP301","Horas de Mano de Obra - Hojalatería Seguros",null,null,null,null,null,null,null,null,null,null,null,null,null,null,null,null,null,null,null,null,null,null,null,null,{"$f":"SUM(C22:Z22)","v":0}]
["HYP302","Horas de Mano de Obra - Hojalatería ",null,null,null,null,null,null,null,null,null,null,null,null,null,null,null,null,null,null,null,null,null,null,null,null,{"$f":"SUM(C23:Z23)","v":0}]
["HYP303","Horas de Mano de Obra - Pintura Seguros",null,null,null,null,null,null,null,null,null,null,null,null,null,null,null,null,null,null,null,null,null,null,null,null,{"$f":"SUM(C24:Z24)","v":0}]
["HYP304","Horas de Mano de Obra - Pintura",null,null,null,null,null,null,null,null,null,null,null,null,null,null,null,null,null,null,null,null,null,null,null,null,{"$f":"SUM(C25:Z25)","v":0}]
[null,"TOTAL HORAS DE HYP",{"$f":"SUM(C22:D25)","v":0},null,{"$f":"SUM(E22:F25)","v":0},null,{"$f":"SUM(G22:H25)","v":0},null,{"$f":"SUM(I22:J25)","v":0},null,{"$f":"SUM(K22:L25)","v":0},null,{"$f":"SUM(M22:N25)","v":0},null,{"$f":"SUM(O22:P25)","v":0},null,{"$f":"SUM(Q22:R25)","v":0},null,{"$f":"SUM(S22:T25)","v":0},null,{"$f":"SUM(U22:V25)","v":0},null,{"$f":"SUM(W22:X25)","v":0},null,{"$f":"SUM(Y22:Z25)","v":0},null,{"$f":"SUM(AA22:AB25)","v":0}]
[]
[null,"HYP- ESPACIOS PRODUCTIVOS","Unidades",null,"Unidades",null,"Unidades",null,"Unidades",null,"Unidades",null,"Unidades",null,"Unidades",null,"Unidades",null,"Unidades",null,"Unidades",null,"Unidades",null,"Unidades",null,"Unidades"]
[]
["HYP401","Bahías de Hojalatería",null,null,null,null,null,null,null,null,null,null,null,null,null,null,null,null,null,null,null,null,null,null,null,null,{"$f":"Y30","v":0}]
["HYP402","Bahías de Pintura",null,null,null,null,null,null,null,null,null,null,null,null,null,null,null,null,null,null,null,null,null,null,null,null,{"$f":"Y31","v":0}]
["HYP403","Bahías de Hojalatería fuera del Concesionario",null,null,null,null,null,null,null,null,null,null,null,null,null,null,null,null,null,null,null,null,null,null,null,null,{"$f":"Y32","v":0}]
["HYP404","Bahías de Pintura fuera del Concesionario",null,null,null,null,null,null,null,null,null,null,null,null,null,null,null,null,null,null,null,null,null,null,null,null,{"$f":"Y33","v":0}]
[null,"TOTAL DE ESPACIOS PRODUCTIVOS",{"$f":"SUM(C30:D33)","v":0},null,{"$f":"SUM(E30:F33)","v":0},null,{"$f":"SUM(G30:H33)","v":0},null,{"$f":"SUM(I30:J33)","v":0},null,{"$f":"SUM(K30:L33)","v":0},null,{"$f":"SUM(M30:N33)","v":0},null,{"$f":"SUM(O30:P33)","v":0},null,{"$f":"SUM(Q30:R33)","v":0},null,{"$f":"SUM(S30:T33)","v":0},null,{"$f":"SUM(U30:V33)","v":0},null,{"$f":"SUM(W30:X33)","v":0},null,{"$f":"SUM(Y30:Z33)","v":0},null,{"$f":"Y34","v":0}]
[]
[null,"Personal de Servicio","No. de Personas",null,"No. de Personas",null,"No. de Personas",null,"No. de Personas",null,"No. de Personas",null,"No. de Personas",null,"No. de Personas",null,"No. de Personas",null,"No. de Personas",null,"No. de Personas",null,"No. de Personas",null,"No. de Personas",null,"Total  Número de Personas"]
[null,"HYP - TÉCNICOS"]
["HYP501","Hojalateros (Sujetos de Capacitación Técnica)",null,null,null,null,null,null,null,null,null,null,null,null,null,null,null,null,null,null,null,null,null,null,null,null,{"$f":"Y38","v":0}]
["HYP502","Pintores (Sujetos de Capacitación Técnica)",null,null,null,null,null,null,null,null,null,null,null,null,null,null,null,null,null,null,null,null,null,null,null,null,{"$f":"Y39","v":0}]
["HYP503","Ayudantes",null,null,null,null,null,null,null,null,null,null,null,null,null,null,null,null,null,null,null,null,null,null,null,null,{"$f":"Y40","v":0}]
["HYP504","Valuadores  (Sujetos de Capacitación Técnica)",null,null,null,null,null,null,null,null,null,null,null,null,null,null,null,null,null,null,null,null,null,null,null,null,{"$f":"Y41","v":0}]
["HYP505","# Número de técnicos reemplazados",null,null,null,null,null,null,null,null,null,null,null,null,null,null,null,null,null,null,null,null,null,null,null,null,{"$f":"Y42","v":0}]
[null,"Rotación de Técnicos (Sujetos de Capacitación Técnica)",{"$f":"IF(ISERROR($C$42/($C$38+$C$39)),0,$C$42/($C$38+$C$39))","v":0},null,{"$f":"IF(ISERROR($C$42/($C$38+$C$39)),0,$C$42/($C$38+$C$39))","v":0},null,{"$f":"IF(ISERROR($C$42/($C$38+$C$39)),0,$C$42/($C$38+$C$39))","v":0},null,{"$f":"IF(ISERROR($C$42/($C$38+$C$39)),0,$C$42/($C$38+$C$39))","v":0},null,{"$f":"IF(ISERROR($C$42/($C$38+$C$39)),0,$C$42/($C$38+$C$39))","v":0},null,{"$f":"IF(ISERROR($C$42/($C$38+$C$39)),0,$C$42/($C$38+$C$39))","v":0},null,{"$f":"IF(ISERROR($C$42/($C$38+$C$39)),0,$C$42/($C$38+$C$39))","v":0},null,{"$f":"IF(ISERROR($C$42/($C$38+$C$39)),0,$C$42/($C$38+$C$39))","v":0},null,{"$f":"IF(ISERROR($C$42/($C$38+$C$39)),0,$C$42/($C$38+$C$39))","v":0},null,{"$f":"IF(ISERROR($C$42/($C$38+$C$39)),0,$C$42/($C$38+$C$39))","v":0},null,{"$f":"IF(ISERROR($C$42/($C$38+$C$39)),0,$C$42/($C$38+$C$39))","v":0},null,{"$f":"IF(ISERROR($C$42/($C$38+$C$39)),0,$C$42/($C$38+$C$39))","v":0},null,{"$f":"AVERAGE(C43:Z43)","v":0}]
[null,"TOTAL DE TÉCNICOS",{"$f":"SUM(C38:D40)","v":0},null,{"$f":"SUM(E38:F40)","v":0},null,{"$f":"SUM(G38:H40)","v":0},null,{"$f":"SUM(I38:J40)","v":0},null,{"$f":"SUM(K38:L40)","v":0},null,{"$f":"SUM(M38:N40)","v":0},null,{"$f":"SUM(O38:P40)","v":0},null,{"$f":"SUM(Q38:R40)","v":0},null,{"$f":"SUM(S38:T40)","v":0},null,{"$f":"SUM(U38:V40)","v":0},null,{"$f":"SUM(W38:X40)","v":0},null,{"$f":"SUM(Y38:Z40)","v":0},null,{"$f":"SUM(AA38:AB40)","v":0}]
[null,"HYP - TÉCNICOS CERTIFICADOS"]
["HYP601","Nivel Técnico Hojalatero",null,null,null,null,null,null,null,null,null,null,null,null,null,null,null,null,null,null,null,null,null,null,null,null,{"$f":"Y46","v":0}]
["HYP602","Nivel Técnico Pro Hojalaero",null,null,null,null,null,null,null,null,null,null,null,null,null,null,null,null,null,null,null,null,null,null,null,null,0]
["HYP603","Nivel Técnico Maestro Hojalatero",null,null,null,null,null,null,null,null,null,null,null,null,null,null,null,null,null,null,null,null,null,null,null,null,0]
["HYP604","Nivel Técnico Pintor",null,null,null,null,null,null,null,null,null,null,null,null,null,null,null,null,null,null,null,null,null,null,null,null,0]
["HYP605","Nivel Técnico Pro Pintor",null,null,null,null,null,null,null,null,null,null,null,null,null,null,null,null,null,null,null,null,null,null,null,null,{"$f":"Y50","v":0}]
["HYP606","Nivel Técnico Maestro Pintor",null,null,null,null,null,null,null,null,null,null,null,null,null,null,null,null,null,null,null,null,null,null,null,null,{"$f":"Y51","v":0}]
["HYP607","Nivel Técnico Valuador",null,null,null,null,null,null,null,null,null,null,null,null,null,null,null,null,null,null,null,null,null,null,null,null,0]
["HYP608","Nivel Técnico Pro Valuador",null,null,null,null,null,null,null,null,null,null,null,null,null,null,null,null,null,null,null,null,null,null,null,null,{"$f":"Y53","v":0}]
["HYP609","Nivel Técnico Maestro Valuador",null,null,null,null,null,null,null,null,null,null,null,null,null,null,null,null,null,null,null,null,null,null,null,null,0]
[null,"TOTAL DE TÉCNICOS CERTIFICADOS",{"$f":"SUM(C46:D54)","v":0},null,{"$f":"SUM(E46:F54)","v":0},null,{"$f":"SUM(G46:H54)","v":0},null,{"$f":"SUM(I46:J54)","v":0},null,{"$f":"SUM(K46:L54)","v":0},null,{"$f":"SUM(M46:N54)","v":0},null,{"$f":"SUM(O46:P54)","v":0},null,{"$f":"SUM(Q46:R54)","v":0},null,{"$f":"SUM(S46:T54)","v":0},null,{"$f":"SUM(U46:V54)","v":0},null,{"$f":"SUM(W46:X54)","v":0},null,{"$f":"SUM(Y46:Z54)","v":0},null,{"$f":"SUM(AA49:AB54)","v":0}]
[null,"HYP - ASESORES DE B&P"]
["HYP701","No certificados en TSA21",3,null,3,null,3,null,3,null,3,null,null,null,null,null,null,null,null,null,null,null,null,null,null,null,{"$f":"Y57","v":0}]
["HYP702","Certificados en TSA21",0,null,0,null,0,null,0,null,0,null,null,null,null,null,null,null,null,null,null,null,null,null,null,null,{"$f":"Y58","v":0}]
[null,"TOTAL DE ASESORES HYP",{"$f":"SUM(C57:D58)","v":3},null,{"$f":"SUM(E57:F58)","v":3},null,{"$f":"SUM(G57:H58)","v":3},null,{"$f":"SUM(I57:J58)","v":3},null,{"$f":"SUM(K57:L58)","v":3},null,{"$f":"SUM(M57:N58)","v":0},null,{"$f":"SUM(O57:P58)","v":0},null,{"$f":"SUM(Q57:R58)","v":0},null,{"$f":"SUM(S57:T58)","v":0},null,{"$f":"SUM(U57:V58)","v":0},null,{"$f":"SUM(W57:X58)","v":0},null,{"$f":"SUM(Y57:Z58)","v":0},null,{"$f":"SUM(AA57:AB58)","v":0}]
[]
[null,"Medición TUS HYP"]
[]
["HYP801","TUS/ Espacio Productivo (Promedio Por Dia)",{"$f":"IF(ISERROR(($C$17/$C$34)/25),0,($C$17/$C34)/25)","v":0},null,{"$f":"IF(ISERROR(($C$17/$C$34)/25),0,($C$17/$C34)/25)","v":0},null,{"$f":"IF(ISERROR(($C$17/$C$34)/25),0,($C$17/$C34)/25)","v":0},null,{"$f":"IF(ISERROR(($C$17/$C$34)/25),0,($C$17/$C34)/25)","v":0},null,{"$f":"IF(ISERROR(($C$17/$C$34)/25),0,($C$17/$C34)/25)","v":0},null,{"$f":"IF(ISERROR(($C$17/$C$34)/25),0,($C$17/$C34)/25)","v":0},null,{"$f":"IF(ISERROR(($C$17/$C$34)/25),0,($C$17/$C34)/25)","v":0},null,{"$f":"IF(ISERROR(($C$17/$C$34)/25),0,($C$17/$C34)/25)","v":0},null,{"$f":"IF(ISERROR(($C$17/$C$34)/25),0,($C$17/$C34)/25)","v":0},null,{"$f":"IF(ISERROR(($C$17/$C$34)/25),0,($C$17/$C34)/25)","v":0},null,{"$f":"IF(ISERROR(($C$17/$C$34)/25),0,($C$17/$C34)/25)","v":0},null,{"$f":"IF(ISERROR(($C$17/$C$34)/25),0,($C$17/$C34)/25)","v":0},null,{"$f":"IF(ISERROR(($C$17/$C$34)/25),0,($C$17/$C34)/25)","v":0}]
["HYP802","TUS/ Técnico (Promedio Por Dia)",{"$f":"IF(ISERROR(($C$17/$C$44)/25),0,($C$17/$C44)/25)","v":0},null,{"$f":"IF(ISERROR(($C$17/$C$44)/25),0,($C$17/$C44)/25)","v":0},null,{"$f":"IF(ISERROR(($C$17/$C$44)/25),0,($C$17/$C44)/25)","v":0},null,{"$f":"IF(ISERROR(($C$17/$C$44)/25),0,($C$17/$C44)/25)","v":0},null,{"$f":"IF(ISERROR(($C$17/$C$44)/25),0,($C$17/$C44)/25)","v":0},null,{"$f":"IF(ISERROR(($C$17/$C$44)/25),0,($C$17/$C44)/25)","v":0},null,{"$f":"IF(ISERROR(($C$17/$C$44)/25),0,($C$17/$C44)/25)","v":0},null,{"$f":"IF(ISERROR(($C$17/$C$44)/25),0,($C$17/$C44)/25)","v":0},null,{"$f":"IF(ISERROR(($C$17/$C$44)/25),0,($C$17/$C44)/25)","v":0},null,{"$f":"IF(ISERROR(($C$17/$C$44)/25),0,($C$17/$C44)/25)","v":0},null,{"$f":"IF(ISERROR(($C$17/$C$44)/25),0,($C$17/$C44)/25)","v":0},null,{"$f":"IF(ISERROR(($C$17/$C$44)/25),0,($C$17/$C44)/25)","v":0},null,{"$f":"IF(ISERROR(($C$17/$C$44)/25),0,($C$17/$C44)/25)","v":0}]
["HYP803","TUS/ Asesor (Promedio Por Dia)",{"$f":"IF(ISERROR(($C$17/$C$59)/25),0,($C$17/$C59)/25)","v":0},null,{"$f":"IF(ISERROR(($C$17/$C$59)/25),0,($C$17/$C59)/25)","v":0},null,{"$f":"IF(ISERROR(($C$17/$C$59)/25),0,($C$17/$C59)/25)","v":0},null,{"$f":"IF(ISERROR(($C$17/$C$59)/25),0,($C$17/$C59)/25)","v":0},null,{"$f":"IF(ISERROR(($C$17/$C$59)/25),0,($C$17/$C59)/25)","v":0},null,{"$f":"IF(ISERROR(($C$17/$C$59)/25),0,($C$17/$C59)/25)","v":0},null,{"$f":"IF(ISERROR(($C$17/$C$59)/25),0,($C$17/$C59)/25)","v":0},null,{"$f":"IF(ISERROR(($C$17/$C$59)/25),0,($C$17/$C59)/25)","v":0},null,{"$f":"IF(ISERROR(($C$17/$C$59)/25),0,($C$17/$C59)/25)","v":0},null,{"$f":"IF(ISERROR(($C$17/$C$59)/25),0,($C$17/$C59)/25)","v":0},null,{"$f":"IF(ISERROR(($C$17/$C$59)/25),0,($C$17/$C59)/25)","v":0},null,{"$f":"IF(ISERROR(($C$17/$C$59)/25),0,($C$17/$C59)/25)","v":0},null,{"$f":"IF(ISERROR(($C$17/$C$59)/25),0,($C$17/$C59)/25)","v":0}]
["HYP804","Tasa de Entrega a Tiempo",null,null,null,null,null,null,null,null,null,null,null,null,null,null,null,null,null,null,null,null,null,null,null,null,{"$f":"AVERAGE(C66:Z66)","v":{"$error":"#DIV/0!"}}]
[]
[null,"Materiales"]
[]
["HYP901","Costo de Materiales de Hojalatería",null,null,null,null,null,null,null,null,null,null,null,null,null,null,null,null,null,null,null,null,null,null,null,null,{"$f":"SUM(C70:Z70)","v":0}]
["HYP902","Costo de Materiales de Pintura",null,null,null,null,null,null,null,null,null,null,null,null,null,null,null,null,null,null,null,null,null,null,null,null,{"$f":"SUM(C71:Z71)","v":0}]
["HYP903","Costo de Consumibles",null,null,null,null,null,null,null,null,null,null,null,null,null,null,null,null,null,null,null,null,null,null,null,null,{"$f":"SUM(C72:Z72)","v":0}]

{"sheet":"POLÍTICAS FINANCIERAS","index":18,"n_rows":60,"n_cols":13,"rows_kept":60,"cut":false,"hidden":false,"merged":[[0,9,0,12],[31,1,31,2],[41,1,41,2]]}
["Código de Distribuidor",{"$f":"DATOS1!C9","v":57040},null,null,null,null,null,null,null,"REPORTE EXCLUSIVAMENTE DE CARÁCTER INFORMATIVO"]
["Distribuidor",{"$f":"DATOS1!C10","v":"TOYOTA CELAYA"}]
["Políticas Financieras de Desarrollo de Mercados"]
[]
[null,"Enero","Febrero","Marzo","Abril","Mayo","Junio","Julio","Agosto","Septiembre","Octubre","Noviembre","Diciembre"]
[null,{"$f":"DATOS1!$Q$10","v":2015},{"$f":"DATOS1!$Q$10","v":2015},{"$f":"DATOS1!$Q$10","v":2015},{"$f":"DATOS1!$Q$10","v":2015},{"$f":"DATOS1!$Q$10","v":2015},{"$f":"DATOS1!$Q$10","v":2015},{"$f":"DATOS1!$Q$10","v":2015},{"$f":"DATOS1!$Q$10","v":2015},{"$f":"DATOS1!$Q$10","v":2015},{"$f":"DATOS1!$Q$10","v":2015},{"$f":"DATOS1!$Q$10","v":2015},{"$f":"DATOS1!$Q$10","v":2015}]
[]
["1) DEUDA A CAPITAL"]
["Resultado  para cumplimiento: = ó > a 1"]
[]
["Deuda Contraída",{"$f":"BALANCE!E94+BALANCE!E107+BALANCE!E124+BALANCE!E125+BALANCE!E126+BALANCE!E127+BALANCE!E128","v":10956094.720000001},{"$f":"BALANCE!F94+BALANCE!F107+BALANCE!F124+BALANCE!F125+BALANCE!F126+BALANCE!F127+BALANCE!F128","v":0},{"$f":"BALANCE!G94+BALANCE!G107+BALANCE!G124+BALANCE!G125+BALANCE!G126+BALANCE!G127+BALANCE!G128","v":0},{"$f":"BALANCE!H94+BALANCE!H107+BALANCE!H124+BALANCE!H125+BALANCE!H126+BALANCE!H127+BALANCE!H128","v":0},{"$f":"BALANCE!I94+BALANCE!I107+BALANCE!I124+BALANCE!I125+BALANCE!I126+BALANCE!I127+BALANCE!I128","v":0},{"$f":"BALANCE!J94+BALANCE!J107+BALANCE!J124+BALANCE!J125+BALANCE!J126+BALANCE!J127+BALANCE!J128","v":0},{"$f":"BALANCE!K94+BALANCE!K107+BALANCE!K124+BALANCE!K125+BALANCE!K126+BALANCE!K127+BALANCE!K128","v":0},{"$f":"BALANCE!L94+BALANCE!L107+BALANCE!L124+BALANCE!L125+BALANCE!L126+BALANCE!L127+BALANCE!L128","v":0},{"$f":"BALANCE!M94+BALANCE!M107+BALANCE!M124+BALANCE!M125+BALANCE!M126+BALANCE!M127+BALANCE!M128","v":0},{"$f":"BALANCE!N94+BALANCE!N107+BALANCE!N124+BALANCE!N125+BALANCE!N126+BALANCE!N127+BALANCE!N128","v":0},{"$f":"BALANCE!O94+BALANCE!O107+BALANCE!O124+BALANCE!O125+BALANCE!O126+BALANCE!O127+BALANCE!O128","v":0},{"$f":"BALANCE!P94+BALANCE!P107+BALANCE!P124+BALANCE!P125+BALANCE!P126+BALANCE!P127+BALANCE!P128","v":0}]
[]
["Total de Capital",{"$f":"BALANCE!E140","v":36604482.858999997},{"$f":"BALANCE!F140","v":0},{"$f":"BALANCE!G140","v":0},{"$f":"BALANCE!H140","v":0},{"$f":"BALANCE!I140","v":0},{"$f":"BALANCE!J140","v":0},{"$f":"BALANCE!K140","v":0},{"$f":"BALANCE!L140","v":0},{"$f":"BALANCE!M140","v":0},{"$f":"BALANCE!N140","v":0},{"$f":"BALANCE!O140","v":0},{"$f":"BALANCE!P140","v":0}]
[]
["Razón Deuda a Capital",{"$f":"IF(AND(B13>0,B11=0),1,IF(AND(B13>0,B11>0),B13/B11,\" \"))","v":3.3410155529396515},{"$f":"IF(AND(C13>0,C11=0),1,IF(AND(C13>0,C11>0),C13/C11,\" \"))","v":" "}," "," "," "," "," "," "," "," "," "," "]
[]
["Cumplimiento",{"$f":"IF(AND(B15<=1,B15>0),\"Cumple\", \"No Cumple\")","v":"No Cumple"},{"$f":"IF(AND(C15<=1,C15>0),\"Cumple\", \"No Cumple\")","v":"No Cumple"},"No Cumple","No Cumple","No Cumple","No Cumple","No Cumple","No Cumple","No Cumple","No Cumple","No Cumple","No Cumple"]
[]
["2) RANGO DE COBERTURA FIJA"]
["Resultado  para cumplimiento: > ó = a 1"]
[]
["EBITDA",{"$f":"('ESTADO DE RESULTADOS1'!D165+'ESTADO DE RESULTADOS1'!D137+'ESTADO DE RESULTADOS1'!D147+'ESTADO DE RESULTADOS1'!D151)","v":1508704.2489999968},{"$f":"('ESTADO DE RESULTADOS1'!E165+'ESTADO DE RESULTADOS1'!E137+'ESTADO DE RESULTADOS1'!E147+'ESTADO DE RESULTADOS1'!E151)","v":0},{"$f":"('ESTADO DE RESULTADOS1'!F165+'ESTADO DE RESULTADOS1'!F137+'ESTADO DE RESULTADOS1'!F147+'ESTADO DE RESULTADOS1'!F151)","v":0},{"$f":"('ESTADO DE RESULTADOS1'!G165+'ESTADO DE RESULTADOS1'!G137+'ESTADO DE RESULTADOS1'!G147+'ESTADO DE RESULTADOS1'!G151)","v":0},{"$f":"('ESTADO DE RESULTADOS1'!H165+'ESTADO DE RESULTADOS1'!H137+'ESTADO DE RESULTADOS1'!H147+'ESTADO DE RESULTADOS1'!H151)","v":0},{"$f":"('ESTADO DE RESULTADOS1'!I165+'ESTADO DE RESULTADOS1'!I137+'ESTADO DE RESULTADOS1'!I147+'ESTADO DE RESULTADOS1'!I151)","v":0},{"$f":"('ESTADO DE RESULTADOS1'!J165+'ESTADO DE RESULTADOS1'!J137+'ESTADO DE RESULTADOS1'!J147+'ESTADO DE RESULTADOS1'!J151)","v":0},{"$f":"('ESTADO DE RESULTADOS1'!K165+'ESTADO DE RESULTADOS1'!K137+'ESTADO DE RESULTADOS1'!K147+'ESTADO DE RESULTADOS1'!K151)","v":0},{"$f":"('ESTADO DE RESULTADOS1'!L165+'ESTADO DE RESULTADOS1'!L137+'ESTADO DE RESULTADOS1'!L147+'ESTADO DE RESULTADOS1'!L151)","v":0},{"$f":"('ESTADO DE RESULTADOS1'!M165+'ESTADO DE RESULTADOS1'!M137+'ESTADO DE RESULTADOS1'!M147+'ESTADO DE RESULTADOS1'!M151)","v":0},{"$f":"('ESTADO DE RESULTADOS1'!N165+'ESTADO DE RESULTADOS1'!N137+'ESTADO DE RESULTADOS1'!N147+'ESTADO DE RESULTADOS1'!N151)","v":0},{"$f":"('ESTADO DE RESULTADOS1'!O165+'ESTADO DE RESULTADOS1'!O137+'ESTADO DE RESULTADOS1'!O147+'ESTADO DE RESULTADOS1'!O151)","v":0}]
[]
["Gastos  elegibles",{"$f":"('ESTADO DE RESULTADOS1'!D64+'ESTADO DE RESULTADOS1'!D68+'ESTADO DE RESULTADOS1'!D78+'ESTADO DE RESULTADOS1'!D100+'ESTADO DE RESULTADOS1'!D107+'ESTADO DE RESULTADOS1'!D112+'ESTADO DE RESULTADOS1'!D119+'ESTADO DE RESULTADOS1'!D123+'ESTADO DE RESULTADOS1'!D128+'ESTADO DE RESULTADOS1'!D152+'ESTADO DE RESULTADOS1'!D36+'ESTADO DE RESULTADOS1'!D42+'ESTADO DE RESULTADOS1'!D52+'ESTADO DE RESULTADOS1'!D31+'ESTADO DE RESULTADOS1'!D32+'ESTADO DE RESULTADOS1'!D34+'ESTADO DE RESULTADOS1'!D39+'ESTADO DE RESULTADOS1'!D45+'ESTADO DE RESULTADOS1'!D49+'ESTADO DE RESULTADOS1'!D51+'ESTADO DE RESULTADOS1'!D65+'ESTADO DE RESULTADOS1'!D69+'ESTADO DE RESULTADOS1'!D79+'ESTADO DE RESULTADOS1'!D84+'ESTADO DE RESULTADOS1'!D91+'ESTADO DE RESULTADOS1'!D94+'ESTADO DE RESULTADOS1'!D133+'ESTADO DE RESULTADOS1'!D146)","v":1304286.29},{"$f":"('ESTADO DE RESULTADOS1'!E64+'ESTADO DE RESULTADOS1'!E68+'ESTADO DE RESULTADOS1'!E78+'ESTADO DE RESULTADOS1'!E100+'ESTADO DE RESULTADOS1'!E107+'ESTADO DE RESULTADOS1'!E112+'ESTADO DE RESULTADOS1'!E119+'ESTADO DE RESULTADOS1'!E123+'ESTADO DE RESULTADOS1'!E128+'ESTADO DE RESULTADOS1'!E152+'ESTADO DE RESULTADOS1'!E36+'ESTADO DE RESULTADOS1'!E42+'ESTADO DE RESULTADOS1'!E52+'ESTADO DE RESULTADOS1'!E31+'ESTADO DE RESULTADOS1'!E32+'ESTADO DE RESULTADOS1'!E34+'ESTADO DE RESULTADOS1'!E39+'ESTADO DE RESULTADOS1'!E45+'ESTADO DE RESULTADOS1'!E49+'ESTADO DE RESULTADOS1'!E51+'ESTADO DE RESULTADOS1'!E65+'ESTADO DE RESULTADOS1'!E69+'ESTADO DE RESULTADOS1'!E79+'ESTADO DE RESULTADOS1'!E84+'ESTADO DE RESULTADOS1'!E91+'ESTADO DE RESULTADOS1'!E94+'ESTADO DE RESULTADOS1'!E133+'ESTADO DE RESULTADOS1'!E146)","v":0},{"$f":"('ESTADO DE RESULTADOS1'!F64+'ESTADO DE RESULTADOS1'!F68+'ESTADO DE RESULTADOS1'!F78+'ESTADO DE RESULTADOS1'!F100+'ESTADO DE RESULTADOS1'!F107+'ESTADO DE RESULTADOS1'!F112+'ESTADO DE RESULTADOS1'!F119+'ESTADO DE RESULTADOS1'!F123+'ESTADO DE RESULTADOS1'!F128+'ESTADO DE RESULTADOS1'!F152+'ESTADO DE RESULTADOS1'!F36+'ESTADO DE RESULTADOS1'!F42+'ESTADO DE RESULTADOS1'!F52+'ESTADO DE RESULTADOS1'!F31+'ESTADO DE RESULTADOS1'!F32+'ESTADO DE RESULTADOS1'!F34+'ESTADO DE RESULTADOS1'!F39+'ESTADO DE RESULTADOS1'!F45+'ESTADO DE RESULTADOS1'!F49+'ESTADO DE RESULTADOS1'!F51+'ESTADO DE RESULTADOS1'!F65+'ESTADO DE RESULTADOS1'!F69+'ESTADO DE RESULTADOS1'!F79+'ESTADO DE RESULTADOS1'!F84+'ESTADO DE RESULTADOS1'!F91+'ESTADO DE RESULTADOS1'!F94+'ESTADO DE RESULTADOS1'!F133+'ESTADO DE RESULTADOS1'!F146)","v":0},{"$f":"('ESTADO DE RESULTADOS1'!G64+'ESTADO DE RESULTADOS1'!G68+'ESTADO DE RESULTADOS1'!G78+'ESTADO DE RESULTADOS1'!G100+'ESTADO DE RESULTADOS1'!G107+'ESTADO DE RESULTADOS1'!G112+'ESTADO DE RESULTADOS1'!G119+'ESTADO DE RESULTADOS1'!G123+'ESTADO DE RESULTADOS1'!G128+'ESTADO DE RESULTADOS1'!G152+'ESTADO DE RESULTADOS1'!G36+'ESTADO DE RESULTADOS1'!G42+'ESTADO DE RESULTADOS1'!G52+'ESTADO DE RESULTADOS1'!G31+'ESTADO DE RESULTADOS1'!G32+'ESTADO DE RESULTADOS1'!G34+'ESTADO DE RESULTADOS1'!G39+'ESTADO DE RESULTADOS1'!G45+'ESTADO DE RESULTADOS1'!G49+'ESTADO DE RESULTADOS1'!G51+'ESTADO DE RESULTADOS1'!G65+'ESTADO DE RESULTADOS1'!G69+'ESTADO DE RESULTADOS1'!G79+'ESTADO DE RESULTADOS1'!G84+'ESTADO DE RESULTADOS1'!G91+'ESTADO DE RESULTADOS1'!G94+'ESTADO DE RESULTADOS1'!G133+'ESTADO DE RESULTADOS1'!G146)","v":0},{"$f":"('ESTADO DE RESULTADOS1'!H64+'ESTADO DE RESULTADOS1'!H68+'ESTADO DE RESULTADOS1'!H78+'ESTADO DE RESULTADOS1'!H100+'ESTADO DE RESULTADOS1'!H107+'ESTADO DE RESULTADOS1'!H112+'ESTADO DE RESULTADOS1'!H119+'ESTADO DE RESULTADOS1'!H123+'ESTADO DE RESULTADOS1'!H128+'ESTADO DE RESULTADOS1'!H152+'ESTADO DE RESULTADOS1'!H36+'ESTADO DE RESULTADOS1'!H42+'ESTADO DE RESULTADOS1'!H52+'ESTADO DE RESULTADOS1'!H31+'ESTADO DE RESULTADOS1'!H32+'ESTADO DE RESULTADOS1'!H34+'ESTADO DE RESULTADOS1'!H39+'ESTADO DE RESULTADOS1'!H45+'ESTADO DE RESULTADOS1'!H49+'ESTADO DE RESULTADOS1'!H51+'ESTADO DE RESULTADOS1'!H65+'ESTADO DE RESULTADOS1'!H69+'ESTADO DE RESULTADOS1'!H79+'ESTADO DE RESULTADOS1'!H84+'ESTADO DE RESULTADOS1'!H91+'ESTADO DE RESULTADOS1'!H94+'ESTADO DE RESULTADOS1'!H133+'ESTADO DE RESULTADOS1'!H146)","v":0},{"$f":"('ESTADO DE RESULTADOS1'!I64+'ESTADO DE RESULTADOS1'!I68+'ESTADO DE RESULTADOS1'!I78+'ESTADO DE RESULTADOS1'!I100+'ESTADO DE RESULTADOS1'!I107+'ESTADO DE RESULTADOS1'!I112+'ESTADO DE RESULTADOS1'!I119+'ESTADO DE RESULTADOS1'!I123+'ESTADO DE RESULTADOS1'!I128+'ESTADO DE RESULTADOS1'!I152+'ESTADO DE RESULTADOS1'!I36+'ESTADO DE RESULTADOS1'!I42+'ESTADO DE RESULTADOS1'!I52+'ESTADO DE RESULTADOS1'!I31+'ESTADO DE RESULTADOS1'!I32+'ESTADO DE RESULTADOS1'!I34+'ESTADO DE RESULTADOS1'!I39+'ESTADO DE RESULTADOS1'!I45+'ESTADO DE RESULTADOS1'!I49+'ESTADO DE RESULTADOS1'!I51+'ESTADO DE RESULTADOS1'!I65+'ESTADO DE RESULTADOS1'!I69+'ESTADO DE RESULTADOS1'!I79+'ESTADO DE RESULTADOS1'!I84+'ESTADO DE RESULTADOS1'!I91+'ESTADO DE RESULTADOS1'!I94+'ESTADO DE RESULTADOS1'!I133+'ESTADO DE RESULTADOS1'!I146)","v":0},{"$f":"('ESTADO DE RESULTADOS1'!J64+'ESTADO DE RESULTADOS1'!J68+'ESTADO DE RESULTADOS1'!J78+'ESTADO DE RESULTADOS1'!J100+'ESTADO DE RESULTADOS1'!J107+'ESTADO DE RESULTADOS1'!J112+'ESTADO DE RESULTADOS1'!J119+'ESTADO DE RESULTADOS1'!J123+'ESTADO DE RESULTADOS1'!J128+'ESTADO DE RESULTADOS1'!J152+'ESTADO DE RESULTADOS1'!J36+'ESTADO DE RESULTADOS1'!J42+'ESTADO DE RESULTADOS1'!J52+'ESTADO DE RESULTADOS1'!J31+'ESTADO DE RESULTADOS1'!J32+'ESTADO DE RESULTADOS1'!J34+'ESTADO DE RESULTADOS1'!J39+'ESTADO DE RESULTADOS1'!J45+'ESTADO DE RESULTADOS1'!J49+'ESTADO DE RESULTADOS1'!J51+'ESTADO DE RESULTADOS1'!J65+'ESTADO DE RESULTADOS1'!J69+'ESTADO DE RESULTADOS1'!J79+'ESTADO DE RESULTADOS1'!J84+'ESTADO DE RESULTADOS1'!J91+'ESTADO DE RESULTADOS1'!J94+'ESTADO DE RESULTADOS1'!J133+'ESTADO DE RESULTADOS1'!J146)","v":0},{"$f":"('ESTADO DE RESULTADOS1'!K64+'ESTADO DE RESULTADOS1'!K68+'ESTADO DE RESULTADOS1'!K78+'ESTADO DE RESULTADOS1'!K100+'ESTADO DE RESULTADOS1'!K107+'ESTADO DE RESULTADOS1'!K112+'ESTADO DE RESULTADOS1'!K119+'ESTADO DE RESULTADOS1'!K123+'ESTADO DE RESULTADOS1'!K128+'ESTADO DE RESULTADOS1'!K152+'ESTADO DE RESULTADOS1'!K36+'ESTADO DE RESULTADOS1'!K42+'ESTADO DE RESULTADOS1'!K52+'ESTADO DE RESULTADOS1'!K31+'ESTADO DE RESULTADOS1'!K32+'ESTADO DE RESULTADOS1'!K34+'ESTADO DE RESULTADOS1'!K39+'ESTADO DE RESULTADOS1'!K45+'ESTADO DE RESULTADOS1'!K49+'ESTADO DE RESULTADOS1'!K51+'ESTADO DE RESULTADOS1'!K65+'ESTADO DE RESULTADOS1'!K69+'ESTADO DE RESULTADOS1'!K79+'ESTADO DE RESULTADOS1'!K84+'ESTADO DE RESULTADOS1'!K91+'ESTADO DE RESULTADOS1'!K94+'ESTADO DE RESULTADOS1'!K133+'ESTADO DE RESULTADOS1'!K146)","v":0},{"$f":"('ESTADO DE RESULTADOS1'!L64+'ESTADO DE RESULTADOS1'!L68+'ESTADO DE RESULTADOS1'!L78+'ESTADO DE RESULTADOS1'!L100+'ESTADO DE RESULTADOS1'!L107+'ESTADO DE RESULTADOS1'!L112+'ESTADO DE RESULTADOS1'!L119+'ESTADO DE RESULTADOS1'!L123+'ESTADO DE RESULTADOS1'!L128+'ESTADO DE RESULTADOS1'!L152+'ESTADO DE RESULTADOS1'!L36+'ESTADO DE RESULTADOS1'!L42+'ESTADO DE RESULTADOS1'!L52+'ESTADO DE RESULTADOS1'!L31+'ESTADO DE RESULTADOS1'!L32+'ESTADO DE RESULTADOS1'!L34+'ESTADO DE RESULTADOS1'!L39+'ESTADO DE RESULTADOS1'!L45+'ESTADO DE RESULTADOS1'!L49+'ESTADO DE RESULTADOS1'!L51+'ESTADO DE RESULTADOS1'!L65+'ESTADO DE RESULTADOS1'!L69+'ESTADO DE RESULTADOS1'!L79+'ESTADO DE RESULTADOS1'!L84+'ESTADO DE RESULTADOS1'!L91+'ESTADO DE RESULTADOS1'!L94+'ESTADO DE RESULTADOS1'!L133+'ESTADO DE RESULTADOS1'!L146)","v":0},{"$f":"('ESTADO DE RESULTADOS1'!M64+'ESTADO DE RESULTADOS1'!M68+'ESTADO DE RESULTADOS1'!M78+'ESTADO DE RESULTADOS1'!M100+'ESTADO DE RESULTADOS1'!M107+'ESTADO DE RESULTADOS1'!M112+'ESTADO DE RESULTADOS1'!M119+'ESTADO DE RESULTADOS1'!M123+'ESTADO DE RESULTADOS1'!M128+'ESTADO DE RESULTADOS1'!M152+'ESTADO DE RESULTADOS1'!M36+'ESTADO DE RESULTADOS1'!M42+'ESTADO DE RESULTADOS1'!M52+'ESTADO DE RESULTADOS1'!M31+'ESTADO DE RESULTADOS1'!M32+'ESTADO DE RESULTADOS1'!M34+'ESTADO DE RESULTADOS1'!M39+'ESTADO DE RESULTADOS1'!M45+'ESTADO DE RESULTADOS1'!M49+'ESTADO DE RESULTADOS1'!M51+'ESTADO DE RESULTADOS1'!M65+'ESTADO DE RESULTADOS1'!M69+'ESTADO DE RESULTADOS1'!M79+'ESTADO DE RESULTADOS1'!M84+'ESTADO DE RESULTADOS1'!M91+'ESTADO DE RESULTADOS1'!M94+'ESTADO DE RESULTADOS1'!M133+'ESTADO DE RESULTADOS1'!M146)","v":0},{"$f":"('ESTADO DE RESULTADOS1'!N64+'ESTADO DE RESULTADOS1'!N68+'ESTADO DE RESULTADOS1'!N78+'ESTADO DE RESULTADOS1'!N100+'ESTADO DE RESULTADOS1'!N107+'ESTADO DE RESULTADOS1'!N112+'ESTADO DE RESULTADOS1'!N119+'ESTADO DE RESULTADOS1'!N123+'ESTADO DE RESULTADOS1'!N128+'ESTADO DE RESULTADOS1'!N152+'ESTADO DE RESULTADOS1'!N36+'ESTADO DE RESULTADOS1'!N42+'ESTADO DE RESULTADOS1'!N52+'ESTADO DE RESULTADOS1'!N31+'ESTADO DE RESULTADOS1'!N32+'ESTADO DE RESULTADOS1'!N34+'ESTADO DE RESULTADOS1'!N39+'ESTADO DE RESULTADOS1'!N45+'ESTADO DE RESULTADOS1'!N49+'ESTADO DE RESULTADOS1'!N51+'ESTADO DE RESULTADOS1'!N65+'ESTADO DE RESULTADOS1'!N69+'ESTADO DE RESULTADOS1'!N79+'ESTADO DE RESULTADOS1'!N84+'ESTADO DE RESULTADOS1'!N91+'ESTADO DE RESULTADOS1'!N94+'ESTADO DE RESULTADOS1'!N133+'ESTADO DE RESULTADOS1'!N146)","v":0},{"$f":"('ESTADO DE RESULTADOS1'!O64+'ESTADO DE RESULTADOS1'!O68+'ESTADO DE RESULTADOS1'!O78+'ESTADO DE RESULTADOS1'!O100+'ESTADO DE RESULTADOS1'!O107+'ESTADO DE RESULTADOS1'!O112+'ESTADO DE RESULTADOS1'!O119+'ESTADO DE RESULTADOS1'!O123+'ESTADO DE RESULTADOS1'!O128+'ESTADO DE RESULTADOS1'!O152+'ESTADO DE RESULTADOS1'!O36+'ESTADO DE RESULTADOS1'!O42+'ESTADO DE RESULTADOS1'!O52+'ESTADO DE RESULTADOS1'!O31+'ESTADO DE RESULTADOS1'!O32+'ESTADO DE RESULTADOS1'!O34+'ESTADO DE RESULTADOS1'!O39+'ESTADO DE RESULTADOS1'!O45+'ESTADO DE RESULTADOS1'!O49+'ESTADO DE RESULTADOS1'!O51+'ESTADO DE RESULTADOS1'!O65+'ESTADO DE RESULTADOS1'!O69+'ESTADO DE RESULTADOS1'!O79+'ESTADO DE RESULTADOS1'!O84+'ESTADO DE RESULTADOS1'!O91+'ESTADO DE RESULTADOS1'!O94+'ESTADO DE RESULTADOS1'!O133+'ESTADO DE RESULTADOS1'!O146)","v":0}]
[]
["Razón Gastos / EBITDA",{"$f":"IF(AND(B22<>0,B24<>0),B22/B24,\" \")","v":1.1567278292866183},{"$f":"IF(AND(C22<>0,C24<>0),C22/C24,\" \")","v":" "}," "," "," "," "," "," "," "," "," "," "]
[]
["Cumplimiento",{"$f":"IF(B22>B24,\"Cumple\",\"No Cumple\")","v":"Cumple"},{"$f":"IF(C22>C24,\"Cumple\",\"No Cumple\")","v":"No Cumple"},"No Cumple","No Cumple","No Cumple","No Cumple","No Cumple","No Cumple","No Cumple","No Cumple","No Cumple","No Cumple"]
[]
["3) CAPITAL CONTABLE MÍNIMO"]
[]
["Capital Contable requerido:",5000000,null,"Este dato deberá ser solicitado al Departamento de Desarrollo de mercados y COMONUEVOS de TMEX."]
[]
["Total de Capital",{"$f":"IF(BALANCE!E140>0,BALANCE!E140,0)","v":36604482.858999997},{"$f":"IF(BALANCE!F140>0,BALANCE!F140,0)","v":0},{"$f":"IF(BALANCE!G140>0,BALANCE!G140,0)","v":0},{"$f":"IF(BALANCE!H140>0,BALANCE!H140,0)","v":0},{"$f":"IF(BALANCE!I140>0,BALANCE!I140,0)","v":0},{"$f":"IF(BALANCE!J140>0,BALANCE!J140,0)","v":0},{"$f":"IF(BALANCE!K140>0,BALANCE!K140,0)","v":0},{"$f":"IF(BALANCE!L140>0,BALANCE!L140,0)","v":0},{"$f":"IF(BALANCE!M140>0,BALANCE!M140,0)","v":0},{"$f":"IF(BALANCE!N140>0,BALANCE!N140,0)","v":0},{"$f":"IF(BALANCE!O140>0,BALANCE!O140,0)","v":0},{"$f":"IF(BALANCE!P140>0,BALANCE!P140,0)","v":0}]
[]
["Superávit (Déficit)",{"$f":"IF($B$32>0,B34-$B$32, \"Faltan datos\")","v":31604482.858999997},{"$f":"IF($B$32>0,C34-$B$32, \"Faltan datos\")","v":-5000000},-5000000,-5000000,-5000000,-5000000,-5000000,-5000000,-5000000,-5000000,-5000000,-5000000]
[]
["Cumplimiento",{"$f":"IF(B36=\"Faltan datos\",\"Faltan datos\",IF(B36>0,\"Cumple\",\"No Cumple\"))","v":"Cumple"},{"$f":"IF(C36=\"Faltan datos\",\"Faltan datos\",IF(C36>0,\"Cumple\",\"No Cumple\"))","v":"No Cumple"},"No Cumple","No Cumple","No Cumple","No Cumple","No Cumple","No Cumple","No Cumple","No Cumple","No Cumple","No Cumple"]
[]
["4) CAPITAL MÍNIMO DE TRABAJO"]
[]
["Capital de trabajo requerido:",5500000,null,"Este dato deberá ser solicitado al Departamento de Desarrollo de mercados y COMONUEVOS de TMEX."]
[]
["Capital de trabajo determinado",{"$f":"(BALANCE!E64-BALANCE!E122)","v":28450641.289999999},{"$f":"(BALANCE!F64-BALANCE!F122)","v":0},{"$f":"(BALANCE!G64-BALANCE!G122)","v":0},{"$f":"(BALANCE!H64-BALANCE!H122)","v":0},{"$f":"(BALANCE!I64-BALANCE!I122)","v":0},{"$f":"(BALANCE!J64-BALANCE!J122)","v":0},{"$f":"(BALANCE!K64-BALANCE!K122)","v":0},{"$f":"(BALANCE!L64-BALANCE!L122)","v":0},{"$f":"(BALANCE!M64-BALANCE!M122)","v":0},{"$f":"(BALANCE!N64-BALANCE!N122)","v":0},{"$f":"(BALANCE!O64-BALANCE!O122)","v":0},{"$f":"(BALANCE!P64-BALANCE!P122)","v":0}]
[]
["Superávit (Déficit)",{"$f":"IF($B$42>0,B44-$B$42, \"Faltan datos\")","v":22950641.289999999},{"$f":"IF($B$42>0,C44-$B$42, \"Faltan datos\")","v":-5500000},-5500000,-5500000,-5500000,-5500000,-5500000,-5500000,-5500000,-5500000,-5500000,-5500000]
[]
["Cumplimiento",{"$f":"IF(B46=\"Faltan datos\",\"Faltan datos\",IF(B46>0,\"Cumple\",\"No Cumple\"))","v":"Cumple"},{"$f":"IF(C46=\"Faltan datos\",\"Faltan datos\",IF(C46>0,\"Cumple\",\"No Cumple\"))","v":"No Cumple"},"No Cumple","No Cumple","No Cumple","No Cumple","No Cumple","No Cumple","No Cumple","No Cumple","No Cumple","No Cumple"]
[]
["5) UTILIDAD PROMEDIO POSITIVA (PM6)"]
[]
[null,"Ago","Sep","Oct","Nov","Dic","*Año inmediato anterior"]
[]
["Resultados Agosto a Diciembre",null,null,null,null,null,"Esta información deberá ser proporcionada por el Distribuidor, según lo reportado en el DFS."]
[]
["Resultado del periodo",{"$f":"'ESTADO DE RESULTADOS1'!D165+'ESTADO DE RESULTADOS1'!D137","v":1394130.8589999969},{"$f":"'ESTADO DE RESULTADOS1'!E165+'ESTADO DE RESULTADOS1'!E137","v":0},{"$f":"'ESTADO DE RESULTADOS1'!F165+'ESTADO DE RESULTADOS1'!F137","v":0},{"$f":"'ESTADO DE RESULTADOS1'!G165+'ESTADO DE RESULTADOS1'!G137","v":0},{"$f":"'ESTADO DE RESULTADOS1'!H165+'ESTADO DE RESULTADOS1'!H137","v":0},{"$f":"'ESTADO DE RESULTADOS1'!I165+'ESTADO DE RESULTADOS1'!I137","v":0},{"$f":"'ESTADO DE RESULTADOS1'!J165+'ESTADO DE RESULTADOS1'!J137","v":0},{"$f":"'ESTADO DE RESULTADOS1'!K165+'ESTADO DE RESULTADOS1'!K137","v":0},{"$f":"'ESTADO DE RESULTADOS1'!L165+'ESTADO DE RESULTADOS1'!L137","v":0},{"$f":"'ESTADO DE RESULTADOS1'!M165+'ESTADO DE RESULTADOS1'!M137","v":0},{"$f":"'ESTADO DE RESULTADOS1'!N165+'ESTADO DE RESULTADOS1'!N137","v":0},{"$f":"'ESTADO DE RESULTADOS1'!O165+'ESTADO DE RESULTADOS1'!O137","v":0}]
[]
["Promedio últimos seis meses",{"$f":"AVERAGE(B56,B54:F54)","v":1394130.8589999969},{"$f":"AVERAGE(B56:C56,C54:F54)","v":697065.42949999846},{"$f":"AVERAGE(B56:D56,D54:F54)","v":464710.2863333323},{"$f":"AVERAGE(B56:E56,E54:F54)","v":348532.71474999923},{"$f":"AVERAGE(B56:F56,F54)","v":278826.17179999937},{"$f":"AVERAGE(B56:G56)","v":232355.14316666615},{"$f":"AVERAGE(C56:H56)","v":0},0,0,0,0,0]
[]
["Cumplimiento",{"$f":"IF(B58>0,\"Cumple\", \"No Cumple\")","v":"Cumple"},{"$f":"IF(C58>0,\"Cumple\", \"No Cumple\")","v":"Cumple"},"Cumple","Cumple","Cumple","Cumple","No Cumple","No Cumple","No Cumple","No Cumple","No Cumple","No Cumple"]

{"sheet":"DIRECTORIO","index":19,"n_rows":99,"n_cols":14,"rows_kept":99,"cut":false,"hidden":false,"merged":[[0,2,0,13],[1,4,1,5],[2,1,2,13],[3,1,5,1],[3,2,5,2],[3,3,5,3],[3,4,4,4],[3,5,4,5],[3,6,4,6],[3,7,3,13],[48,1,87,1],[89,1,98,1],[6,1,8,1],[9,1,10,1],[11,1,16,1],[17,1,25,1],[27,1,34,1],[37,1,46,1]]}
[null,null,"Información de contacto del Distribuidor"]
[null,null,null,"# De Dealer",{"$f":"[3]DATOS!C9","v":57040}]
[null,"NOTAS:\n    * La información contenida en este directorio, será utilizada exclusivamente para fines de comunicación entre TMEX y el Distribuidor.\n    * La base de datos de Entrenamiento y Capacitación es independiente a éste directorio."]
[null,"ÁREA","PUESTO","SI EL DISTRIBUIDOR NO CUENTA CON EL PUESTO SEÑALADO, FAVOR DE CAPTURAR CUAL ES EL PUESTO QUE LO SUPLE","NOMBRE (S)","APELLIDO \nPATERNO","APELLIDO \nMATERNO","Los números telefónicos y correo electrónico proporcionados serán considerados\n como medio de comunicación para fines laborales exclusivamente."]
["CODIGO CUENTA",null,null,null,null,null,null,"TELÉFONO CONMUTADOR","EXTENSIÓN ","TELÉFONO DIRECTO","CELULAR","NÚMERO NEXTEL","ID NEXTEL","CORREO ELECTRÓNICO (TOYOTA)"]
[null,null,null,null,"SIN ABREVIATURAS","SIN ABREVIATURAS","SIN ABREVIATURAS","10 DIGITOS, SIN ESPACIO, SIN GUIONES","SIN GUIONES","10 DIGITOS, SIN ESPACIO, SIN GUIONES","10 DIGITOS, SIN ESPACIO, SIN GUIONES","10 DIGITOS, SIN ESPACIO, SIN GUIONES",null,"EN CASO DE NO CONTAR CON UNA CUENTA DE CORREO, FAVOR DE ESPECIFICAR UNA CUENTA ALTERNA"]
["DIR_01","DIRECCIÓN","EJECUTIVO RESPONSABLE",null,"JUAN SABAS","LEAL","MULDOON",4422919645,9645,4422919645,0,0,0,"ifigueroa@toyotacelaya.com.mx"]
["DIR_02",null,"DIRECTOR DE MARCA","GERENTE GENERAL"]
["DIR_03",null,"GERENTE GENERAL",null,"ISMAEL","FIGUEROA ","ZARZA",4611598800,39,0,0,0,0,"ifigueroa@toyotacelaya.com.mx"]
["RH_01","RH","TRAINER",null,"VICTOR ","RODRIGUEZ","RODRIGUEZ",4611598800,0,0,4611807438,0,0,"vrodriguez@toyotacelaya.com.mx"]
["RH_02",null,"ENCARGADO DE CAPACITACIÓN",null,"DENISSE","MARTINEZ","HERNANDEZ",4611598800,16,0,0,0,0,"rhumanostc@toyotacelaya.com.mx"]
["FIN_01","FINANZAS","GERENTE ADMINISTRATIVO",null,"LUDIVINA","JIMENEZ","SUAREZ",4422919645,9645,0,0,0,0,"ljimenez@toyotacelaya.com.mx"]
["FIN_02",null,"CONTADOR",null,"LUDIVINA","JIMENEZ","SUAREZ",4422919645,9645,0,0,0,0,"ljimenez@toyotacelaya.com.mx"]
["FIN_03",null,"ENCARGADO DE FACTURACIÓN",null,"HOMERO","LARA","CERVANTES",4611598800,8,0,0,0,0,"auxiliar@toyotacelaya.com.mx"]
["FIN_04",null,"ENGARGADO DE CUENTAS POR COBRAR",null,"PATICIA ","BALBUENA ","SALAZAR",4611598800,4,0,0,0,0,"contabilidadtc@toyotacelaya..com.mx"]
["FIN_05",null,"ENCARGADO DE CUENTAS POR PAGAR",null,"ANA MARIA","AGUILAR"]
["FIN_06",null,"ENCARGADO DE AUDITORÍAS",null,"PATICIA ","BALBUENA ","SALAZAR",4611598800,4,0,0,0,0,"contabilidadtc@toyotacelaya..com.mx"]
["VTA_01","VENTAS","GERENTE DE VENTAS NUEVOS","GERENTE GENERAL"]
["VTA_02",null,"COORDINADOR DE VENTAS NUEVOS","GERENTE GENERAL"]
["VTA_03",null,"GERENTE COMONUEVOS",null,"MARIA DEL CARMEN","STEPHANONI","CASTRO",4611598800,10,0,0,0,0,"mstephanoni@toyotacelaya.com.mx"]
["VTA_04",null,"GERENTE SEMINUEVOS","GERENTE COMONUEVOS"]
["VTA_05",null,"ADMINISTRADOR DE VENTAS NUEVOS","GERENTE GENERAL"]
["VTA_06",null,"ADMINISTRADOR DE VENTAS COMONUEVOS","GERENTE COMONUEVOS"]
["VTA_07",null,"ADMINISTRADOR DE DEALER DAILY",null,"JAVIER ","SANCHEZ","VEANA",4611598800,23,0,0,0,0,"jsanchez@toyotacelaya.com.mx"]
["VTA_08",null,"ENCARGADO DE INTERCAMBIOS",null,"TERESA ","NAVARRETE ","RODRIGUEZ",4611598800,11,0,0,0,0,"intercambiostc@toyotacelaya.com.mx"]
["VTA_09",null,"FINANCIAMIENTO Y SEGUROS (F&I)",null,"LAURA","PATIÑO","MUÑOZ",4611598800,5,0,0,0,0,"lpatino@toyotacelaya.co.mx"]
["MKT_01","MKT","GERENTE / REPRESENTANTE DE MERCADOTECNIA",null,"ELIZABETH","TOLEDO","MORENO",4611598800,41,0,0,0,0,"etoledo@toyotacelaya.com.mx"]
["SER_01","SERVICIO AL CLIENTE","GERENTE DE SERVICIO",null,"JULIO CESAR","PEREZ","SAAVEBRA",4611598800,21,0,0,0,0,"jcperez@toyotacelaya.com"]
["SER_02",null,"GERENTE / ENCARGADO DE REFACCIONES",null,"IVAN","CRUZ","DIAZ",4611598800,19,0,0,0,0,"almacentc@toyotacelaya.com.mx"]
["SER_03",null,"GERENTE / ENCARGADO DE ATENCIÓN A CLIENTES",null,"ELIZABETH","SALDAÑA","RAMOS",4611598800,0,0,0,0,0]
["SER_04",null,"GERENTE / ENCARGADO DE H&P"]
["SER_05",null,"PROMOTOR KAIZEN",null,"DENISSE","MARTINEZ","HERNANDEZ",4611598800,16,0,0,0,0,"promotorkaisen@toyotacelaya.com.mx"]
["SER_06",null,"ADMINISTRADOR DE GARANTÍAS",null,"AMALIA","VEGA","FERNANDEZ",4611598800,13,0,0,0,0,"garantiastc@toyotacelaya.com.mx"]
["SER_07",null,"MDT / TÉCNICO MAS CALIFICADO Y CON MAYOR ANTIGÜEDAD",null,"VICTOR ","TIERRABLANCA","SANCHEZ",4611598800,20,0,0,0,0,"vtierrablanca@toyotacelaya.com.mx"]
["SER_08",null,"JEFE DE TALLER",null,"VICTOR ","TIERRABLANCA","SANCHEZ",4611598800,20,0,0,0,0,"vtierrablanca@toyotacelaya.com.mx"]
["SIS_01","SISTEMAS","ENCARGADO DE SISTEMAS",null,"JAVIER","SANCHEZ","VEANA",4611598800,23,0,0,0,0,"jsanchez@toyotacelaya.com.mx"]
[]
["SER_09_01","SERVICIO AL CLIENTE","ASESOR DE SERVICIO 1",null,"ERIKA","CAZARES ","CHAIRES",4611598800,18,0,0,0,0,"ecazares@toyotacelaya.com.mx"]
["SER_09_02",null,"ASESOR DE SERVICIO 2",null,"SERGIO","GUZMAN","ESPILLER",4611598800,17,0,0,0,0,"recepcionac@toyotacelaya.com.mx"]
["SER_09_03",null,"ASESOR DE SERVICIO 3"]
["SER_09_04",null,"ASESOR DE SERVICIO 4"]
["SER_09_05",null,"ASESOR DE SERVICIO 5"]
["SER_09_06",null,"ASESOR DE SERVICIO 6"]
["SER_09_07",null,"ASESOR DE SERVICIO 7"]
["SER_09_08",null,"ASESOR DE SERVICIO 8"]
["SER_09_09",null,"ASESOR DE SERVICIO 9"]
["SER_09_10",null,"ASESOR DE SERVICIO 10"]
[]
["VTA_10_01","VENTAS NUEVOS","ASESOR DE VENTAS 1",null,"VICTOR MANUEL","RODRIGUEZ RODRIGUEZ",null,4611598800,null,0,0,0,0,"vrodriguez@toyotacelaya.com.mx"]
["VTA_10_02",null,"ASESOR DE VENTAS 2",null,"GUSTAVO","ESPITIA HURTADO",null,4611598800,null,0,0,0,0,"gespitia@toyotacelaya.com.mx"]
["VTA_10_03",null,"ASESOR DE VENTAS 3",null,"MARIO","CASAS VILLANUEVA ",null,4611598800,null,0,0,0,0,"mcasas@toyotacelaya.com.mx"]
["VTA_10_04",null,"ASESOR DE VENTAS 4",null,"RAUL","ALVARADO VERA",null,4611598800,null,0,0,0,0,"ralvarado@toyotacelaya.com.mx"]
["VTA_10_05",null,"ASESOR DE VENTAS 5",null,"MARIANO","AZUARA MARTINEZ",null,4611598800,null,0,0,0,0,"mazuara@toyotacelaya.com.mx"]
["VTA_10_06",null,"ASESOR DE VENTAS 6",null,"SERGIO ALBERTO","GARCIA FRANCO ",null,4611598800,null,0,0,0,0,"agarcia@toyotacelaya.com.mx"]
["VTA_10_07",null,"ASESOR DE VENTAS 7",null,"ERIKA ","GALLEGOS RIOS",null,4611598800,null,0,0,0,0,"agallegos@toyotacelaya.com.mx"]
["VTA_10_08",null,"ASESOR DE VENTAS 8",null,"LORENZO EFRAIN ","SANABRIA TAPIA ",null,4611598800,null,0,0,0,0,"agallegos@toyotacelaya.com.mx"]
["VTA_10_09",null,"ASESOR DE VENTAS 9",null,"GILBERTO ","ORTIZ JAMAICA ",null,4611598800,null,0,0,0,0,"gortiz@toyotacelaya.com.mx"]
["VTA_10_10",null,"ASESOR DE VENTAS 10",null,"ERNESTO","RAMIREZ SOLORZANO",null,4611598800,null,0,0,0,0,"eramirez@toyotacelaya.com.mx"]
["VTA_10_11",null,"ASESOR DE VENTAS 11",null,"LILIANA IVON","MANDUJANO AGUILAR",null,4611598800,null,0,0,0,0,"imandujano@toyotacelaya.com.mx"]
["VTA_10_12",null,"ASESOR DE VENTAS 12",null,"CLAUDIA OLIMPIA ","CALDERA FONTES",null,4611598800,null,0,0,0,0,"ccaldera@toyotacelaya.com.mx"]
["VTA_10_13",null,"ASESOR DE VENTAS 13",null,"ERNESTO ","VAZQUEZ LEON ",null,4611598800,null,0,0,0,0,"evazquez@toyotacelaya.com.mx"]
["VTA_10_14",null,"ASESOR DE VENTAS 14",null,"MARCELA ","CRUZ RODRIGUEZ ",null,4611598800,null,0,0,0,0,"mcruz@toyotacelaya.com.mx"]
["VTA_10_15",null,"ASESOR DE VENTAS 15",null,"LAURA IMELDA","TOVAR VEGA ",null,4611598800,null,0,0,0,0,"ltovar@toyotacelaya.com.mx"]
["VTA_10_16",null,"ASESOR DE VENTAS 16",null,"LIZBETH","CASTRO ROMERO",null,4611598800,null,0,0,0,0,"ecastro@toyotacelaya.com.mx"]
["VTA_10_17",null,"ASESOR DE VENTAS 17",null,"HUGO ENRIQUE","SILVA  RAMIREZ ",null,4611598800,null,0,0,0,0,"hsilva@toyotacelaya.com.mx"]
["VTA_10_18",null,"ASESOR DE VENTAS 18",null,"JOSE LUIS","ESPINOSA SILVA ",null,4611598800,null,0,0,0,0,"lespinoza@toyotacelaya.com.mx"]
["VTA_10_19",null,"ASESOR DE VENTAS 19"]
["VTA_10_20",null,"ASESOR DE VENTAS 20"]
["VTA_10_21",null,"ASESOR DE VENTAS 21"]
["VTA_10_22",null,"ASESOR DE VENTAS 22"]
["VTA_10_23",null,"ASESOR DE VENTAS 23"]
["VTA_10_24",null,"ASESOR DE VENTAS 24"]
["VTA_10_25",null,"ASESOR DE VENTAS 25"]
["VTA_10_26",null,"ASESOR DE VENTAS 26"]
["VTA_10_27",null,"ASESOR DE VENTAS 27"]
["VTA_10_28",null,"ASESOR DE VENTAS 28"]
["VTA_10_29",null,"ASESOR DE VENTAS 29"]
["VTA_10_30",null,"ASESOR DE VENTAS 30"]
["VTA_10_31",null,"ASESOR DE VENTAS 31"]
["VTA_10_32",null,"ASESOR DE VENTAS 32"]
["VTA_10_33",null,"ASESOR DE VENTAS 33"]
["VTA_10_34",null,"ASESOR DE VENTAS 34"]
["VTA_10_35",null,"ASESOR DE VENTAS 35"]
["VTA_10_36",null,"ASESOR DE VENTAS 36"]
["VTA_10_37",null,"ASESOR DE VENTAS 37"]
["VTA_10_38",null,"ASESOR DE VENTAS 38"]
["VTA_10_39",null,"ASESOR DE VENTAS 39"]
["VTA_10_40",null,"ASESOR DE VENTAS 40"]
[]
["VTA_11_01","VENTAS COMONUEVOS / SEMINUEVOS","ASESOR DE VENTAS COMO/SEMI 1",null,"JOSE RUBEN ","ALVAREZ ZAVALA ",null,4611598800,null,0,0,0,0,"ralcarez@toyotacelaya.com.mx"]
["VTA_11_02",null,"ASESOR DE VENTAS COMO/SEMI 2",null,"HECTOR EDUARDO","TOLENTINO CARMONA",null,4611598800,null,0,0,0,0,"etolentino@toyotacelaya.com.mx"]
["VTA_11_03",null,"ASESOR DE VENTAS COMO/SEMI 3"]
["VTA_11_04",null,"ASESOR DE VENTAS COMO/SEMI 4"]
["VTA_11_05",null,"ASESOR DE VENTAS COMO/SEMI 5"]
["VTA_11_06",null,"ASESOR DE VENTAS COMO/SEMI 6"]
["VTA_11_07",null,"ASESOR DE VENTAS COMO/SEMI 7"]
["VTA_11_08",null,"ASESOR DE VENTAS COMO/SEMI 8"]
["VTA_11_09",null,"ASESOR DE VENTAS COMO/SEMI 9"]
["VTA_11_10",null,"ASESOR DE VENTAS COMO/SEMI 10"]

{"sheet":"ESTADO DE RESULTADOS IMPRIMIR","index":20,"n_rows":46,"n_cols":10,"rows_kept":46,"cut":false,"hidden":false,"merged":[[45,1,46,2],[45,4,46,8],[7,7,7,9],[44,1,44,2],[43,1,43,2],[43,4,43,8],[44,4,44,8]]}
["Código De Dealer",null,{"$f":"DATOS1!C9","v":57040},null,null,null,null,null,null,"Trimestre I / 2015"]
["Nombre",null,{"$f":"DATOS1!C10","v":"TOYOTA CELAYA"},null,null,null,null,null,null,"Trimestre II / 2015"]
["Ciudad",null,{"$f":"DATOS1!C11","v":"CELAYA"},null,null,null,null,null,null,"Trimestre III / 2015"]
["Estado",null,{"$f":"DATOS1!C12","v":"QUERETARO"},null,null,null,null,null,null,"Trimestre IV / 2015"]
[]
["ESTADO DE RESULTADOS TRIMESTRAL EJERCICIO 2015"]
[null,null,null,null,null,null,null,"* Seleccione el trimestre"]
[null,null,null,null,null,null,null,"Trimestre I / 2015"]
[]
[]
[null,null,null,{"$f":"IF($H$8=\"Trimestre I / 2015\",\"Enero\",IF($H$8=\"Trimestre II / 2015\",\"Abril\",IF($H$8=\"Trimestre III / 2015\",\"Julio\",IF($H$8=\"Trimestre IV / 2015\",\"Octubre\",0))))","v":"Enero"},null,{"$f":"IF($H$8=\"Trimestre I / 2015\",\"Febrero\",IF($H$8=\"Trimestre II / 2015\",\"Mayo\",IF($H$8=\"Trimestre III / 2015\",\"Agosto\",IF($H$8=\"Trimestre IV / 2015\",\"Noviembre\",0))))","v":"Febrero"},null,{"$f":"IF($H$8=\"Trimestre I / 2015\",\"Marzo\",IF($H$8=\"Trimestre II / 2015\",\"Junio\",IF($H$8=\"Trimestre III / 2015\",\"Septiembre\",IF($H$8=\"Trimestre IV / 2015\",\"Diciembre\",0))))","v":"Marzo"},null,"Total"]
["Ingresos"]
[]
[null,"   Utilidad Bruta Autos Nuevos",null,{"$f":"IF($D$11=\"Enero\",'ESTADO DE RESULTADOS1'!$D$14,IF($D$11=\"Abril\",'ESTADO DE RESULTADOS1'!$G$14,IF($D$11=\"Julio\",'ESTADO DE RESULTADOS1'!$J$14,IF($D$11=\"OCTUBRE\",'ESTADO DE RESULTADOS1'!$M$14))))","v":1279707.9999999963},null,{"$f":"IF($F$11=\"Febrero\",'ESTADO DE RESULTADOS1'!$E$14,IF($F$11=\"Mayo\",'ESTADO DE RESULTADOS1'!$H$14,IF($F$11=\"Agosto\",'ESTADO DE RESULTADOS1'!$K$14,IF($F$11=\"Noviembre\",'ESTADO DE RESULTADOS1'!$N$14))))","v":0},null,{"$f":"IF($H$11=\"Marzo\",'ESTADO DE RESULTADOS1'!$F$14,IF($H$11=\"Junio\",'ESTADO DE RESULTADOS1'!$I$14,IF($H$11=\"Septiembre\",'ESTADO DE RESULTADOS1'!$L$14,IF($H$11=\"Diciembre\",'ESTADO DE RESULTADOS1'!$O$14))))","v":0},null,{"$f":"SUM(D14+F14+H14)","v":1279707.9999999963}]
[null,"   Utilidad Bruta COMONUEVOS",null,{"$f":"IF($D$11=\"Enero\",'ESTADO DE RESULTADOS1'!$D$16,IF($D$11=\"Abril\",'ESTADO DE RESULTADOS1'!$G$16,IF($D$11=\"Julio\",'ESTADO DE RESULTADOS1'!$J$16,IF($D$11=\"OCTUBRE\",'ESTADO DE RESULTADOS1'!$M$16))))","v":132841.31000000006},null,{"$f":"IF($F$11=\"Febrero\",'ESTADO DE RESULTADOS1'!$E$16,IF($F$11=\"Mayo\",'ESTADO DE RESULTADOS1'!$H$16,IF($F$11=\"Agosto\",'ESTADO DE RESULTADOS1'!$K$16,IF($F$11=\"Noviembre\",'ESTADO DE RESULTADOS1'!$N$16))))","v":0},null,{"$f":"IF($H$11=\"Marzo\",'ESTADO DE RESULTADOS1'!$F$16,IF($H$11=\"Junio\",'ESTADO DE RESULTADOS1'!$I$16,IF($H$11=\"Septiembre\",'ESTADO DE RESULTADOS1'!$L$16,IF($H$11=\"Diciembre\",'ESTADO DE RESULTADOS1'!$O$16))))","v":0},null,{"$f":"SUM(D15+F15+H15)","v":132841.31000000006}]
[null,"   Utilidad Bruta Autos Usados",null,{"$f":"IF($D$11=\"Enero\",'ESTADO DE RESULTADOS1'!$D$18,IF($D$11=\"Abril\",'ESTADO DE RESULTADOS1'!$G$18,IF($D$11=\"Julio\",'ESTADO DE RESULTADOS1'!$J$18,IF($D$11=\"OCTUBRE\",'ESTADO DE RESULTADOS1'!$M$18))))","v":83826},null,{"$f":"IF($F$11=\"Febrero\",'ESTADO DE RESULTADOS1'!$E$18,IF($F$11=\"Mayo\",'ESTADO DE RESULTADOS1'!$H$18,IF($F$11=\"Agosto\",'ESTADO DE RESULTADOS1'!$K$18,IF($F$11=\"Noviembre\",'ESTADO DE RESULTADOS1'!$N$18))))","v":0},null,{"$f":"IF($H$11=\"Marzo\",'ESTADO DE RESULTADOS1'!$F$18,IF($H$11=\"Junio\",'ESTADO DE RESULTADOS1'!$I$18,IF($H$11=\"Septiembre\",'ESTADO DE RESULTADOS1'!$L$18,IF($H$11=\"Diciembre\",'ESTADO DE RESULTADOS1'!$O$18))))","v":0},null,83826]
[null,"   Utilidad Bruta Servicio",null,{"$f":"IF($D$11=\"Enero\",'ESTADO DE RESULTADOS1'!$D$20,IF($D$11=\"Abril\",'ESTADO DE RESULTADOS1'!$G$20,IF($D$11=\"Julio\",'ESTADO DE RESULTADOS1'!$J$20,IF($D$11=\"OCTUBRE\",'ESTADO DE RESULTADOS1'!$M$20))))","v":431758.77},null,{"$f":"IF($F$11=\"Febrero\",'ESTADO DE RESULTADOS1'!$E$20,IF($F$11=\"Mayo\",'ESTADO DE RESULTADOS1'!$H$20,IF($F$11=\"Agosto\",'ESTADO DE RESULTADOS1'!$K$20,IF($F$11=\"Noviembre\",'ESTADO DE RESULTADOS1'!$N$20))))","v":0},null,{"$f":"IF($H$11=\"Marzo\",'ESTADO DE RESULTADOS1'!$F$20,IF($H$11=\"Junio\",'ESTADO DE RESULTADOS1'!$I$20,IF($H$11=\"Septiembre\",'ESTADO DE RESULTADOS1'!$L$20,IF($H$11=\"Diciembre\",'ESTADO DE RESULTADOS1'!$O$20))))","v":0},null,431758.77]
[null,"   Utilidad Bruta Hojalatería",null,{"$f":"IF($D$11=\"Enero\",'ESTADO DE RESULTADOS1'!$D$22,IF($D$11=\"Abril\",'ESTADO DE RESULTADOS1'!$G$22,IF($D$11=\"Julio\",'ESTADO DE RESULTADOS1'!$J$22,IF($D$11=\"OCTUBRE\",'ESTADO DE RESULTADOS1'!$M$22))))","v":20678.12},null,{"$f":"IF($F$11=\"Febrero\",'ESTADO DE RESULTADOS1'!$E$22,IF($F$11=\"Mayo\",'ESTADO DE RESULTADOS1'!$H$22,IF($F$11=\"Agosto\",'ESTADO DE RESULTADOS1'!$K$22,IF($F$11=\"Noviembre\",'ESTADO DE RESULTADOS1'!$N$22))))","v":0},null,{"$f":"IF($H$11=\"Marzo\",'ESTADO DE RESULTADOS1'!$F$22,IF($H$11=\"Junio\",'ESTADO DE RESULTADOS1'!$I$22,IF($H$11=\"Septiembre\",'ESTADO DE RESULTADOS1'!$L$22,IF($H$11=\"Diciembre\",'ESTADO DE RESULTADOS1'!$O$22))))","v":0},null,20678.12]
[null,"   Utilidad Bruta Refacciones",null,{"$f":"IF($D$11=\"Enero\",'ESTADO DE RESULTADOS1'!$D$24,IF($D$11=\"Abril\",'ESTADO DE RESULTADOS1'!$G$24,IF($D$11=\"Julio\",'ESTADO DE RESULTADOS1'!$J$24,IF($D$11=\"OCTUBRE\",'ESTADO DE RESULTADOS1'!$M$24))))","v":505358.3},null,{"$f":"IF($F$11=\"Febrero\",'ESTADO DE RESULTADOS1'!$E$24,IF($F$11=\"Mayo\",'ESTADO DE RESULTADOS1'!$H$24,IF($F$11=\"Agosto\",'ESTADO DE RESULTADOS1'!$K$24,IF($F$11=\"Noviembre\",'ESTADO DE RESULTADOS1'!$N$24))))","v":0},null,{"$f":"IF($H$11=\"Marzo\",'ESTADO DE RESULTADOS1'!$F$24,IF($H$11=\"Junio\",'ESTADO DE RESULTADOS1'!$I$24,IF($H$11=\"Septiembre\",'ESTADO DE RESULTADOS1'!$L$24,IF($H$11=\"Diciembre\",'ESTADO DE RESULTADOS1'!$O$24))))","v":0},null,505358.3]
[]
[null,"Utilidad o Perdida Bruta Total",null,{"$f":"IF($D$11=\"Enero\",'ESTADO DE RESULTADOS1'!$D$28,IF($D$11=\"Abril\",'ESTADO DE RESULTADOS1'!$G$28,IF($D$11=\"Julio\",'ESTADO DE RESULTADOS1'!$J$28,IF($D$11=\"OCTUBRE\",'ESTADO DE RESULTADOS1'!$M$28))))","v":2455619.0699999966},null,{"$f":"IF($F$11=\"Febrero\",'ESTADO DE RESULTADOS1'!$E$28,IF($F$11=\"Mayo\",'ESTADO DE RESULTADOS1'!$H$28,IF($F$11=\"Agosto\",'ESTADO DE RESULTADOS1'!$K$28,IF($F$11=\"Noviembre\",'ESTADO DE RESULTADOS1'!$N$28))))","v":0},null,{"$f":"IF($H$11=\"Marzo\",'ESTADO DE RESULTADOS1'!$F$28,IF($H$11=\"Junio\",'ESTADO DE RESULTADOS1'!$I$28,IF($H$11=\"Septiembre\",'ESTADO DE RESULTADOS1'!$L$28,IF($H$11=\"Diciembre\",'ESTADO DE RESULTADOS1'!$O$28))))","v":0},null,2455619.0699999966]
[]
["Gastos"]
[null,"Total de gastos de ventas",null,{"$f":"IF($D$11=\"Enero\",'ESTADO DE RESULTADOS1'!$D$54,IF($D$11=\"Abril\",'ESTADO DE RESULTADOS1'!$G$54,IF($D$11=\"Julio\",'ESTADO DE RESULTADOS1'!$J$54,IF($D$11=\"OCTUBRE\",'ESTADO DE RESULTADOS1'!$M$54))))","v":635186.49},null,{"$f":"IF($F$11=\"Febrero\",'ESTADO DE RESULTADOS1'!$E$54,IF($F$11=\"Mayo\",'ESTADO DE RESULTADOS1'!$H$54,IF($F$11=\"Agosto\",'ESTADO DE RESULTADOS1'!$K$54,IF($F$11=\"Noviembre\",'ESTADO DE RESULTADOS1'!$N$54))))","v":0},null,{"$f":"IF($H$11=\"Marzo\",'ESTADO DE RESULTADOS1'!$F$54,IF($H$11=\"Junio\",'ESTADO DE RESULTADOS1'!$I$54,IF($H$11=\"Septiembre\",'ESTADO DE RESULTADOS1'!$L$54,IF($H$11=\"Diciembre\",'ESTADO DE RESULTADOS1'!$O$54))))","v":0},null,{"$f":"SUM(D24+F24+H24)","v":635186.49}]
[null,"Total de gastos  de operación",null,{"$f":"IF($D$11=\"Enero\",'ESTADO DE RESULTADOS1'!$D$96,IF($D$11=\"Abril\",'ESTADO DE RESULTADOS1'!$G$96,IF($D$11=\"Julio\",'ESTADO DE RESULTADOS1'!$J$96,IF($D$11=\"OCTUBRE\",'ESTADO DE RESULTADOS1'!$M$96))))","v":102752.81},null,{"$f":"IF($F$11=\"Febrero\",'ESTADO DE RESULTADOS1'!$E$96,IF($F$11=\"Mayo\",'ESTADO DE RESULTADOS1'!$H$96,IF($F$11=\"Agosto\",'ESTADO DE RESULTADOS1'!$K$96,IF($F$11=\"Noviembre\",'ESTADO DE RESULTADOS1'!$N$96))))","v":0},null,{"$f":"IF($H$11=\"Marzo\",'ESTADO DE RESULTADOS1'!$F$96,IF($H$11=\"Junio\",'ESTADO DE RESULTADOS1'!$I$96,IF($H$11=\"Septiembre\",'ESTADO DE RESULTADOS1'!$L$96,IF($H$11=\"Diciembre\",'ESTADO DE RESULTADOS1'!$O$96))))","v":0},null,102752.81]
[null,"Total de gastos indirectos",null,{"$f":"IF($D$11=\"Enero\",'ESTADO DE RESULTADOS1'!$D$130,IF($D$11=\"Abril\",'ESTADO DE RESULTADOS1'!$G$130,IF($D$11=\"Julio\",'ESTADO DE RESULTADOS1'!$J$130,IF($D$11=\"OCTUBRE\",'ESTADO DE RESULTADOS1'!$M$130))))","v":379868.19099999999},null,{"$f":"IF($F$11=\"Febrero\",'ESTADO DE RESULTADOS1'!$E$130,IF($F$11=\"Mayo\",'ESTADO DE RESULTADOS1'!$H$130,IF($F$11=\"Agosto\",'ESTADO DE RESULTADOS1'!$K$130,IF($F$11=\"Noviembre\",'ESTADO DE RESULTADOS1'!$N$130))))","v":0},null,{"$f":"IF($H$11=\"Marzo\",'ESTADO DE RESULTADOS1'!$F$130,IF($H$11=\"Junio\",'ESTADO DE RESULTADOS1'!$I$130,IF($H$11=\"Septiembre\",'ESTADO DE RESULTADOS1'!$L$130,IF($H$11=\"Diciembre\",'ESTADO DE RESULTADOS1'!$O$130))))","v":0},null,379868.19099999999]
[null,"Total de gastos adm. Generales",null,{"$f":"IF($D$11=\"Enero\",'ESTADO DE RESULTADOS1'!$D$155,IF($D$11=\"Abril\",'ESTADO DE RESULTADOS1'!$G$155,IF($D$11=\"Julio\",'ESTADO DE RESULTADOS1'!$J$155,IF($D$11=\"OCTUBRE\",'ESTADO DE RESULTADOS1'!$M$155))))","v":789644.1399999999},null,{"$f":"IF($F$11=\"Febrero\",'ESTADO DE RESULTADOS1'!$E$155,IF($F$11=\"Mayo\",'ESTADO DE RESULTADOS1'!$H$155,IF($F$11=\"Agosto\",'ESTADO DE RESULTADOS1'!$K$155,IF($F$11=\"Noviembre\",'ESTADO DE RESULTADOS1'!$N$155))))","v":0},null,{"$f":"IF($H$11=\"Marzo\",'ESTADO DE RESULTADOS1'!$F$155,IF($H$11=\"Junio\",'ESTADO DE RESULTADOS1'!$I$155,IF($H$11=\"Septiembre\",'ESTADO DE RESULTADOS1'!$L$155,IF($H$11=\"Diciembre\",'ESTADO DE RESULTADOS1'!$O$155))))","v":0},null,789644.1399999999]
[]
[null,"Gastos Totales",null,{"$f":"IF($D$11=\"Enero\",'ESTADO DE RESULTADOS1'!$D$156,IF($D$11=\"Abril\",'ESTADO DE RESULTADOS1'!$G$156,IF($D$11=\"Julio\",'ESTADO DE RESULTADOS1'!$J$156,IF($D$11=\"OCTUBRE\",'ESTADO DE RESULTADOS1'!$M$156))))","v":1907451.6309999998},null,{"$f":"IF($F$11=\"Febrero\",'ESTADO DE RESULTADOS1'!$E$156,IF($F$11=\"Mayo\",'ESTADO DE RESULTADOS1'!$H$156,IF($F$11=\"Agosto\",'ESTADO DE RESULTADOS1'!$K$156,IF($F$11=\"Noviembre\",'ESTADO DE RESULTADOS1'!$N$156))))","v":0},null,{"$f":"IF($H$11=\"Marzo\",'ESTADO DE RESULTADOS1'!$F$156,IF($H$11=\"Junio\",'ESTADO DE RESULTADOS1'!$I$156,IF($H$11=\"Septiembre\",'ESTADO DE RESULTADOS1'!$L$156,IF($H$11=\"Diciembre\",'ESTADO DE RESULTADOS1'!$O$156))))","v":0},null,{"$f":"SUM(D29+F29+H29)","v":1907451.6309999998}]
[]
[null,"Otros Ingresos",null,{"$f":"IF($D$11=\"Enero\",'ESTADO DE RESULTADOS1'!$D$164,IF($D$11=\"Abril\",'ESTADO DE RESULTADOS1'!$G$164,IF($D$11=\"Julio\",'ESTADO DE RESULTADOS1'!$J$164,IF($D$11=\"OCTUBRE\",'ESTADO DE RESULTADOS1'!$M$164))))","v":650963.42000000004},null,{"$f":"IF($F$11=\"Febrero\",'ESTADO DE RESULTADOS1'!$E$164,IF($F$11=\"Mayo\",'ESTADO DE RESULTADOS1'!$H$164,IF($F$11=\"Agosto\",'ESTADO DE RESULTADOS1'!$K$164,IF($F$11=\"Noviembre\",'ESTADO DE RESULTADOS1'!$N$164))))","v":0},null,{"$f":"IF($H$11=\"Marzo\",'ESTADO DE RESULTADOS1'!$F$164,IF($H$11=\"Junio\",'ESTADO DE RESULTADOS1'!$I$164,IF($H$11=\"Septiembre\",'ESTADO DE RESULTADOS1'!$L$164,IF($H$11=\"Diciembre\",'ESTADO DE RESULTADOS1'!$O$164))))","v":0},null,{"$f":"SUM(D31+F31+H31)","v":650963.42000000004}]
[]
[null,"Resultado del Periodo",null,{"$f":"IF($D$11=\"Enero\",'ESTADO DE RESULTADOS1'!$D$165,IF($D$11=\"Abril\",'ESTADO DE RESULTADOS1'!$G$165,IF($D$11=\"Julio\",'ESTADO DE RESULTADOS1'!$J$165,IF($D$11=\"OCTUBRE\",'ESTADO DE RESULTADOS1'!$M$165))))","v":1199130.8589999969},null,{"$f":"IF($F$11=\"Febrero\",'ESTADO DE RESULTADOS1'!$E$165,IF($F$11=\"Mayo\",'ESTADO DE RESULTADOS1'!$H$165,IF($F$11=\"Agosto\",'ESTADO DE RESULTADOS1'!$K$165,IF($F$11=\"Noviembre\",'ESTADO DE RESULTADOS1'!$N$165))))","v":0},null,{"$f":"IF($H$11=\"Marzo\",'ESTADO DE RESULTADOS1'!$F$165,IF($H$11=\"Junio\",'ESTADO DE RESULTADOS1'!$I$165,IF($H$11=\"Septiembre\",'ESTADO DE RESULTADOS1'!$L$165,IF($H$11=\"Diciembre\",'ESTADO DE RESULTADOS1'!$O$165))))","v":0},null,{"$f":"SUM(D33+F33+H33)","v":1199130.8589999969}]
[]
[null,"Gastos Corporativos",null,{"$f":"IF($D$11=\"Enero\",'ESTADO DE RESULTADOS1'!$D$137,IF($D$11=\"Abril\",'ESTADO DE RESULTADOS1'!$G$137,IF($D$11=\"Julio\",'ESTADO DE RESULTADOS1'!$J$137,IF($D$11=\"OCTUBRE\",'ESTADO DE RESULTADOS1'!$M$137))))","v":195000},null,{"$f":"IF($F$11=\"Febrero\",'ESTADO DE RESULTADOS1'!$E$137,IF($F$11=\"Mayo\",'ESTADO DE RESULTADOS1'!$H$137,IF($F$11=\"Agosto\",'ESTADO DE RESULTADOS1'!$K$137,IF($F$11=\"Noviembre\",'ESTADO DE RESULTADOS1'!$N$137))))","v":0},null,{"$f":"IF($H$11=\"Marzo\",'ESTADO DE RESULTADOS1'!$F$137,IF($H$11=\"Junio\",'ESTADO DE RESULTADOS1'!$I$137,IF($H$11=\"Septiembre\",'ESTADO DE RESULTADOS1'!$L$137,IF($H$11=\"Diciembre\",'ESTADO DE RESULTADOS1'!$O$137))))","v":0},null,{"$f":"SUM(D35+F35+H35)","v":195000}]
[]
[null,"Resultado del periodo con Gastos Corpoorativos",null,{"$f":"D33+D35","v":1394130.8589999969},null,{"$f":"F33+F35","v":0},null,{"$f":"H33+H35","v":0},null,{"$f":"SUM(D37+F37+H37)","v":1394130.8589999969}]
[]
[]
[]
[]
[]
[]
[]
[null,"Gerente General",null,null,"Gerente Administrativo"]
[null,{"$f":"CONCATENATE(#REF!,\" \",#REF!,\" \",#REF!)","v":{"$error":"#REF!"}},null,null,{"$f":"CONCATENATE(#REF!,\" \",#REF!,\" \",#REF!)","v":{"$error":"#REF!"}}]

{"sheet":"POSICION FINANCIERA IMPRIMIR","index":21,"n_rows":53,"n_cols":8,"rows_kept":53,"cut":false,"hidden":false,"merged":[[52,1,53,2],[52,4,53,8],[7,3,7,5],[45,1,45,2],[51,1,51,2],[50,1,50,2],[51,4,51,7],[50,4,50,7]]}
["Código De Dealer",null,{"$f":"DATOS1!C9","v":57040},null,null,null,null,"Trimestre I / 2015"]
["Nombre",null,{"$f":"DATOS1!C10","v":"TOYOTA CELAYA"},null,null,null,null,"Trimestre II / 2015"]
["Ciudad",null,{"$f":"DATOS1!C11","v":"CELAYA"},null,null,null,null,"Trimestre III / 2015"]
["Estado",null,{"$f":"DATOS1!C12","v":"QUERETARO"},null,null,null,null,"Trimestre IV / 2015"]
["ESTADO DE POSICIÓN FINANCIERA EJERCICIO 2015"]
[]
[null,null,null,"* Seleccione el trimestre"]
[null,null,null,"Trimestre I / 2015"]
[]
[null,null,null,{"$f":"IF($D$8=\"Trimestre I / 2015\",\"Enero\",IF($D$8=\"Trimestre II / 2015\",\"Abril\",IF($D$8=\"Trimestre III / 2015\",\"Julio\",IF($D$8=\"Trimestre IV / 2015\",\"Octubre\",0))))","v":"Enero"},null,{"$f":"IF($D$8=\"Trimestre I / 2015\",\"Febrero\",IF($D$8=\"Trimestre II / 2015\",\"Mayo\",IF($D$8=\"Trimestre III / 2015\",\"Agosto\",IF($D$8=\"Trimestre IV / 2015\",\"Noviembre\",0))))","v":"Febrero"},null,{"$f":"IF($D$8=\"Trimestre I / 2015\",\"Marzo\",IF($D$8=\"Trimestre II / 2015\",\"Junio\",IF($D$8=\"Trimestre III / 2015\",\"Septiembre\",IF($D$8=\"Trimestre IV / 2015\",\"Diciembre\",0))))","v":"Marzo"}]
[]
["Activo"]
[null,"Efectivo y Contratos",null,{"$f":"IF($D$10=\"Enero\",BALANCE!$E$23,IF($D$10=\"Abril\",BALANCE!$H$23,IF($D$10=\"Julio\",BALANCE!$K$23,IF($D$10=\"OCTUBRE\",BALANCE!$N$23))))","v":7508211},null,{"$f":"IF($F$10=\"Febrero\",BALANCE!$F$23,IF($F$10=\"Mayo\",BALANCE!$I$23,IF($F$10=\"Agosto\",BALANCE!$L$23,IF($F$10=\"Noviembre\",BALANCE!$O$23))))","v":0},null,{"$f":"IF($H$10=\"Marzo\",BALANCE!$G$23,IF($H$10=\"Junio\",BALANCE!$J$23,IF($H$10=\"Septiembre\",BALANCE!$M$23,IF($H$10=\"Diciembre\",BALANCE!$P$23))))","v":0}]
[null,"Cuentas por Cobrar",null,{"$f":"IF($D$10=\"Enero\",BALANCE!$E$39,IF($D$10=\"Abril\",BALANCE!$H$39,IF($D$10=\"Julio\",BALANCE!$K$39,IF($D$10=\"OCTUBRE\",BALANCE!$N$39))))","v":37722038.829999998},null,{"$f":"IF($F$10=\"Febrero\",BALANCE!$F$39,IF($F$10=\"Mayo\",BALANCE!$I$39,IF($F$10=\"Agosto\",BALANCE!$L$39,IF($F$10=\"Noviembre\",BALANCE!$O$39))))","v":0},null,{"$f":"IF($H$10=\"Marzo\",BALANCE!$G$39,IF($H$10=\"Junio\",BALANCE!$J$39,IF($H$10=\"Septiembre\",BALANCE!$M$39,IF($H$10=\"Diciembre\",BALANCE!$P$39))))","v":0}]
[null,"Inventarios",null,{"$f":"IF($D$10=\"Enero\",BALANCE!$E$52,IF($D$10=\"Abril\",BALANCE!$H$52,IF($D$10=\"Julio\",BALANCE!$K$52,IF($D$10=\"OCTUBRE\",BALANCE!$N$52))))","v":20866997.200000003},null,{"$f":"IF($F$10=\"Febrero\",BALANCE!$F$52,IF($F$10=\"Mayo\",BALANCE!$I$52,IF($F$10=\"Agosto\",BALANCE!$L$52,IF($F$10=\"Noviembre\",BALANCE!$O$52))))","v":0},null,{"$f":"IF($H$10=\"Marzo\",BALANCE!$G$52,IF($H$10=\"Junio\",BALANCE!$J$52,IF($H$10=\"Septiembre\",BALANCE!$M$52,IF($H$10=\"Diciembre\",BALANCE!$P$52))))","v":0}]
[null,"Otros Activos",null,{"$f":"IF($D$10=\"Enero\",BALANCE!$E$63,IF($D$10=\"Abril\",BALANCE!$H$63,IF($D$10=\"Julio\",BALANCE!$K$63,IF($D$10=\"OCTUBRE\",BALANCE!$N$63))))","v":0},null,{"$f":"IF($F$10=\"Febrero\",BALANCE!$F$63,IF($F$10=\"Mayo\",BALANCE!$I$63,IF($F$10=\"Agosto\",BALANCE!$L$63,IF($F$10=\"Noviembre\",BALANCE!$O$63))))","v":0},null,{"$f":"IF($H$10=\"Marzo\",BALANCE!$G$63,IF($H$10=\"Junio\",BALANCE!$J$63,IF($H$10=\"Septiembre\",BALANCE!$M$63,IF($H$10=\"Diciembre\",BALANCE!$P$63))))","v":0}]
[]
[null,"Activos Circulantes",null,{"$f":"IF($D$10=\"Enero\",BALANCE!$E$64,IF($D$10=\"Abril\",BALANCE!$H$64,IF($D$10=\"Julio\",BALANCE!$K$64,IF($D$10=\"OCTUBRE\",BALANCE!$N$64))))","v":66097247.030000001},null,{"$f":"IF($F$10=\"Febrero\",BALANCE!$F$64,IF($F$10=\"Mayo\",BALANCE!$I$64,IF($F$10=\"Agosto\",BALANCE!$L$64,IF($F$10=\"Noviembre\",BALANCE!$O$64))))","v":0},null,{"$f":"IF($H$10=\"Marzo\",BALANCE!$G$64,IF($H$10=\"Junio\",BALANCE!$J$64,IF($H$10=\"Septiembre\",BALANCE!$M$64,IF($H$10=\"Diciembre\",BALANCE!$P$64))))","v":0}]
[]
[null,"Activos Fijos",null,{"$f":"IF($D$10=\"Enero\",BALANCE!$E$79,IF($D$10=\"Abril\",BALANCE!$H$79,IF($D$10=\"Julio\",BALANCE!$K$79,IF($D$10=\"OCTUBRE\",BALANCE!$N$79))))","v":12502869.310000002},null,{"$f":"IF($F$10=\"Febrero\",BALANCE!$F$79,IF($F$10=\"Mayo\",BALANCE!$I$79,IF($F$10=\"Agosto\",BALANCE!$L$79,IF($F$10=\"Noviembre\",BALANCE!$O$79))))","v":0},null,{"$f":"IF($H$10=\"Marzo\",BALANCE!$G$79,IF($H$10=\"Junio\",BALANCE!$J$79,IF($H$10=\"Septiembre\",BALANCE!$M$79,IF($H$10=\"Diciembre\",BALANCE!$P$79))))","v":0}]
[null,"Otros Activos",null,{"$f":"IF($D$10=\"Enero\",BALANCE!$E$84,IF($D$10=\"Abril\",BALANCE!$H$84,IF($D$10=\"Julio\",BALANCE!$K$84,IF($D$10=\"OCTUBRE\",BALANCE!$N$84))))","v":3232066.93},null,{"$f":"IF($F$10=\"Febrero\",BALANCE!$F$84,IF($F$10=\"Mayo\",BALANCE!$I$84,IF($F$10=\"Agosto\",BALANCE!$L$84,IF($F$10=\"Noviembre\",BALANCE!$O$84))))","v":0},null,{"$f":"IF($H$10=\"Marzo\",BALANCE!$G$84,IF($H$10=\"Junio\",BALANCE!$J$84,IF($H$10=\"Septiembre\",BALANCE!$M$84,IF($H$10=\"Diciembre\",BALANCE!$P$84))))","v":0}]
[]
[null,"Activo Total",null,{"$f":"IF($D$10=\"Enero\",BALANCE!$E$85,IF($D$10=\"Abril\",BALANCE!$H$85,IF($D$10=\"Julio\",BALANCE!$K$85,IF($D$10=\"OCTUBRE\",BALANCE!$N$85))))","v":81832183.270000011},null,{"$f":"IF($F$10=\"Febrero\",BALANCE!$F$85,IF($F$10=\"Mayo\",BALANCE!$I$85,IF($F$10=\"Agosto\",BALANCE!$L$85,IF($F$10=\"Noviembre\",BALANCE!$O$85))))","v":0},null,{"$f":"IF($H$10=\"Marzo\",BALANCE!$G$85,IF($H$10=\"Junio\",BALANCE!$J$85,IF($H$10=\"Septiembre\",BALANCE!$M$85,IF($H$10=\"Diciembre\",BALANCE!$P$85))))","v":0}]
[]
["Pasivo"]
[null,"Cuentas por Pagar",null,{"$f":"IF($D$10=\"Enero\",BALANCE!$E$95,IF($D$10=\"Abril\",BALANCE!$H$95,IF($D$10=\"Julio\",BALANCE!$K$95,IF($D$10=\"OCTUBRE\",BALANCE!$N$95))))","v":7019313.4000000004},null,{"$f":"IF($F$10=\"Febrero\",BALANCE!$F$95,IF($F$10=\"Mayo\",BALANCE!$I$95,IF($F$10=\"Agosto\",BALANCE!$L$95,IF($F$10=\"Noviembre\",BALANCE!$O$95))))","v":0},null,{"$f":"IF($H$10=\"Marzo\",BALANCE!$G$95,IF($H$10=\"Junio\",BALANCE!$J$95,IF($H$10=\"Septiembre\",BALANCE!$M$95,IF($H$10=\"Diciembre\",BALANCE!$P$95))))","v":0}]
[null,"Pasivos Acumulados",null,{"$f":"IF($D$10=\"Enero\",BALANCE!$E$108,IF($D$10=\"Abril\",BALANCE!$H$108,IF($D$10=\"Julio\",BALANCE!$K$108,IF($D$10=\"OCTUBRE\",BALANCE!$N$108))))","v":3237751.93},null,{"$f":"IF($F$10=\"Febrero\",BALANCE!$F$108,IF($F$10=\"Mayo\",BALANCE!$I$108,IF($F$10=\"Agosto\",BALANCE!$L$108,IF($F$10=\"Noviembre\",BALANCE!$O$108))))","v":0},null,{"$f":"IF($H$10=\"Marzo\",BALANCE!$G$108,IF($H$10=\"Junio\",BALANCE!$J$108,IF($H$10=\"Septiembre\",BALANCE!$M$108,IF($H$10=\"Diciembre\",BALANCE!$P$108))))","v":0}]
[null,"Inventarios Financiados",null,{"$f":"IF($D$10=\"Enero\",BALANCE!$E$116,IF($D$10=\"Abril\",BALANCE!$H$116,IF($D$10=\"Julio\",BALANCE!$K$116,IF($D$10=\"OCTUBRE\",BALANCE!$N$116))))","v":27389540.41},null,{"$f":"IF($F$10=\"Febrero\",BALANCE!$F$116,IF($F$10=\"Mayo\",BALANCE!$I$116,IF($F$10=\"Agosto\",BALANCE!$L$116,IF($F$10=\"Noviembre\",BALANCE!$O$116))))","v":0},null,{"$f":"IF($H$10=\"Marzo\",BALANCE!$H$116,IF($H$10=\"Junio\",BALANCE!$J$116,IF($H$10=\"Septiembre\",BALANCE!$M$116,IF($H$10=\"Diciembre\",BALANCE!$P$116))))","v":0}]
[null,"Otros Pasivos Vehiculares",null,{"$f":"IF($D$10=\"Enero\",BALANCE!$E$121,IF($D$10=\"Abril\",BALANCE!$H$121,IF($D$10=\"Julio\",BALANCE!$K$121,IF($D$10=\"OCTUBRE\",BALANCE!$N$121))))","v":0},null,{"$f":"IF($F$10=\"Febrero\",BALANCE!$F$121,IF($F$10=\"Mayo\",BALANCE!$I$121,IF($F$10=\"Agosto\",BALANCE!$L$121,IF($F$10=\"Noviembre\",BALANCE!$O$121))))","v":0},null,{"$f":"IF($H$10=\"Marzo\",BALANCE!$G$121,IF($H$10=\"Junio\",BALANCE!$J$121,IF($H$10=\"Septiembre\",BALANCE!$M$121,IF($H$10=\"Diciembre\",BALANCE!$P$121))))","v":0}]
[]
[null,"Pasivo Corto Plazo",null,{"$f":"IF($D$10=\"Enero\",BALANCE!$E$122,IF($D$10=\"Abril\",BALANCE!$H$122,IF($D$10=\"Julio\",BALANCE!$K$122,IF($D$10=\"OCTUBRE\",BALANCE!$N$122))))","v":37646605.740000002},null,{"$f":"IF($F$10=\"Febrero\",BALANCE!$F$122,IF($F$10=\"Mayo\",BALANCE!$I$122,IF($F$10=\"Agosto\",BALANCE!$L$122,IF($F$10=\"Noviembre\",BALANCE!$O$122))))","v":0},null,{"$f":"IF($H$10=\"Marzo\",BALANCE!$G$122,IF($H$10=\"Junio\",BALANCE!$J$122,IF($H$10=\"Septiembre\",BALANCE!$M$122,IF($H$10=\"Diciembre\",BALANCE!$P$122))))","v":0}]
[]
[null,"Deuda Largo plazo",null,{"$f":"IF($D$10=\"Enero\",BALANCE!$E$130,IF($D$10=\"Abril\",BALANCE!$H$130,IF($D$10=\"Julio\",BALANCE!$K$130,IF($D$10=\"OCTUBRE\",BALANCE!$N$130))))","v":7581094.7199999997},null,{"$f":"IF($F$10=\"Febrero\",BALANCE!$F$130,IF($F$10=\"Mayo\",BALANCE!$I$130,IF($F$10=\"Agosto\",BALANCE!$L$130,IF($F$10=\"Noviembre\",BALANCE!$O$130))))","v":0},null,{"$f":"IF($H$10=\"Marzo\",BALANCE!$G$130,IF($H$10=\"Junio\",BALANCE!$J$130,IF($H$10=\"Septiembre\",BALANCE!$M$130,IF($H$10=\"Diciembre\",BALANCE!$P$130))))","v":0}]
[]
[null,"Pasivo Total",null,{"$f":"IF($D$10=\"Enero\",BALANCE!$E$131,IF($D$10=\"Abril\",BALANCE!$H$131,IF($D$10=\"Julio\",BALANCE!$K$131,IF($D$10=\"OCTUBRE\",BALANCE!$N$131))))","v":45227700.460000001},null,{"$f":"IF($F$10=\"Febrero\",BALANCE!$F$131,IF($F$10=\"Mayo\",BALANCE!$I$131,IF($F$10=\"Agosto\",BALANCE!$L$131,IF($F$10=\"Noviembre\",BALANCE!$O$131))))","v":0},null,{"$f":"IF($H$10=\"Marzo\",BALANCE!$G$131,IF($H$10=\"Junio\",BALANCE!$J$131,IF($H$10=\"Septiembre\",BALANCE!$M$131,IF($H$10=\"Diciembre\",BALANCE!$P$131))))","v":0}]
[]
["Capital"]
[null,"Capital Social Parte Fija",null,{"$f":"IF($D$10=\"Enero\",BALANCE!$E$133,IF($D$10=\"Abril\",BALANCE!$H$133,IF($D$10=\"Julio\",BALANCE!$K$133,IF($D$10=\"OCTUBRE\",BALANCE!$N$133))))","v":10500000},null,{"$f":"IF($F$10=\"Febrero\",BALANCE!$F$133,IF($F$10=\"Mayo\",BALANCE!$I$133,IF($F$10=\"Agosto\",BALANCE!$L$133,IF($F$10=\"Noviembre\",BALANCE!$O$133))))","v":0},null,{"$f":"IF($H$10=\"Marzo\",BALANCE!$G$133,IF($H$10=\"Junio\",BALANCE!$J$133,IF($H$10=\"Septiembre\",BALANCE!$M$133,IF($H$10=\"Diciembre\",BALANCE!$P$133))))","v":0}]
[null,"Capital Social Variable",null,{"$f":"IF($D$10=\"Enero\",BALANCE!$E$134,IF($D$10=\"Abril\",BALANCE!$H$134,IF($D$10=\"Julio\",BALANCE!$K$134,IF($D$10=\"OCTUBRE\",BALANCE!$N$134))))","v":0},null,{"$f":"IF($F$10=\"Febrero\",BALANCE!$F$134,IF($F$10=\"Mayo\",BALANCE!$I$134,IF($F$10=\"Agosto\",BALANCE!$L$134,IF($F$10=\"Noviembre\",BALANCE!$O$134))))","v":0},null,{"$f":"IF($H$10=\"Marzo\",BALANCE!$G$134,IF($H$10=\"Junio\",BALANCE!$J$134,IF($H$10=\"Septiembre\",BALANCE!$M$134,IF($H$10=\"Diciembre\",BALANCE!$P$134))))","v":0}]
[null,"Partidas Virtuales",null,{"$f":"IF($D$10=\"Enero\",BALANCE!$E$135,IF($D$10=\"Abril\",BALANCE!$H$135,IF($D$10=\"Julio\",BALANCE!$K$135,IF($D$10=\"OCTUBRE\",BALANCE!$N$135))))","v":0},null,{"$f":"IF($F$10=\"Febrero\",BALANCE!$F$135,IF($F$10=\"Mayo\",BALANCE!$I$135,IF($F$10=\"Agosto\",BALANCE!$L$135,IF($F$10=\"Noviembre\",BALANCE!$O$135))))","v":0},null,{"$f":"IF($H$10=\"Marzo\",BALANCE!$G$135,IF($H$10=\"Junio\",BALANCE!$J$135,IF($H$10=\"Septiembre\",BALANCE!$M$135,IF($H$10=\"Diciembre\",BALANCE!$P$135))))","v":0}]
[null,"Utilidades  o Pérdidas Anteriores",null,{"$f":"IF($D$10=\"Enero\",BALANCE!$E$136,IF($D$10=\"Abril\",BALANCE!$H$136,IF($D$10=\"Julio\",BALANCE!$K$136,IF($D$10=\"OCTUBRE\",BALANCE!$N$136))))","v":24905352},null,{"$f":"IF($F$10=\"Febrero\",BALANCE!$F$136,IF($F$10=\"Mayo\",BALANCE!$I$136,IF($F$10=\"Agosto\",BALANCE!$L$136,IF($F$10=\"Noviembre\",BALANCE!$O$136))))","v":0},null,{"$f":"IF($H$10=\"Marzo\",BALANCE!$G$136,IF($H$10=\"Junio\",BALANCE!$J$136,IF($H$10=\"Septiembre\",BALANCE!$M$136,IF($H$10=\"Diciembre\",BALANCE!$P$136))))","v":0}]
[null,"Dividendos",null,{"$f":"IF($D$10=\"Enero\",BALANCE!$E$137,IF($D$10=\"Abril\",BALANCE!$H$137,IF($D$10=\"Julio\",BALANCE!$K$137,IF($D$10=\"OCTUBRE\",BALANCE!$N$137))))","v":0},null,{"$f":"IF($F$10=\"Febrero\",BALANCE!$F$137,IF($F$10=\"Mayo\",BALANCE!$I$137,IF($F$10=\"Agosto\",BALANCE!$L$137,IF($F$10=\"Noviembre\",BALANCE!$O$137))))","v":0},null,{"$f":"IF($H$10=\"Marzo\",BALANCE!$G$137,IF($H$10=\"Junio\",BALANCE!$J$137,IF($H$10=\"Septiembre\",BALANCE!$M$137,IF($H$10=\"Diciembre\",BALANCE!$P$137))))","v":0}]
[null,"Utilidad o Perdida del Ejercicio",null,{"$f":"IF($D$10=\"Enero\",BALANCE!$E$139,IF($D$10=\"Abril\",BALANCE!$H$139,IF($D$10=\"Julio\",BALANCE!$K$139,IF($D$10=\"OCTUBRE\",BALANCE!$N$139))))","v":1199130.8589999969},null,{"$f":"IF($F$10=\"Febrero\",BALANCE!$F$139,IF($F$10=\"Mayo\",BALANCE!$I$139,IF($F$10=\"Agosto\",BALANCE!$L$139,IF($F$10=\"Noviembre\",BALANCE!$O$139))))","v":0},null,{"$f":"IF($H$10=\"Marzo\",BALANCE!$G$139,IF($H$10=\"Junio\",BALANCE!$J$139,IF($H$10=\"Septiembre\",BALANCE!$M$139,IF($H$10=\"Diciembre\",BALANCE!$P$139))))","v":0}]
[]
[null,"Capital Total",null,{"$f":"IF($D$10=\"Enero\",BALANCE!$E$140,IF($D$10=\"Abril\",BALANCE!$H$140,IF($D$10=\"Julio\",BALANCE!$K$140,IF($D$10=\"OCTUBRE\",BALANCE!$N$140))))","v":36604482.858999997},null,{"$f":"IF($F$10=\"Febrero\",BALANCE!$F$140,IF($F$10=\"Mayo\",BALANCE!$I$140,IF($F$10=\"Agosto\",BALANCE!$L$140,IF($F$10=\"Noviembre\",BALANCE!$O$140))))","v":0},null,{"$f":"IF($H$10=\"Marzo\",BALANCE!$G$140,IF($H$10=\"Junio\",BALANCE!$J$140,IF($H$10=\"Septiembre\",BALANCE!$M$140,IF($H$10=\"Diciembre\",BALANCE!$P$140))))","v":0}]
[]
[null,"Pasivo y Capital",null,{"$f":"IF($D$10=\"Enero\",BALANCE!$E$141,IF($D$10=\"Abril\",BALANCE!$H$141,IF($D$10=\"Julio\",BALANCE!$K$141,IF($D$10=\"OCTUBRE\",BALANCE!$N$141))))","v":81832183.319000006},null,{"$f":"IF($F$10=\"Febrero\",BALANCE!$F$141,IF($F$10=\"Mayo\",BALANCE!$I$141,IF($F$10=\"Agosto\",BALANCE!$L$141,IF($F$10=\"Noviembre\",BALANCE!$O$141))))","v":0},null,{"$f":"IF($H$10=\"Marzo\",BALANCE!$G$141,IF($H$10=\"Junio\",BALANCE!$J$141,IF($H$10=\"Septiembre\",BALANCE!$M$141,IF($H$10=\"Diciembre\",BALANCE!$P$141))))","v":0}]
[]
[]
[]
[]
[null,"Genrente General o Ejecutivo Responsable",null,null,"Gerente Administrativo"]
[null,{"$f":"CONCATENATE(#REF!,\" \",#REF!,\" \",#REF!)","v":{"$error":"#REF!"}},null,null,{"$f":"CONCATENATE(#REF!,\" \",#REF!,\" \",#REF!)","v":{"$error":"#REF!"}}]